BEGIN:VCALENDAR
VERSION:2.0
PRODID:-//Whittier Elementary School - ECPv6.15.20//NONSGML v1.0//EN
CALSCALE:GREGORIAN
METHOD:PUBLISH
X-WR-CALNAME:Whittier Elementary School
X-ORIGINAL-URL:https://www.kusd.edu/whittier
X-WR-CALDESC:Events for Whittier Elementary School
REFRESH-INTERVAL;VALUE=DURATION:PT1H
X-Robots-Tag:noindex
X-PUBLISHED-TTL:PT1H
BEGIN:VTIMEZONE
TZID:America/Chicago
BEGIN:DAYLIGHT
TZOFFSETFROM:-0600
TZOFFSETTO:-0500
TZNAME:CDT
DTSTART:20250309T080000
END:DAYLIGHT
BEGIN:STANDARD
TZOFFSETFROM:-0500
TZOFFSETTO:-0600
TZNAME:CST
DTSTART:20251102T070000
END:STANDARD
BEGIN:DAYLIGHT
TZOFFSETFROM:-0600
TZOFFSETTO:-0500
TZNAME:CDT
DTSTART:20260308T080000
END:DAYLIGHT
BEGIN:STANDARD
TZOFFSETFROM:-0500
TZOFFSETTO:-0600
TZNAME:CST
DTSTART:20261101T070000
END:STANDARD
BEGIN:DAYLIGHT
TZOFFSETFROM:-0600
TZOFFSETTO:-0500
TZNAME:CDT
DTSTART:20270314T080000
END:DAYLIGHT
BEGIN:STANDARD
TZOFFSETFROM:-0500
TZOFFSETTO:-0600
TZNAME:CST
DTSTART:20271107T070000
END:STANDARD
END:VTIMEZONE
BEGIN:VEVENT
DTSTART;TZID=America/Chicago:20260422T173000
DTEND;TZID=America/Chicago:20260422T190000
DTSTAMP:20260423T162110
CREATED:20260415T074112Z
LAST-MODIFIED:20260422T075543Z
UID:10000382-1776879000-1776884400@www.kusd.edu
SUMMARY:Pause the Scroll: Healthy Social Media Use for Families
DESCRIPTION:Join us for an engaging and eye-opening evening designed just for parents and caregivers! As social media becomes an increasingly powerful part of adolescents’ lives\, it’s more important than ever to understand its impact—and how to help kids navigate it in a healthy way. \nIn this interactive workshop\, we’ll explore why kids are drawn to social media and uncover meaningful strategies to meet those same needs beyond the screen. You’ll leave with practical ideas to strengthen your connection with your child\, inspire more offline engagement\, and create a balanced approach to technology at home. \nLet’s work together to pause the scroll and build stronger\, more connected families! \nFree childcare is available\, and a meal will be served prior to the presentation. \nEvent Details: \n \n\nWednesday\, April 22\n5:30-7 p.m.\nEducational Support Center\, 3600 52nd St.\nRegister for Pause the Scroll\n\nEveryone is welcome to participate in our family education programs! Non-KUSD families and community members must join our Family Education Programs Community Group to register for this event. Once joined\, you’ll receive updates and can register for future events without rejoining. \nQuestions about this program or your registration? Contact KUSD’s Community Relations Department at engage@kusd.edu or 262-359-2256.
URL:https://www.kusd.edu/whittier/event/pause-the-scroll-healthy-social-media-use-for-families/
LOCATION:KUSD Educational Support Center\, 3600 52nd St\, Kenosha\, WI\, United States
GEO:42.588266;-87.852374
X-APPLE-STRUCTURED-LOCATION;VALUE=URI;X-ADDRESS=KUSD Educational Support Center 3600 52nd St Kenosha WI United States;X-APPLE-RADIUS=500;X-TITLE=3600 52nd St:geo:-87.852374,42.588266
END:VEVENT
BEGIN:VEVENT
DTSTART;TZID=America/Chicago:20260416T173000
DTEND;TZID=America/Chicago:20260416T190000
DTSTAMP:20260423T162110
CREATED:20260109T154303Z
LAST-MODIFIED:20260109T154303Z
UID:10000340-1776360600-1776366000@www.kusd.edu
SUMMARY:PTO Meeting
DESCRIPTION:
URL:https://www.kusd.edu/whittier/event/pto-meeting-9/
END:VEVENT
BEGIN:VEVENT
DTSTART;TZID=America/Chicago:20260416T170000
DTEND;TZID=America/Chicago:20260416T210000
DTSTAMP:20260423T162110
CREATED:20260110T004148Z
LAST-MODIFIED:20260416T074038Z
UID:10000348-1776358800-1776373200@www.kusd.edu
SUMMARY:Standing Committee Meetings
DESCRIPTION:
URL:https://www.kusd.edu/whittier/event/standing-committee-meetings-5/
LOCATION:KUSD Educational Support Center\, 3600 52nd St\, Kenosha\, WI\, United States
GEO:42.588266;-87.852374
X-APPLE-STRUCTURED-LOCATION;VALUE=URI;X-ADDRESS=KUSD Educational Support Center 3600 52nd St Kenosha WI United States;X-APPLE-RADIUS=500;X-TITLE=3600 52nd St:geo:-87.852374,42.588266
END:VEVENT
BEGIN:VEVENT
DTSTART;VALUE=DATE:20260413
DTEND;VALUE=DATE:20260414
DTSTAMP:20260423T162110
CREATED:20251129T212921Z
LAST-MODIFIED:20260413T074046Z
UID:10000313-1776038400-1776124799@www.kusd.edu
SUMMARY:Students Report
DESCRIPTION:
URL:https://www.kusd.edu/whittier/event/students-report-2/
END:VEVENT
BEGIN:VEVENT
DTSTART;VALUE=DATE:20260413
DTEND;VALUE=DATE:20260414
DTSTAMP:20260423T162110
CREATED:20250620T225701Z
LAST-MODIFIED:20260413T004121Z
UID:10000180-1776038400-1776124799@www.kusd.edu
SUMMARY:Return from Spring Break
DESCRIPTION:
URL:https://www.kusd.edu/whittier/event/return-from-spring-break/
END:VEVENT
BEGIN:VEVENT
DTSTART;VALUE=DATE:20260407
DTEND;VALUE=DATE:20260408
DTSTAMP:20260423T162110
CREATED:20251120T205714Z
LAST-MODIFIED:20260407T074047Z
UID:10000311-1775520000-1775606399@www.kusd.edu
SUMMARY:School Board Election
DESCRIPTION:
URL:https://www.kusd.edu/whittier/event/school-board-election/
END:VEVENT
BEGIN:VEVENT
DTSTART;VALUE=DATE:20260406
DTEND;VALUE=DATE:20260411
DTSTAMP:20260423T162110
CREATED:20251121T205700Z
LAST-MODIFIED:20260410T074041Z
UID:10000312-1775433600-1775865599@www.kusd.edu
SUMMARY:Spring Recess
DESCRIPTION:
URL:https://www.kusd.edu/whittier/event/spring-recess/
END:VEVENT
BEGIN:VEVENT
DTSTART;VALUE=DATE:20260403
DTEND;VALUE=DATE:20260411
DTSTAMP:20260423T162110
CREATED:20250620T225701Z
LAST-MODIFIED:20260410T222535Z
UID:10000177-1775174400-1775865599@www.kusd.edu
SUMMARY:No School - Spring Break
DESCRIPTION:
URL:https://www.kusd.edu/whittier/event/no-school-spring-break-3/
END:VEVENT
BEGIN:VEVENT
DTSTART;VALUE=DATE:20260403
DTEND;VALUE=DATE:20260404
DTSTAMP:20260423T162110
CREATED:20251117T205636Z
LAST-MODIFIED:20260403T072548Z
UID:10000309-1775174400-1775260799@www.kusd.edu
SUMMARY:Spring Recess Begins\, Schools Closed
DESCRIPTION:
URL:https://www.kusd.edu/whittier/event/spring-recess-begins-schools-closed/
END:VEVENT
BEGIN:VEVENT
DTSTART;VALUE=DATE:20260402
DTEND;VALUE=DATE:20260403
DTSTAMP:20260423T162110
CREATED:20250910T175624Z
LAST-MODIFIED:20260402T072639Z
UID:10000242-1775088000-1775174399@www.kusd.edu
SUMMARY:Staff Workday\, No Students Report
DESCRIPTION:
URL:https://www.kusd.edu/whittier/event/staff-workday-no-students-report-3/
END:VEVENT
BEGIN:VEVENT
DTSTART;VALUE=DATE:20260402
DTEND;VALUE=DATE:20260403
DTSTAMP:20260423T162110
CREATED:20250620T225701Z
LAST-MODIFIED:20260402T221033Z
UID:10000178-1775088000-1775174399@www.kusd.edu
SUMMARY:No School
DESCRIPTION:
URL:https://www.kusd.edu/whittier/event/no-school-21/
END:VEVENT
BEGIN:VEVENT
DTSTART;VALUE=DATE:20260401
DTEND;VALUE=DATE:20260402
DTSTAMP:20260423T162110
CREATED:20250910T175624Z
LAST-MODIFIED:20260401T072546Z
UID:10000243-1775001600-1775087999@www.kusd.edu
SUMMARY:Third Quarter Ends
DESCRIPTION:
URL:https://www.kusd.edu/whittier/event/third-quarter-ends/
END:VEVENT
BEGIN:VEVENT
DTSTART;VALUE=DATE:20260401
DTEND;VALUE=DATE:20260402
DTSTAMP:20260423T162110
CREATED:20250620T225701Z
LAST-MODIFIED:20260401T221104Z
UID:10000179-1775001600-1775087999@www.kusd.edu
SUMMARY:End of Q3
DESCRIPTION:
URL:https://www.kusd.edu/whittier/event/end-of-q3/
END:VEVENT
BEGIN:VEVENT
DTSTART;TZID=America/Chicago:20260331T173000
DTEND;TZID=America/Chicago:20260331T193000
DTSTAMP:20260423T162110
CREATED:20260322T071031Z
LAST-MODIFIED:20260331T072533Z
UID:10000379-1774978200-1774985400@www.kusd.edu
SUMMARY:Special School Board Meeting
DESCRIPTION:Agenda (PDF)
URL:https://www.kusd.edu/whittier/event/special-school-board-meeting/
LOCATION:KUSD Educational Support Center\, 3600 52nd St\, Kenosha\, WI\, United States
GEO:42.588266;-87.852374
X-APPLE-STRUCTURED-LOCATION;VALUE=URI;X-ADDRESS=KUSD Educational Support Center 3600 52nd St Kenosha WI United States;X-APPLE-RADIUS=500;X-TITLE=3600 52nd St:geo:-87.852374,42.588266
END:VEVENT
BEGIN:VEVENT
DTSTART;TZID=America/Chicago:20260328T080000
DTEND;TZID=America/Chicago:20260328T160000
DTSTAMP:20260423T162110
CREATED:20250904T165704Z
LAST-MODIFIED:20260328T072546Z
UID:10000241-1774684800-1774713600@www.kusd.edu
SUMMARY:Solo and Ensemble
DESCRIPTION:
URL:https://www.kusd.edu/whittier/event/solo-and-ensemble/
LOCATION:Tremper High School\, 8560 26th Ave\, Kenosha\, WI\, United States
GEO:42.550503;-87.840154
X-APPLE-STRUCTURED-LOCATION;VALUE=URI;X-ADDRESS=Tremper High School 8560 26th Ave Kenosha WI United States;X-APPLE-RADIUS=500;X-TITLE=8560 26th Ave:geo:-87.840154,42.550503
END:VEVENT
BEGIN:VEVENT
DTSTART;TZID=America/Chicago:20260324T190000
DTEND;TZID=America/Chicago:20260324T220000
DTSTAMP:20260423T162110
CREATED:20260110T004136Z
LAST-MODIFIED:20260324T072533Z
UID:10000347-1774378800-1774389600@www.kusd.edu
SUMMARY:Regular School Board Meeting
DESCRIPTION:Agenda (PDF)
URL:https://www.kusd.edu/whittier/event/regular-school-board-meeting-7/
LOCATION:KUSD Educational Support Center\, 3600 52nd St\, Kenosha\, WI\, United States
GEO:42.588266;-87.852374
X-APPLE-STRUCTURED-LOCATION;VALUE=URI;X-ADDRESS=KUSD Educational Support Center 3600 52nd St Kenosha WI United States;X-APPLE-RADIUS=500;X-TITLE=3600 52nd St:geo:-87.852374,42.588266
END:VEVENT
BEGIN:VEVENT
DTSTART;VALUE=DATE:20260324
DTEND;VALUE=DATE:20260325
DTSTAMP:20260423T162110
CREATED:20250904T165704Z
LAST-MODIFIED:20260324T072533Z
UID:10000240-1774310400-1774396799@www.kusd.edu
SUMMARY:High School Pre-ACT – early release for grades 9 and 10\, and no school for grades 11 and 12
DESCRIPTION:
URL:https://www.kusd.edu/whittier/event/high-school-pre-act-early-release-for-grades-9-and-10-and-no-school-for-grades-11-and-12/
END:VEVENT
END:VCALENDAR