BEGIN:VCALENDAR
VERSION:2.0
PRODID:-//Curtis Strange Elementary School - ECPv6.15.20//NONSGML v1.0//EN
CALSCALE:GREGORIAN
METHOD:PUBLISH
X-ORIGINAL-URL:https://www.kusd.edu/strange
X-WR-CALDESC:Events for Curtis Strange Elementary School
REFRESH-INTERVAL;VALUE=DURATION:PT1H
X-Robots-Tag:noindex
X-PUBLISHED-TTL:PT1H
BEGIN:VTIMEZONE
TZID:America/Chicago
BEGIN:DAYLIGHT
TZOFFSETFROM:-0600
TZOFFSETTO:-0500
TZNAME:CDT
DTSTART:20220313T080000
END:DAYLIGHT
BEGIN:STANDARD
TZOFFSETFROM:-0500
TZOFFSETTO:-0600
TZNAME:CST
DTSTART:20221106T070000
END:STANDARD
BEGIN:DAYLIGHT
TZOFFSETFROM:-0600
TZOFFSETTO:-0500
TZNAME:CDT
DTSTART:20230312T080000
END:DAYLIGHT
BEGIN:STANDARD
TZOFFSETFROM:-0500
TZOFFSETTO:-0600
TZNAME:CST
DTSTART:20231105T070000
END:STANDARD
BEGIN:DAYLIGHT
TZOFFSETFROM:-0600
TZOFFSETTO:-0500
TZNAME:CDT
DTSTART:20240310T080000
END:DAYLIGHT
BEGIN:STANDARD
TZOFFSETFROM:-0500
TZOFFSETTO:-0600
TZNAME:CST
DTSTART:20241103T070000
END:STANDARD
BEGIN:DAYLIGHT
TZOFFSETFROM:-0600
TZOFFSETTO:-0500
TZNAME:CDT
DTSTART:20250309T080000
END:DAYLIGHT
BEGIN:STANDARD
TZOFFSETFROM:-0500
TZOFFSETTO:-0600
TZNAME:CST
DTSTART:20251102T070000
END:STANDARD
END:VTIMEZONE
BEGIN:VEVENT
DTSTART;VALUE=DATE:20231221
DTEND;VALUE=DATE:20240103
DTSTAMP:20260420T111637
CREATED:20231102T010620Z
LAST-MODIFIED:20240102T053530Z
UID:10000015-1703116800-1704239999@www.kusd.edu
SUMMARY:No School-Staff & Students
DESCRIPTION:
URL:https://www.kusd.edu/strange/event/no-school-staff-students/
LOCATION:WI
END:VEVENT
BEGIN:VEVENT
DTSTART;TZID=America/Chicago:20240109T170000
DTEND;TZID=America/Chicago:20240109T180000
DTSTAMP:20260420T111637
CREATED:20231102T010620Z
LAST-MODIFIED:20231128T032206Z
UID:10000016-1704819600-1704823200@www.kusd.edu
SUMMARY:PTO Meeting
DESCRIPTION:
URL:https://www.kusd.edu/strange/event/pto-meeting-3/
LOCATION:WI
END:VEVENT
BEGIN:VEVENT
DTSTART;TZID=America/Chicago:20240111T173000
DTEND;TZID=America/Chicago:20240111T190000
DTSTAMP:20260420T111637
CREATED:20240107T022206Z
LAST-MODIFIED:20240112T031911Z
UID:10000032-1704994200-1704999600@www.kusd.edu
SUMMARY:Wisconsin Department of Public Instruction Strategic Planning Engagement Session
DESCRIPTION:Join the Wisconsin Department of Public Instruction on Thursday\, Jan. 11\, in Kenosha for its next community engagement event! They want to hear what parents and community members think is important for students at public schools and public libraries. \nThis event will be held in the ESC Board Room. \nRegistration and more info. \nIf you can't make the event but want to share your thoughts\, you can fill out this survey here.
URL:https://www.kusd.edu/strange/event/wisconsin-department-of-public-instruction-strategic-planning-engagement-session/
LOCATION:KUSD Educational Support Center\, 3600 52nd St\, Kenosha\, WI\, United States
GEO:42.588266;-87.852374
X-APPLE-STRUCTURED-LOCATION;VALUE=URI;X-ADDRESS=KUSD Educational Support Center 3600 52nd St Kenosha WI United States;X-APPLE-RADIUS=500;X-TITLE=3600 52nd St:geo:-87.852374,42.588266
END:VEVENT
BEGIN:VEVENT
DTSTART;TZID=America/Chicago:20240112T091500
DTEND;TZID=America/Chicago:20240112T101500
DTSTAMP:20260420T111637
CREATED:20240111T031429Z
LAST-MODIFIED:20240112T031911Z
UID:10000033-1705050900-1705054500@www.kusd.edu
SUMMARY:School Spelling Bee
DESCRIPTION:
URL:https://www.kusd.edu/strange/event/school-spelling-bee/
LOCATION:WI
END:VEVENT
BEGIN:VEVENT
DTSTART;VALUE=DATE:20240115
DTEND;VALUE=DATE:20240116
DTSTAMP:20260420T111637
CREATED:20240105T021413Z
LAST-MODIFIED:20240116T032207Z
UID:10000029-1705276800-1705363199@www.kusd.edu
SUMMARY:No School-Staff & Students
DESCRIPTION:
URL:https://www.kusd.edu/strange/event/no-school-staff-students-2/
LOCATION:WI
END:VEVENT
BEGIN:VEVENT
DTSTART;TZID=America/Chicago:20240116T170000
DTEND;TZID=America/Chicago:20240116T180000
DTSTAMP:20260420T111637
CREATED:20231129T032206Z
LAST-MODIFIED:20240117T032206Z
UID:10000026-1705424400-1705428000@www.kusd.edu
SUMMARY:PTO Meeting
DESCRIPTION:
URL:https://www.kusd.edu/strange/event/pto-meeting-9/
LOCATION:WI
END:VEVENT
BEGIN:VEVENT
DTSTART;VALUE=DATE:20240119
DTEND;VALUE=DATE:20240120
DTSTAMP:20260420T111637
CREATED:20240105T021413Z
LAST-MODIFIED:20240120T035022Z
UID:10000030-1705622400-1705708799@www.kusd.edu
SUMMARY:No School-Students
DESCRIPTION:
URL:https://www.kusd.edu/strange/event/no-school-students-2/
LOCATION:WI
END:VEVENT
BEGIN:VEVENT
DTSTART;VALUE=DATE:20240122
DTEND;VALUE=DATE:20240123
DTSTAMP:20260420T111637
CREATED:20240105T021413Z
LAST-MODIFIED:20240123T035607Z
UID:10000031-1705881600-1705967999@www.kusd.edu
SUMMARY:3rd Quarter Begins
DESCRIPTION:
URL:https://www.kusd.edu/strange/event/3rd-quarter-begins/
LOCATION:WI
END:VEVENT
BEGIN:VEVENT
DTSTART;TZID=America/Chicago:20240123T173000
DTEND;TZID=America/Chicago:20240123T183000
DTSTAMP:20260420T111637
CREATED:20240111T031430Z
LAST-MODIFIED:20240124T040900Z
UID:10000034-1706031000-1706034600@www.kusd.edu
SUMMARY:Protect our Kids -Human Trafficking Presentation
DESCRIPTION:
URL:https://www.kusd.edu/strange/event/protect-our-kids-human-trafficking-presentation/
LOCATION:WI
END:VEVENT
END:VCALENDAR