BEGIN:VCALENDAR
VERSION:2.0
PRODID:-//Mahone Middle School - ECPv6.15.20//NONSGML v1.0//EN
CALSCALE:GREGORIAN
METHOD:PUBLISH
X-WR-CALNAME:Mahone Middle School
X-ORIGINAL-URL:https://www.kusd.edu/mahone
X-WR-CALDESC:Events for Mahone Middle School
REFRESH-INTERVAL;VALUE=DURATION:PT1H
X-Robots-Tag:noindex
X-PUBLISHED-TTL:PT1H
BEGIN:VTIMEZONE
TZID:America/Chicago
BEGIN:DAYLIGHT
TZOFFSETFROM:-0600
TZOFFSETTO:-0500
TZNAME:CDT
DTSTART:20240310T080000
END:DAYLIGHT
BEGIN:STANDARD
TZOFFSETFROM:-0500
TZOFFSETTO:-0600
TZNAME:CST
DTSTART:20241103T070000
END:STANDARD
BEGIN:DAYLIGHT
TZOFFSETFROM:-0600
TZOFFSETTO:-0500
TZNAME:CDT
DTSTART:20250309T080000
END:DAYLIGHT
BEGIN:STANDARD
TZOFFSETFROM:-0500
TZOFFSETTO:-0600
TZNAME:CST
DTSTART:20251102T070000
END:STANDARD
BEGIN:DAYLIGHT
TZOFFSETFROM:-0600
TZOFFSETTO:-0500
TZNAME:CDT
DTSTART:20260308T080000
END:DAYLIGHT
BEGIN:STANDARD
TZOFFSETFROM:-0500
TZOFFSETTO:-0600
TZNAME:CST
DTSTART:20261101T070000
END:STANDARD
END:VTIMEZONE
BEGIN:VEVENT
DTSTART;TZID=America/Chicago:20250603T190000
DTEND;TZID=America/Chicago:20250603T200000
DTSTAMP:20260422T110939
CREATED:20241021T205143Z
LAST-MODIFIED:20250603T205023Z
UID:10000193-1748977200-1748980800@www.kusd.edu
SUMMARY:Orchestra Concert
DESCRIPTION:
URL:https://www.kusd.edu/mahone/event/orchestra-concert-5/
LOCATION:Indian Trail High School and Academy\, 6800 60th St\, Kenosha\, WI\, United States
GEO:42.581678;-87.890829
X-APPLE-STRUCTURED-LOCATION;VALUE=URI;X-ADDRESS=Indian Trail High School and Academy 6800 60th St Kenosha WI United States;X-APPLE-RADIUS=500;X-TITLE=6800 60th St:geo:-87.890829,42.581678
END:VEVENT
BEGIN:VEVENT
DTSTART;TZID=America/Chicago:20250605T190000
DTEND;TZID=America/Chicago:20250605T200000
DTSTAMP:20260422T110939
CREATED:20241018T205206Z
LAST-MODIFIED:20250605T210544Z
UID:10000191-1749150000-1749153600@www.kusd.edu
SUMMARY:Choir Concert
DESCRIPTION:
URL:https://www.kusd.edu/mahone/event/choir-concert-5/
LOCATION:Mahone Middle School\, 6900 60th St\, Kenosha\, WI\, United States
GEO:42.581693;-87.891721
X-APPLE-STRUCTURED-LOCATION;VALUE=URI;X-ADDRESS=Mahone Middle School 6900 60th St Kenosha WI United States;X-APPLE-RADIUS=500;X-TITLE=6900 60th St:geo:-87.891721,42.581693
END:VEVENT
BEGIN:VEVENT
DTSTART;VALUE=DATE:20250606
DTEND;VALUE=DATE:20250607
DTSTAMP:20260422T110939
CREATED:20241026T212111Z
LAST-MODIFIED:20250606T210527Z
UID:10000195-1749168000-1749254399@www.kusd.edu
SUMMARY:Early Release for Students
DESCRIPTION:
URL:https://www.kusd.edu/mahone/event/early-release-for-students-15/
END:VEVENT
BEGIN:VEVENT
DTSTART;TZID=America/Chicago:20250609T170000
DTEND;TZID=America/Chicago:20250609T190000
DTSTAMP:20260422T110939
CREATED:20250226T214826Z
LAST-MODIFIED:20250226T214826Z
UID:10000206-1749488400-1749495600@www.kusd.edu
SUMMARY:8th Grade Promenade
DESCRIPTION:
URL:https://www.kusd.edu/mahone/event/8th-grade-promenade/
END:VEVENT
BEGIN:VEVENT
DTSTART;VALUE=DATE:20250611
DTEND;VALUE=DATE:20250612
DTSTAMP:20260422T110939
CREATED:20250226T214730Z
LAST-MODIFIED:20250226T214730Z
UID:10000205-1749600000-1749686399@www.kusd.edu
SUMMARY:School Carnival
DESCRIPTION:
URL:https://www.kusd.edu/mahone/event/school-carnival/
END:VEVENT
BEGIN:VEVENT
DTSTART;VALUE=DATE:20250611
DTEND;VALUE=DATE:20250612
DTSTAMP:20260422T110939
CREATED:20250227T185050Z
LAST-MODIFIED:20250611T212023Z
UID:10000207-1749600000-1749686399@www.kusd.edu
SUMMARY:School Carnival
DESCRIPTION:
URL:https://www.kusd.edu/mahone/event/school-carnival-3/
END:VEVENT
BEGIN:VEVENT
DTSTART;VALUE=DATE:20250612
DTEND;VALUE=DATE:20250613
DTSTAMP:20260422T110939
CREATED:20241102T213613Z
LAST-MODIFIED:20250612T212034Z
UID:10000196-1749686400-1749772799@www.kusd.edu
SUMMARY:Quarter 4 Ends
DESCRIPTION:
URL:https://www.kusd.edu/mahone/event/quarter-4-ends/
END:VEVENT
BEGIN:VEVENT
DTSTART;TZID=America/Chicago:20250612T083000
DTEND;TZID=America/Chicago:20250612T114000
DTSTAMP:20260422T110939
CREATED:20241102T213613Z
LAST-MODIFIED:20250611T212024Z
UID:10000197-1749717000-1749728400@www.kusd.edu
SUMMARY:Half Day for Students\, Last day of School
DESCRIPTION:
URL:https://www.kusd.edu/mahone/event/half-day-for-students-last-day-of-school/
END:VEVENT
END:VCALENDAR