BEGIN:VCALENDAR
VERSION:2.0
PRODID:-//Mahone Middle School - ECPv6.15.20//NONSGML v1.0//EN
CALSCALE:GREGORIAN
METHOD:PUBLISH
X-WR-CALNAME:Mahone Middle School
X-ORIGINAL-URL:https://www.kusd.edu/mahone
X-WR-CALDESC:Events for Mahone Middle School
REFRESH-INTERVAL;VALUE=DURATION:PT1H
X-Robots-Tag:noindex
X-PUBLISHED-TTL:PT1H
BEGIN:VTIMEZONE
TZID:America/Chicago
BEGIN:DAYLIGHT
TZOFFSETFROM:-0600
TZOFFSETTO:-0500
TZNAME:CDT
DTSTART:20240310T080000
END:DAYLIGHT
BEGIN:STANDARD
TZOFFSETFROM:-0500
TZOFFSETTO:-0600
TZNAME:CST
DTSTART:20241103T070000
END:STANDARD
BEGIN:DAYLIGHT
TZOFFSETFROM:-0600
TZOFFSETTO:-0500
TZNAME:CDT
DTSTART:20250309T080000
END:DAYLIGHT
BEGIN:STANDARD
TZOFFSETFROM:-0500
TZOFFSETTO:-0600
TZNAME:CST
DTSTART:20251102T070000
END:STANDARD
BEGIN:DAYLIGHT
TZOFFSETFROM:-0600
TZOFFSETTO:-0500
TZNAME:CDT
DTSTART:20260308T080000
END:DAYLIGHT
BEGIN:STANDARD
TZOFFSETFROM:-0500
TZOFFSETTO:-0600
TZNAME:CST
DTSTART:20261101T070000
END:STANDARD
END:VTIMEZONE
BEGIN:VEVENT
DTSTART;VALUE=DATE:20250401
DTEND;VALUE=DATE:20250402
DTSTAMP:20260422T141107
CREATED:20240822T183614Z
LAST-MODIFIED:20250401T195053Z
UID:10000176-1743465600-1743551999@www.kusd.edu
SUMMARY:Quarter 3 Ends
DESCRIPTION:
URL:https://www.kusd.edu/mahone/event/quarter-3-ends/
END:VEVENT
BEGIN:VEVENT
DTSTART;VALUE=DATE:20250402
DTEND;VALUE=DATE:20250403
DTSTAMP:20260422T141107
CREATED:20240822T183614Z
LAST-MODIFIED:20250402T195025Z
UID:10000175-1743552000-1743638399@www.kusd.edu
SUMMARY:Quarter 4 Begins
DESCRIPTION:
URL:https://www.kusd.edu/mahone/event/quarter-4-begins/
END:VEVENT
BEGIN:VEVENT
DTSTART;VALUE=DATE:20250404
DTEND;VALUE=DATE:20250405
DTSTAMP:20260422T141107
CREATED:20240822T183614Z
LAST-MODIFIED:20250404T195037Z
UID:10000177-1743724800-1743811199@www.kusd.edu
SUMMARY:No School for Students
DESCRIPTION:
URL:https://www.kusd.edu/mahone/event/no-school-for-students-14/
END:VEVENT
BEGIN:VEVENT
DTSTART;VALUE=DATE:20250411
DTEND;VALUE=DATE:20250412
DTSTAMP:20260422T141107
CREATED:20240822T183614Z
LAST-MODIFIED:20250411T200612Z
UID:10000178-1744329600-1744415999@www.kusd.edu
SUMMARY:Early Release for Students 2:56
DESCRIPTION:
URL:https://www.kusd.edu/mahone/event/early-release-for-students-256-22/
END:VEVENT
BEGIN:VEVENT
DTSTART;VALUE=DATE:20250418
DTEND;VALUE=DATE:20250426
DTSTAMP:20260422T141107
CREATED:20240823T183611Z
LAST-MODIFIED:20250425T200524Z
UID:10000179-1744934400-1745625599@www.kusd.edu
SUMMARY:School Closed for Spring Break
DESCRIPTION:
URL:https://www.kusd.edu/mahone/event/school-closed-for-spring-break/
END:VEVENT
END:VCALENDAR