BEGIN:VCALENDAR
VERSION:2.0
PRODID:-//Mahone Middle School - ECPv6.15.20//NONSGML v1.0//EN
CALSCALE:GREGORIAN
METHOD:PUBLISH
X-WR-CALNAME:Mahone Middle School
X-ORIGINAL-URL:https://www.kusd.edu/mahone
X-WR-CALDESC:Events for Mahone Middle School
REFRESH-INTERVAL;VALUE=DURATION:PT1H
X-Robots-Tag:noindex
X-PUBLISHED-TTL:PT1H
BEGIN:VTIMEZONE
TZID:America/Chicago
BEGIN:DAYLIGHT
TZOFFSETFROM:-0600
TZOFFSETTO:-0500
TZNAME:CDT
DTSTART:20240310T080000
END:DAYLIGHT
BEGIN:STANDARD
TZOFFSETFROM:-0500
TZOFFSETTO:-0600
TZNAME:CST
DTSTART:20241103T070000
END:STANDARD
BEGIN:DAYLIGHT
TZOFFSETFROM:-0600
TZOFFSETTO:-0500
TZNAME:CDT
DTSTART:20250309T080000
END:DAYLIGHT
BEGIN:STANDARD
TZOFFSETFROM:-0500
TZOFFSETTO:-0600
TZNAME:CST
DTSTART:20251102T070000
END:STANDARD
BEGIN:DAYLIGHT
TZOFFSETFROM:-0600
TZOFFSETTO:-0500
TZNAME:CDT
DTSTART:20260308T080000
END:DAYLIGHT
BEGIN:STANDARD
TZOFFSETFROM:-0500
TZOFFSETTO:-0600
TZNAME:CST
DTSTART:20261101T070000
END:STANDARD
END:VTIMEZONE
BEGIN:VEVENT
DTSTART;VALUE=DATE:20251031
DTEND;VALUE=DATE:20251101
DTSTAMP:20260422T051800
CREATED:20250707T215030Z
LAST-MODIFIED:20251031T145105Z
UID:10000217-1761868800-1761955199@www.kusd.edu
SUMMARY:No Students Report- Staff Workday
DESCRIPTION:
URL:https://www.kusd.edu/mahone/event/no-students-report-staff-workday/
END:VEVENT
BEGIN:VEVENT
DTSTART;VALUE=DATE:20251031
DTEND;VALUE=DATE:20251101
DTSTAMP:20260422T051800
CREATED:20250904T160101Z
LAST-MODIFIED:20251030T210545Z
UID:10000266-1761868800-1761955199@www.kusd.edu
SUMMARY:Staff Workday\, No Students Report
DESCRIPTION:
URL:https://www.kusd.edu/mahone/event/staff-workday-no-students-report/
END:VEVENT
END:VCALENDAR