BEGIN:VCALENDAR
VERSION:2.0
PRODID:-//Mahone Middle School - ECPv6.15.20//NONSGML v1.0//EN
CALSCALE:GREGORIAN
METHOD:PUBLISH
X-WR-CALNAME:Mahone Middle School
X-ORIGINAL-URL:https://www.kusd.edu/mahone
X-WR-CALDESC:Events for Mahone Middle School
REFRESH-INTERVAL;VALUE=DURATION:PT1H
X-Robots-Tag:noindex
X-PUBLISHED-TTL:PT1H
BEGIN:VTIMEZONE
TZID:America/Chicago
BEGIN:DAYLIGHT
TZOFFSETFROM:-0600
TZOFFSETTO:-0500
TZNAME:CDT
DTSTART:20240310T080000
END:DAYLIGHT
BEGIN:STANDARD
TZOFFSETFROM:-0500
TZOFFSETTO:-0600
TZNAME:CST
DTSTART:20241103T070000
END:STANDARD
BEGIN:DAYLIGHT
TZOFFSETFROM:-0600
TZOFFSETTO:-0500
TZNAME:CDT
DTSTART:20250309T080000
END:DAYLIGHT
BEGIN:STANDARD
TZOFFSETFROM:-0500
TZOFFSETTO:-0600
TZNAME:CST
DTSTART:20251102T070000
END:STANDARD
BEGIN:DAYLIGHT
TZOFFSETFROM:-0600
TZOFFSETTO:-0500
TZNAME:CDT
DTSTART:20260308T080000
END:DAYLIGHT
BEGIN:STANDARD
TZOFFSETFROM:-0500
TZOFFSETTO:-0600
TZNAME:CST
DTSTART:20261101T070000
END:STANDARD
END:VTIMEZONE
BEGIN:VEVENT
DTSTART;VALUE=DATE:20250612
DTEND;VALUE=DATE:20250613
DTSTAMP:20260422T123720
CREATED:20241102T213613Z
LAST-MODIFIED:20250612T212034Z
UID:10000196-1749686400-1749772799@www.kusd.edu
SUMMARY:Quarter 4 Ends
DESCRIPTION:
URL:https://www.kusd.edu/mahone/event/quarter-4-ends/
END:VEVENT
BEGIN:VEVENT
DTSTART;TZID=America/Chicago:20250612T083000
DTEND;TZID=America/Chicago:20250612T114000
DTSTAMP:20260422T123720
CREATED:20241102T213613Z
LAST-MODIFIED:20250611T212024Z
UID:10000197-1749717000-1749728400@www.kusd.edu
SUMMARY:Half Day for Students\, Last day of School
DESCRIPTION:
URL:https://www.kusd.edu/mahone/event/half-day-for-students-last-day-of-school/
END:VEVENT
END:VCALENDAR