BEGIN:VCALENDAR
VERSION:2.0
PRODID:-//Lance Middle School - ECPv6.15.20//NONSGML v1.0//EN
CALSCALE:GREGORIAN
METHOD:PUBLISH
X-ORIGINAL-URL:https://www.kusd.edu/lance
X-WR-CALDESC:Events for Lance Middle School
REFRESH-INTERVAL;VALUE=DURATION:PT1H
X-Robots-Tag:noindex
X-PUBLISHED-TTL:PT1H
BEGIN:VTIMEZONE
TZID:America/Chicago
BEGIN:DAYLIGHT
TZOFFSETFROM:-0600
TZOFFSETTO:-0500
TZNAME:CDT
DTSTART:20250309T080000
END:DAYLIGHT
BEGIN:STANDARD
TZOFFSETFROM:-0500
TZOFFSETTO:-0600
TZNAME:CST
DTSTART:20251102T070000
END:STANDARD
BEGIN:DAYLIGHT
TZOFFSETFROM:-0600
TZOFFSETTO:-0500
TZNAME:CDT
DTSTART:20260308T080000
END:DAYLIGHT
BEGIN:STANDARD
TZOFFSETFROM:-0500
TZOFFSETTO:-0600
TZNAME:CST
DTSTART:20261101T070000
END:STANDARD
BEGIN:DAYLIGHT
TZOFFSETFROM:-0600
TZOFFSETTO:-0500
TZNAME:CDT
DTSTART:20270314T080000
END:DAYLIGHT
BEGIN:STANDARD
TZOFFSETFROM:-0500
TZOFFSETTO:-0600
TZNAME:CST
DTSTART:20271107T070000
END:STANDARD
END:VTIMEZONE
BEGIN:VEVENT
DTSTART;TZID=America/Chicago:20260423T171500
DTEND;TZID=America/Chicago:20260423T184500
DTSTAMP:20260422T174846
CREATED:20260317T224923Z
LAST-MODIFIED:20260421T234916Z
UID:10000596-1776964500-1776969900@www.kusd.edu
SUMMARY:Volleyball at Mahone
DESCRIPTION:
URL:https://www.kusd.edu/lance/event/volleyball-at-mahone-3/
LOCATION:Mahone Middle School\, 6900 60th St\, Kenosha\, WI\, United States
GEO:42.581693;-87.891721
X-APPLE-STRUCTURED-LOCATION;VALUE=URI;X-ADDRESS=Mahone Middle School 6900 60th St Kenosha WI United States;X-APPLE-RADIUS=500;X-TITLE=6900 60th St:geo:-87.891721,42.581693
END:VEVENT
END:VCALENDAR