BEGIN:VCALENDAR
VERSION:2.0
PRODID:-//Lance Middle School - ECPv6.15.20//NONSGML v1.0//EN
CALSCALE:GREGORIAN
METHOD:PUBLISH
X-ORIGINAL-URL:https://www.kusd.edu/lance
X-WR-CALDESC:Events for Lance Middle School
REFRESH-INTERVAL;VALUE=DURATION:PT1H
X-Robots-Tag:noindex
X-PUBLISHED-TTL:PT1H
BEGIN:VTIMEZONE
TZID:America/Chicago
BEGIN:DAYLIGHT
TZOFFSETFROM:-0600
TZOFFSETTO:-0500
TZNAME:CDT
DTSTART:20220313T080000
END:DAYLIGHT
BEGIN:STANDARD
TZOFFSETFROM:-0500
TZOFFSETTO:-0600
TZNAME:CST
DTSTART:20221106T070000
END:STANDARD
BEGIN:DAYLIGHT
TZOFFSETFROM:-0600
TZOFFSETTO:-0500
TZNAME:CDT
DTSTART:20230312T080000
END:DAYLIGHT
BEGIN:STANDARD
TZOFFSETFROM:-0500
TZOFFSETTO:-0600
TZNAME:CST
DTSTART:20231105T070000
END:STANDARD
BEGIN:DAYLIGHT
TZOFFSETFROM:-0600
TZOFFSETTO:-0500
TZNAME:CDT
DTSTART:20240310T080000
END:DAYLIGHT
BEGIN:STANDARD
TZOFFSETFROM:-0500
TZOFFSETTO:-0600
TZNAME:CST
DTSTART:20241103T070000
END:STANDARD
END:VTIMEZONE
BEGIN:VEVENT
DTSTART;TZID=America/Chicago:20230817T170000
DTEND;TZID=America/Chicago:20230817T190000
DTSTAMP:20260424T133800
CREATED:20230804T225223Z
LAST-MODIFIED:20230816T165223Z
UID:10000054-1692291600-1692298800@www.kusd.edu
SUMMARY:Football practice
DESCRIPTION:
URL:https://www.kusd.edu/lance/event/football-practice-4/
LOCATION:Lance Middle School\, 4515 80th St\, Kenosha\, WI 53142\, USA
END:VEVENT
BEGIN:VEVENT
DTSTART;TZID=America/Chicago:20230816T170000
DTEND;TZID=America/Chicago:20230816T190000
DTSTAMP:20260424T133800
CREATED:20230804T225223Z
LAST-MODIFIED:20230816T165223Z
UID:10000053-1692205200-1692212400@www.kusd.edu
SUMMARY:Football practice
DESCRIPTION:
URL:https://www.kusd.edu/lance/event/football-practice-3/
LOCATION:Lance Middle School\, 4515 80th St\, Kenosha\, WI 53142\, USA
END:VEVENT
BEGIN:VEVENT
DTSTART;TZID=America/Chicago:20230815T170000
DTEND;TZID=America/Chicago:20230815T190000
DTSTAMP:20260424T133800
CREATED:20230804T225223Z
LAST-MODIFIED:20230813T235224Z
UID:10000052-1692118800-1692126000@www.kusd.edu
SUMMARY:Football practice
DESCRIPTION:
URL:https://www.kusd.edu/lance/event/football-practice-2/
LOCATION:Lance Middle School\, 4515 80th St\, Kenosha\, WI 53142\, USA
END:VEVENT
BEGIN:VEVENT
DTSTART;TZID=America/Chicago:20230814T170000
DTEND;TZID=America/Chicago:20230814T190000
DTSTAMP:20260424T133800
CREATED:20230804T225223Z
LAST-MODIFIED:20230813T235224Z
UID:10000051-1692032400-1692039600@www.kusd.edu
SUMMARY:Football practice
DESCRIPTION:
URL:https://www.kusd.edu/lance/event/football-practice/
LOCATION:Lance Middle School\, 4515 80th St\, Kenosha\, WI 53142\, USA
END:VEVENT
BEGIN:VEVENT
DTSTART;TZID=America/Chicago:20230525T190000
DTEND;TZID=America/Chicago:20230525T200000
DTSTAMP:20260424T133800
CREATED:20230324T153545Z
LAST-MODIFIED:20230505T204140Z
UID:10000009-1685041200-1685044800@www.kusd.edu
SUMMARY:Choir Concert
DESCRIPTION:
URL:https://www.kusd.edu/lance/event/choir-concert/
LOCATION:Lance Middle School\, 4515 80th St\, Kenosha\, WI 53142\, USA
END:VEVENT
BEGIN:VEVENT
DTSTART;TZID=America/Chicago:20230511T190000
DTEND;TZID=America/Chicago:20230511T200000
DTSTAMP:20260424T133800
CREATED:20230324T153545Z
LAST-MODIFIED:20230505T204139Z
UID:10000006-1683831600-1683835200@www.kusd.edu
SUMMARY:Orchestra Concert
DESCRIPTION:
URL:https://www.kusd.edu/lance/event/orchestra-concert/
LOCATION:Lance Middle School\, 4515 80th St\, Kenosha\, WI 53142\, USA
END:VEVENT
BEGIN:VEVENT
DTSTART;TZID=America/Chicago:20230504T190000
DTEND;TZID=America/Chicago:20230504T200000
DTSTAMP:20260424T133800
CREATED:20230324T153545Z
LAST-MODIFIED:20230428T205614Z
UID:10000004-1683226800-1683230400@www.kusd.edu
SUMMARY:Band Concert
DESCRIPTION:
URL:https://www.kusd.edu/lance/event/band-concert/
LOCATION:Lance Middle School\, 4515 80th St\, Kenosha\, WI 53142\, USA
END:VEVENT
END:VCALENDAR