BEGIN:VCALENDAR
VERSION:2.0
PRODID:-//Lance Middle School - ECPv6.15.20//NONSGML v1.0//EN
CALSCALE:GREGORIAN
METHOD:PUBLISH
X-ORIGINAL-URL:https://www.kusd.edu/lance
X-WR-CALDESC:Events for Lance Middle School
REFRESH-INTERVAL;VALUE=DURATION:PT1H
X-Robots-Tag:noindex
X-PUBLISHED-TTL:PT1H
BEGIN:VTIMEZONE
TZID:America/Chicago
BEGIN:DAYLIGHT
TZOFFSETFROM:-0600
TZOFFSETTO:-0500
TZNAME:CDT
DTSTART:20250309T080000
END:DAYLIGHT
BEGIN:STANDARD
TZOFFSETFROM:-0500
TZOFFSETTO:-0600
TZNAME:CST
DTSTART:20251102T070000
END:STANDARD
BEGIN:DAYLIGHT
TZOFFSETFROM:-0600
TZOFFSETTO:-0500
TZNAME:CDT
DTSTART:20260308T080000
END:DAYLIGHT
BEGIN:STANDARD
TZOFFSETFROM:-0500
TZOFFSETTO:-0600
TZNAME:CST
DTSTART:20261101T070000
END:STANDARD
BEGIN:DAYLIGHT
TZOFFSETFROM:-0600
TZOFFSETTO:-0500
TZNAME:CDT
DTSTART:20270314T080000
END:DAYLIGHT
BEGIN:STANDARD
TZOFFSETFROM:-0500
TZOFFSETTO:-0600
TZNAME:CST
DTSTART:20271107T070000
END:STANDARD
END:VTIMEZONE
BEGIN:VEVENT
DTSTART;TZID=America/Chicago:20260813T170000
DTEND;TZID=America/Chicago:20260813T210000
DTSTAMP:20260422T174848
CREATED:20260228T210452Z
LAST-MODIFIED:20260421T233427Z
UID:10000580-1786640400-1786654800@www.kusd.edu
SUMMARY:Standing Committee Meetings
DESCRIPTION:
URL:https://www.kusd.edu/lance/event/standing-committee-meetings-6/
LOCATION:KUSD Educational Support Center\, 3600 52nd St\, Kenosha\, WI\, United States
GEO:42.588266;-87.852374
X-APPLE-STRUCTURED-LOCATION;VALUE=URI;X-ADDRESS=KUSD Educational Support Center 3600 52nd St Kenosha WI United States;X-APPLE-RADIUS=500;X-TITLE=3600 52nd St:geo:-87.852374,42.588266
END:VEVENT
BEGIN:VEVENT
DTSTART;TZID=America/Chicago:20260817T080000
DTEND;TZID=America/Chicago:20260817T100000
DTSTAMP:20260422T174848
CREATED:20260420T233427Z
LAST-MODIFIED:20260421T234943Z
UID:10000613-1786953600-1786960800@www.kusd.edu
SUMMARY:Gear Up (incoming 6th grade students)
DESCRIPTION:
URL:https://www.kusd.edu/lance/event/gear-up-incoming-6th-grade-students/
END:VEVENT
BEGIN:VEVENT
DTSTART;TZID=America/Chicago:20260817T103000
DTEND;TZID=America/Chicago:20260817T123000
DTSTAMP:20260422T174848
CREATED:20260420T233427Z
LAST-MODIFIED:20260421T234943Z
UID:10000614-1786962600-1786969800@www.kusd.edu
SUMMARY:Gear Up (incoming 6th grade students)
DESCRIPTION:
URL:https://www.kusd.edu/lance/event/gear-up-incoming-6th-grade-students-2/
END:VEVENT
BEGIN:VEVENT
DTSTART;TZID=America/Chicago:20260818T080000
DTEND;TZID=America/Chicago:20260818T100000
DTSTAMP:20260422T174848
CREATED:20260420T233427Z
LAST-MODIFIED:20260421T234943Z
UID:10000615-1787040000-1787047200@www.kusd.edu
SUMMARY:Gear Up (incoming 6th grade students)
DESCRIPTION:
URL:https://www.kusd.edu/lance/event/gear-up-incoming-6th-grade-students-3/
END:VEVENT
BEGIN:VEVENT
DTSTART;TZID=America/Chicago:20260818T103000
DTEND;TZID=America/Chicago:20260818T123000
DTSTAMP:20260422T174848
CREATED:20260420T233439Z
LAST-MODIFIED:20260421T234943Z
UID:10000616-1787049000-1787056200@www.kusd.edu
SUMMARY:Gear Up (incoming 6th grade students)
DESCRIPTION:
URL:https://www.kusd.edu/lance/event/gear-up-incoming-6th-grade-students-4/
END:VEVENT
BEGIN:VEVENT
DTSTART;TZID=America/Chicago:20260819T080000
DTEND;TZID=America/Chicago:20260819T100000
DTSTAMP:20260422T174848
CREATED:20260420T233439Z
LAST-MODIFIED:20260421T234956Z
UID:10000617-1787126400-1787133600@www.kusd.edu
SUMMARY:Gear Up (incoming 6th grade students)
DESCRIPTION:
URL:https://www.kusd.edu/lance/event/gear-up-incoming-6th-grade-students-5/
END:VEVENT
BEGIN:VEVENT
DTSTART;TZID=America/Chicago:20260819T103000
DTEND;TZID=America/Chicago:20260819T123000
DTSTAMP:20260422T174848
CREATED:20260420T233439Z
LAST-MODIFIED:20260421T234956Z
UID:10000618-1787135400-1787142600@www.kusd.edu
SUMMARY:Gear Up (incoming 6th grade students)
DESCRIPTION:
URL:https://www.kusd.edu/lance/event/gear-up-incoming-6th-grade-students-6/
END:VEVENT
BEGIN:VEVENT
DTSTART;TZID=America/Chicago:20260825T170000
DTEND;TZID=America/Chicago:20260825T183000
DTSTAMP:20260422T174848
CREATED:20260420T233439Z
LAST-MODIFIED:20260421T234956Z
UID:10000619-1787677200-1787682600@www.kusd.edu
SUMMARY:Open House
DESCRIPTION:
URL:https://www.kusd.edu/lance/event/open-house-5/
END:VEVENT
BEGIN:VEVENT
DTSTART;TZID=America/Chicago:20260825T190000
DTEND;TZID=America/Chicago:20260825T220000
DTSTAMP:20260422T174848
CREATED:20260304T210530Z
LAST-MODIFIED:20260421T233427Z
UID:10000581-1787684400-1787695200@www.kusd.edu
SUMMARY:Regular School Board Meeting
DESCRIPTION:
URL:https://www.kusd.edu/lance/event/regular-school-board-meeting-12/
LOCATION:KUSD Educational Support Center\, 3600 52nd St\, Kenosha\, WI\, United States
GEO:42.588266;-87.852374
X-APPLE-STRUCTURED-LOCATION;VALUE=URI;X-ADDRESS=KUSD Educational Support Center 3600 52nd St Kenosha WI United States;X-APPLE-RADIUS=500;X-TITLE=3600 52nd St:geo:-87.852374,42.588266
END:VEVENT
END:VCALENDAR