BEGIN:VCALENDAR
VERSION:2.0
PRODID:-//Lance Middle School - ECPv6.15.20//NONSGML v1.0//EN
CALSCALE:GREGORIAN
METHOD:PUBLISH
X-WR-CALNAME:Lance Middle School
X-ORIGINAL-URL:https://www.kusd.edu/lance
X-WR-CALDESC:Events for Lance Middle School
REFRESH-INTERVAL;VALUE=DURATION:PT1H
X-Robots-Tag:noindex
X-PUBLISHED-TTL:PT1H
BEGIN:VTIMEZONE
TZID:America/Chicago
BEGIN:DAYLIGHT
TZOFFSETFROM:-0600
TZOFFSETTO:-0500
TZNAME:CDT
DTSTART:20240310T080000
END:DAYLIGHT
BEGIN:STANDARD
TZOFFSETFROM:-0500
TZOFFSETTO:-0600
TZNAME:CST
DTSTART:20241103T070000
END:STANDARD
BEGIN:DAYLIGHT
TZOFFSETFROM:-0600
TZOFFSETTO:-0500
TZNAME:CDT
DTSTART:20250309T080000
END:DAYLIGHT
BEGIN:STANDARD
TZOFFSETFROM:-0500
TZOFFSETTO:-0600
TZNAME:CST
DTSTART:20251102T070000
END:STANDARD
BEGIN:DAYLIGHT
TZOFFSETFROM:-0600
TZOFFSETTO:-0500
TZNAME:CDT
DTSTART:20260308T080000
END:DAYLIGHT
BEGIN:STANDARD
TZOFFSETFROM:-0500
TZOFFSETTO:-0600
TZNAME:CST
DTSTART:20261101T070000
END:STANDARD
END:VTIMEZONE
BEGIN:VEVENT
DTSTART;VALUE=DATE:20250401
DTEND;VALUE=DATE:20250402
DTSTAMP:20260423T035721
CREATED:20240718T213452Z
LAST-MODIFIED:20250401T201910Z
UID:10000229-1743465600-1743551999@www.kusd.edu
SUMMARY:End of Quarter 3
DESCRIPTION:
URL:https://www.kusd.edu/lance/event/end-of-quarter-3-3/
END:VEVENT
BEGIN:VEVENT
DTSTART;VALUE=DATE:20250404
DTEND;VALUE=DATE:20250405
DTSTAMP:20260423T035721
CREATED:20240709T210508Z
LAST-MODIFIED:20250404T203425Z
UID:10000213-1743724800-1743811199@www.kusd.edu
SUMMARY:NO SCHOOL for students
DESCRIPTION:
URL:https://www.kusd.edu/lance/event/no-school-for-students-3/
END:VEVENT
BEGIN:VEVENT
DTSTART;TZID=America/Chicago:20250415T171500
DTEND;TZID=America/Chicago:20250415T181500
DTSTAMP:20260423T035721
CREATED:20250414T210434Z
LAST-MODIFIED:20250415T210446Z
UID:10000318-1744737300-1744740900@www.kusd.edu
SUMMARY:Volleyball at Mahone
DESCRIPTION:
URL:https://www.kusd.edu/lance/event/volleyball-at-mahone-2/
END:VEVENT
BEGIN:VEVENT
DTSTART;TZID=America/Chicago:20250416T171500
DTEND;TZID=America/Chicago:20250416T181500
DTSTAMP:20260423T035721
CREATED:20250414T210434Z
LAST-MODIFIED:20250416T210412Z
UID:10000319-1744823700-1744827300@www.kusd.edu
SUMMARY:Track at Jaskwhich (ITHS)
DESCRIPTION:
URL:https://www.kusd.edu/lance/event/track-at-jaskwhich-iths/
END:VEVENT
BEGIN:VEVENT
DTSTART;VALUE=DATE:20250418
DTEND;VALUE=DATE:20250428
DTSTAMP:20260423T035721
CREATED:20240709T210508Z
LAST-MODIFIED:20250427T214903Z
UID:10000214-1744934400-1745798399@www.kusd.edu
SUMMARY:Spring Break
DESCRIPTION:
URL:https://www.kusd.edu/lance/event/spring-break-4/
END:VEVENT
BEGIN:VEVENT
DTSTART;TZID=America/Chicago:20250429T170000
DTEND;TZID=America/Chicago:20250429T180000
DTSTAMP:20260423T035721
CREATED:20250414T210434Z
LAST-MODIFIED:20250429T214938Z
UID:10000320-1745946000-1745949600@www.kusd.edu
SUMMARY:DC Trip Parent Meeting
DESCRIPTION:For parents of students attending the DC trip this year (2025).
URL:https://www.kusd.edu/lance/event/dc-trip-parent-meeting/
END:VEVENT
BEGIN:VEVENT
DTSTART;TZID=America/Chicago:20250429T180000
DTEND;TZID=America/Chicago:20250429T190000
DTSTAMP:20260423T035721
CREATED:20241018T193452Z
LAST-MODIFIED:20250429T214938Z
UID:10000290-1745949600-1745953200@www.kusd.edu
SUMMARY:Music Trip Parent Information Meeting (Auditorium)
DESCRIPTION:
URL:https://www.kusd.edu/lance/event/music-trip-parent-information-meeting-auditorium/
LOCATION:Lance Middle School\, 4515 80th St\, Kenosha\, WI\, United States
GEO:42.559096;-87.861335
X-APPLE-STRUCTURED-LOCATION;VALUE=URI;X-ADDRESS=Lance Middle School 4515 80th St Kenosha WI United States;X-APPLE-RADIUS=500;X-TITLE=4515 80th St:geo:-87.861335,42.559096
END:VEVENT
BEGIN:VEVENT
DTSTART;TZID=America/Chicago:20250430T171500
DTEND;TZID=America/Chicago:20250430T181500
DTSTAMP:20260423T035721
CREATED:20250414T210434Z
LAST-MODIFIED:20250430T214904Z
UID:10000322-1746033300-1746036900@www.kusd.edu
SUMMARY:Volleyball at Washington
DESCRIPTION:
URL:https://www.kusd.edu/lance/event/volleyball-at-washington/
END:VEVENT
BEGIN:VEVENT
DTSTART;TZID=America/Chicago:20250430T171500
DTEND;TZID=America/Chicago:20250430T181500
DTSTAMP:20260423T035721
CREATED:20250414T210434Z
LAST-MODIFIED:20250430T214904Z
UID:10000321-1746033300-1746036900@www.kusd.edu
SUMMARY:Track home at Ameche (Tremper)
DESCRIPTION:
URL:https://www.kusd.edu/lance/event/track-home-at-ameche-tremper/
END:VEVENT
END:VCALENDAR