BEGIN:VCALENDAR
VERSION:2.0
PRODID:-//Lance Middle School - ECPv6.15.20//NONSGML v1.0//EN
CALSCALE:GREGORIAN
METHOD:PUBLISH
X-ORIGINAL-URL:https://www.kusd.edu/lance
X-WR-CALDESC:Events for Lance Middle School
REFRESH-INTERVAL;VALUE=DURATION:PT1H
X-Robots-Tag:noindex
X-PUBLISHED-TTL:PT1H
BEGIN:VTIMEZONE
TZID:America/Chicago
BEGIN:DAYLIGHT
TZOFFSETFROM:-0600
TZOFFSETTO:-0500
TZNAME:CDT
DTSTART:20230312T080000
END:DAYLIGHT
BEGIN:STANDARD
TZOFFSETFROM:-0500
TZOFFSETTO:-0600
TZNAME:CST
DTSTART:20231105T070000
END:STANDARD
BEGIN:DAYLIGHT
TZOFFSETFROM:-0600
TZOFFSETTO:-0500
TZNAME:CDT
DTSTART:20240310T080000
END:DAYLIGHT
BEGIN:STANDARD
TZOFFSETFROM:-0500
TZOFFSETTO:-0600
TZNAME:CST
DTSTART:20241103T070000
END:STANDARD
BEGIN:DAYLIGHT
TZOFFSETFROM:-0600
TZOFFSETTO:-0500
TZNAME:CDT
DTSTART:20250309T080000
END:DAYLIGHT
BEGIN:STANDARD
TZOFFSETFROM:-0500
TZOFFSETTO:-0600
TZNAME:CST
DTSTART:20251102T070000
END:STANDARD
END:VTIMEZONE
BEGIN:VEVENT
DTSTART;VALUE=DATE:20240902
DTEND;VALUE=DATE:20240903
DTSTAMP:20260423T130139
CREATED:20240307T163739Z
LAST-MODIFIED:20240902T234907Z
UID:10000192-1725235200-1725321599@www.kusd.edu
SUMMARY:Schools Closed (Labor Day)
DESCRIPTION:
URL:https://www.kusd.edu/lance/event/schools-closed/
END:VEVENT
BEGIN:VEVENT
DTSTART;VALUE=DATE:20240903
DTEND;VALUE=DATE:20240904
DTSTAMP:20260423T130139
CREATED:20240307T163739Z
LAST-MODIFIED:20240903T234902Z
UID:10000193-1725321600-1725407999@www.kusd.edu
SUMMARY:First Day of School
DESCRIPTION:
URL:https://www.kusd.edu/lance/event/first-day-of-school-3/
END:VEVENT
BEGIN:VEVENT
DTSTART;TZID=America/Chicago:20240905T171500
DTEND;TZID=America/Chicago:20240905T184500
DTSTAMP:20260423T130139
CREATED:20240828T233406Z
LAST-MODIFIED:20240905T160403Z
UID:10000235-1725556500-1725561900@www.kusd.edu
SUMMARY:Football (home) vs. Bullen
DESCRIPTION:
URL:https://www.kusd.edu/lance/event/football-home-vs-bullen/
LOCATION:Ameche Field\, 8701 26th Ave\, Kenosha\, WI\, United States
GEO:42.54837;-87.839946
X-APPLE-STRUCTURED-LOCATION;VALUE=URI;X-ADDRESS=Ameche Field 8701 26th Ave Kenosha WI United States;X-APPLE-RADIUS=500;X-TITLE=8701 26th Ave:geo:-87.839946,42.54837
END:VEVENT
BEGIN:VEVENT
DTSTART;TZID=America/Chicago:20240910T164500
DTEND;TZID=America/Chicago:20240910T181500
DTSTAMP:20260423T130139
CREATED:20240828T233406Z
LAST-MODIFIED:20240910T161921Z
UID:10000236-1725986700-1725992100@www.kusd.edu
SUMMARY:Softball (home) vs. Bullen
DESCRIPTION:
URL:https://www.kusd.edu/lance/event/softball-home-vs-bullen-3/
LOCATION:Lance Middle School\, 4515 80th St\, Kenosha\, WI\, United States
GEO:42.559096;-87.861335
X-APPLE-STRUCTURED-LOCATION;VALUE=URI;X-ADDRESS=Lance Middle School 4515 80th St Kenosha WI United States;X-APPLE-RADIUS=500;X-TITLE=4515 80th St:geo:-87.861335,42.559096
END:VEVENT
BEGIN:VEVENT
DTSTART;TZID=America/Chicago:20240911T171500
DTEND;TZID=America/Chicago:20240911T184500
DTSTAMP:20260423T130139
CREATED:20240828T233406Z
LAST-MODIFIED:20240911T161902Z
UID:10000237-1726074900-1726080300@www.kusd.edu
SUMMARY:Football (away) vs. Mahone
DESCRIPTION:
URL:https://www.kusd.edu/lance/event/football-away-vs-mahone/
LOCATION:Jaskwhich Stadium\, 6800 60th St\, Kenosha\, WI\, United States
GEO:42.581678;-87.890829
X-APPLE-STRUCTURED-LOCATION;VALUE=URI;X-ADDRESS=Jaskwhich Stadium 6800 60th St Kenosha WI United States;X-APPLE-RADIUS=500;X-TITLE=6800 60th St:geo:-87.890829,42.581678
END:VEVENT
BEGIN:VEVENT
DTSTART;TZID=America/Chicago:20240912T164500
DTEND;TZID=America/Chicago:20240912T181500
DTSTAMP:20260423T130139
CREATED:20240909T160430Z
LAST-MODIFIED:20240912T162005Z
UID:10000249-1726159500-1726164900@www.kusd.edu
SUMMARY:Softball (home) vs. Mahone 2/ Washington JV
DESCRIPTION:
URL:https://www.kusd.edu/lance/event/softball-home-vs-mahone-2-washington-jv/
LOCATION:Bullen Middle School\, 2804 39th Ave\, Kenosha\, WI\, United States
GEO:42.612994;-87.855878
X-APPLE-STRUCTURED-LOCATION;VALUE=URI;X-ADDRESS=Bullen Middle School 2804 39th Ave Kenosha WI United States;X-APPLE-RADIUS=500;X-TITLE=2804 39th Ave:geo:-87.855878,42.612994
END:VEVENT
BEGIN:VEVENT
DTSTART;TZID=America/Chicago:20240913T163000
DTEND;TZID=America/Chicago:20240913T210000
DTSTAMP:20260423T130139
CREATED:20240624T203507Z
LAST-MODIFIED:20240913T161919Z
UID:10000205-1726245000-1726261200@www.kusd.edu
SUMMARY:Lance Night at Action Territory
DESCRIPTION:
URL:https://www.kusd.edu/lance/event/lance-night-at-action-territory/
END:VEVENT
BEGIN:VEVENT
DTSTART;TZID=America/Chicago:20240914T090000
DTEND;TZID=America/Chicago:20240914T110000
DTSTAMP:20260423T130139
CREATED:20240828T233406Z
LAST-MODIFIED:20240913T161920Z
UID:10000238-1726304400-1726311600@www.kusd.edu
SUMMARY:Varsity Softball Tournament
DESCRIPTION:
URL:https://www.kusd.edu/lance/event/softball-tournament/
LOCATION:Indian Trail High School and Academy\, 6800 60th St\, Kenosha\, WI\, United States
GEO:42.581678;-87.890829
X-APPLE-STRUCTURED-LOCATION;VALUE=URI;X-ADDRESS=Indian Trail High School and Academy 6800 60th St Kenosha WI United States;X-APPLE-RADIUS=500;X-TITLE=6800 60th St:geo:-87.890829,42.581678
END:VEVENT
BEGIN:VEVENT
DTSTART;VALUE=DATE:20240917
DTEND;VALUE=DATE:20240918
DTSTAMP:20260423T130139
CREATED:20240808T221914Z
LAST-MODIFIED:20240917T165136Z
UID:10000233-1726531200-1726617599@www.kusd.edu
SUMMARY:Washington DC MOD Pizza Night - HWY 50 location
DESCRIPTION:
URL:https://www.kusd.edu/lance/event/washington-dc-mod-pizza-night-hwy-50-location/
END:VEVENT
BEGIN:VEVENT
DTSTART;TZID=America/Chicago:20240917T164500
DTEND;TZID=America/Chicago:20240917T181500
DTSTAMP:20260423T130139
CREATED:20240828T233406Z
LAST-MODIFIED:20240917T165136Z
UID:10000239-1726591500-1726596900@www.kusd.edu
SUMMARY:Softball (away) vs. Mahone
DESCRIPTION:
URL:https://www.kusd.edu/lance/event/softball-away-vs-mahone/
LOCATION:Indian Trail High School and Academy\, 6800 60th St\, Kenosha\, WI\, United States
GEO:42.581678;-87.890829
X-APPLE-STRUCTURED-LOCATION;VALUE=URI;X-ADDRESS=Indian Trail High School and Academy 6800 60th St Kenosha WI United States;X-APPLE-RADIUS=500;X-TITLE=6800 60th St:geo:-87.890829,42.581678
END:VEVENT
BEGIN:VEVENT
DTSTART;TZID=America/Chicago:20240918T171500
DTEND;TZID=America/Chicago:20240918T184500
DTSTAMP:20260423T130139
CREATED:20240828T233418Z
LAST-MODIFIED:20240918T164903Z
UID:10000240-1726679700-1726685100@www.kusd.edu
SUMMARY:Football (home) vs. Washington
DESCRIPTION:
URL:https://www.kusd.edu/lance/event/football-home-vs-washington/
LOCATION:Ameche Field\, 8701 26th Ave\, Kenosha\, WI\, United States
GEO:42.54837;-87.839946
X-APPLE-STRUCTURED-LOCATION;VALUE=URI;X-ADDRESS=Ameche Field 8701 26th Ave Kenosha WI United States;X-APPLE-RADIUS=500;X-TITLE=8701 26th Ave:geo:-87.839946,42.54837
END:VEVENT
BEGIN:VEVENT
DTSTART;VALUE=DATE:20240919
DTEND;VALUE=DATE:20240920
DTSTAMP:20260423T130139
CREATED:20240709T210456Z
LAST-MODIFIED:20240919T164917Z
UID:10000206-1726704000-1726790399@www.kusd.edu
SUMMARY:Picture Day
DESCRIPTION:
URL:https://www.kusd.edu/lance/event/picture-day/
END:VEVENT
BEGIN:VEVENT
DTSTART;TZID=America/Chicago:20240919T164500
DTEND;TZID=America/Chicago:20240919T181500
DTSTAMP:20260423T130139
CREATED:20240828T233418Z
LAST-MODIFIED:20240919T164917Z
UID:10000241-1726764300-1726769700@www.kusd.edu
SUMMARY:Softball (away) vs. Bullen
DESCRIPTION:
URL:https://www.kusd.edu/lance/event/softball-away-vs-bullen/
LOCATION:Bullen Middle School\, 2804 39th Ave\, Kenosha\, WI\, United States
GEO:42.612994;-87.855878
X-APPLE-STRUCTURED-LOCATION;VALUE=URI;X-ADDRESS=Bullen Middle School 2804 39th Ave Kenosha WI United States;X-APPLE-RADIUS=500;X-TITLE=2804 39th Ave:geo:-87.855878,42.612994
END:VEVENT
BEGIN:VEVENT
DTSTART;TZID=America/Chicago:20240920T150000
DTEND;TZID=America/Chicago:20240920T163000
DTSTAMP:20260423T130139
CREATED:20240912T162005Z
LAST-MODIFIED:20240920T164921Z
UID:10000253-1726844400-1726849800@www.kusd.edu
SUMMARY:Lance Social
DESCRIPTION:
URL:https://www.kusd.edu/lance/event/lance-social/
END:VEVENT
BEGIN:VEVENT
DTSTART;TZID=America/Chicago:20240921T090000
DTEND;TZID=America/Chicago:20240921T110000
DTSTAMP:20260423T130139
CREATED:20240828T233418Z
LAST-MODIFIED:20240920T164921Z
UID:10000242-1726909200-1726916400@www.kusd.edu
SUMMARY:JV Softball Tournament
DESCRIPTION:
URL:https://www.kusd.edu/lance/event/softball-tournament-2/
LOCATION:Bullen Middle School\, 2804 39th Ave\, Kenosha\, WI\, United States
GEO:42.612994;-87.855878
X-APPLE-STRUCTURED-LOCATION;VALUE=URI;X-ADDRESS=Bullen Middle School 2804 39th Ave Kenosha WI United States;X-APPLE-RADIUS=500;X-TITLE=2804 39th Ave:geo:-87.855878,42.612994
END:VEVENT
BEGIN:VEVENT
DTSTART;TZID=America/Chicago:20240924T164500
DTEND;TZID=America/Chicago:20240924T181500
DTSTAMP:20260423T130139
CREATED:20240828T233418Z
LAST-MODIFIED:20240924T170413Z
UID:10000243-1727196300-1727201700@www.kusd.edu
SUMMARY:Softball (home) vs. Washington
DESCRIPTION:
URL:https://www.kusd.edu/lance/event/softball-home-vs-washington/
LOCATION:Lance Middle School\, 4515 80th St\, Kenosha\, WI\, United States
GEO:42.559096;-87.861335
X-APPLE-STRUCTURED-LOCATION;VALUE=URI;X-ADDRESS=Lance Middle School 4515 80th St Kenosha WI United States;X-APPLE-RADIUS=500;X-TITLE=4515 80th St:geo:-87.861335,42.559096
END:VEVENT
BEGIN:VEVENT
DTSTART;TZID=America/Chicago:20240925T171500
DTEND;TZID=America/Chicago:20240925T184500
DTSTAMP:20260423T130139
CREATED:20240828T233418Z
LAST-MODIFIED:20240925T170438Z
UID:10000244-1727284500-1727289900@www.kusd.edu
SUMMARY:Football (away) vs. Bullen
DESCRIPTION:
URL:https://www.kusd.edu/lance/event/football-away-vs-bullen/
LOCATION:Bradford High School\, 3700 Washington Rd\, Kenosha\, WI\, United States
GEO:42.602717;-87.85215
X-APPLE-STRUCTURED-LOCATION;VALUE=URI;X-ADDRESS=Bradford High School 3700 Washington Rd Kenosha WI United States;X-APPLE-RADIUS=500;X-TITLE=3700 Washington Rd:geo:-87.85215,42.602717
END:VEVENT
BEGIN:VEVENT
DTSTART;TZID=America/Chicago:20240926T164500
DTEND;TZID=America/Chicago:20240926T181500
DTSTAMP:20260423T130139
CREATED:20240828T233418Z
LAST-MODIFIED:20240926T170403Z
UID:10000245-1727369100-1727374500@www.kusd.edu
SUMMARY:Softball (home) vs. Mahone
DESCRIPTION:
URL:https://www.kusd.edu/lance/event/softball-home-vs-mahone-2/
LOCATION:Lance Middle School\, 4515 80th St\, Kenosha\, WI\, United States
GEO:42.559096;-87.861335
X-APPLE-STRUCTURED-LOCATION;VALUE=URI;X-ADDRESS=Lance Middle School 4515 80th St Kenosha WI United States;X-APPLE-RADIUS=500;X-TITLE=4515 80th St:geo:-87.861335,42.559096
END:VEVENT
BEGIN:VEVENT
DTSTART;TZID=America/Chicago:20240927T183000
DTEND;TZID=America/Chicago:20240927T210000
DTSTAMP:20260423T130139
CREATED:20240912T162019Z
LAST-MODIFIED:20240927T170404Z
UID:10000254-1727461800-1727470800@www.kusd.edu
SUMMARY:NJHS - Feed My Starving Children
DESCRIPTION:
URL:https://www.kusd.edu/lance/event/njhs-feed-my-starving-children/
END:VEVENT
END:VCALENDAR