BEGIN:VCALENDAR
VERSION:2.0
PRODID:-//Lance Middle School - ECPv6.15.20//NONSGML v1.0//EN
CALSCALE:GREGORIAN
METHOD:PUBLISH
X-ORIGINAL-URL:https://www.kusd.edu/lance
X-WR-CALDESC:Events for Lance Middle School
REFRESH-INTERVAL;VALUE=DURATION:PT1H
X-Robots-Tag:noindex
X-PUBLISHED-TTL:PT1H
BEGIN:VTIMEZONE
TZID:America/Chicago
BEGIN:DAYLIGHT
TZOFFSETFROM:-0600
TZOFFSETTO:-0500
TZNAME:CDT
DTSTART:20230312T080000
END:DAYLIGHT
BEGIN:STANDARD
TZOFFSETFROM:-0500
TZOFFSETTO:-0600
TZNAME:CST
DTSTART:20231105T070000
END:STANDARD
BEGIN:DAYLIGHT
TZOFFSETFROM:-0600
TZOFFSETTO:-0500
TZNAME:CDT
DTSTART:20240310T080000
END:DAYLIGHT
BEGIN:STANDARD
TZOFFSETFROM:-0500
TZOFFSETTO:-0600
TZNAME:CST
DTSTART:20241103T070000
END:STANDARD
BEGIN:DAYLIGHT
TZOFFSETFROM:-0600
TZOFFSETTO:-0500
TZNAME:CDT
DTSTART:20250309T080000
END:DAYLIGHT
BEGIN:STANDARD
TZOFFSETFROM:-0500
TZOFFSETTO:-0600
TZNAME:CST
DTSTART:20251102T070000
END:STANDARD
END:VTIMEZONE
BEGIN:VEVENT
DTSTART;VALUE=DATE:20240329
DTEND;VALUE=DATE:20240408
DTSTAMP:20260423T204853
CREATED:20230630T164942Z
LAST-MODIFIED:20230630T164942Z
UID:10000041-1711670400-1712534399@www.kusd.edu
SUMMARY:Spring Break
DESCRIPTION:
URL:https://www.kusd.edu/lance/event/spring-break-2/
END:VEVENT
BEGIN:VEVENT
DTSTART;VALUE=DATE:20240329
DTEND;VALUE=DATE:20240408
DTSTAMP:20260423T204853
CREATED:20240124T223448Z
LAST-MODIFIED:20240318T170520Z
UID:10000157-1711670400-1712534399@www.kusd.edu
SUMMARY:Spring Break
DESCRIPTION:
URL:https://www.kusd.edu/lance/event/spring-break-3/
END:VEVENT
BEGIN:VEVENT
DTSTART;TZID=America/Chicago:20240410T171500
DTEND;TZID=America/Chicago:20240410T181500
DTSTAMP:20260423T204853
CREATED:20240124T223448Z
LAST-MODIFIED:20240318T170520Z
UID:10000159-1712769300-1712772900@www.kusd.edu
SUMMARY:Track Meet at Bradford
DESCRIPTION:
URL:https://www.kusd.edu/lance/event/track-meet-at-bradford/
END:VEVENT
BEGIN:VEVENT
DTSTART;TZID=America/Chicago:20240410T171500
DTEND;TZID=America/Chicago:20240410T183000
DTSTAMP:20260423T204853
CREATED:20240124T223448Z
LAST-MODIFIED:20240408T150244Z
UID:10000158-1712769300-1712773800@www.kusd.edu
SUMMARY:Volleyball home vs. Washington
DESCRIPTION:
URL:https://www.kusd.edu/lance/event/volleyball-home-vs-washington/
END:VEVENT
BEGIN:VEVENT
DTSTART;TZID=America/Chicago:20240413T060000
DTEND;TZID=America/Chicago:20240413T180000
DTSTAMP:20260423T204853
CREATED:20240124T223448Z
LAST-MODIFIED:20240413T160437Z
UID:10000160-1712988000-1713031200@www.kusd.edu
SUMMARY:WSMA Middle Level Auditions at Lance
DESCRIPTION:
URL:https://www.kusd.edu/lance/event/wsma-middle-level-auditions-at-lance/
END:VEVENT
BEGIN:VEVENT
DTSTART;TZID=America/Chicago:20240415T171500
DTEND;TZID=America/Chicago:20240415T181500
DTSTAMP:20260423T204853
CREATED:20240124T223448Z
LAST-MODIFIED:20240415T162127Z
UID:10000161-1713201300-1713204900@www.kusd.edu
SUMMARY:Volleyball at Bullen
DESCRIPTION:
URL:https://www.kusd.edu/lance/event/volleyball-at-bullen/
END:VEVENT
BEGIN:VEVENT
DTSTART;TZID=America/Chicago:20240416T163000
DTEND;TZID=America/Chicago:20240416T183000
DTSTAMP:20260423T204853
CREATED:20240301T161918Z
LAST-MODIFIED:20240416T163431Z
UID:10000178-1713285000-1713292200@www.kusd.edu
SUMMARY:Lance Cheer Tryout Clinic
DESCRIPTION:
URL:https://www.kusd.edu/lance/event/lance-cheer-tryout-clinic/
END:VEVENT
BEGIN:VEVENT
DTSTART;TZID=America/Chicago:20240416T170000
DTEND;TZID=America/Chicago:20240416T180000
DTSTAMP:20260423T204853
CREATED:20240301T161918Z
LAST-MODIFIED:20240416T163431Z
UID:10000179-1713286800-1713290400@www.kusd.edu
SUMMARY:DC family meeting
DESCRIPTION:
URL:https://www.kusd.edu/lance/event/dc-family-meeting/
END:VEVENT
BEGIN:VEVENT
DTSTART;TZID=America/Chicago:20240417T171500
DTEND;TZID=America/Chicago:20240417T181500
DTSTAMP:20260423T204853
CREATED:20240124T223448Z
LAST-MODIFIED:20240417T163436Z
UID:10000162-1713374100-1713377700@www.kusd.edu
SUMMARY:Track Meet at Bradford
DESCRIPTION:
URL:https://www.kusd.edu/lance/event/track-meet-at-bradford-2/
END:VEVENT
BEGIN:VEVENT
DTSTART;TZID=America/Chicago:20240417T171500
DTEND;TZID=America/Chicago:20240417T181500
DTSTAMP:20260423T204853
CREATED:20240124T223448Z
LAST-MODIFIED:20240417T163436Z
UID:10000163-1713374100-1713377700@www.kusd.edu
SUMMARY:Volleyball at Mahone
DESCRIPTION:
URL:https://www.kusd.edu/lance/event/volleyball-at-mahone/
END:VEVENT
BEGIN:VEVENT
DTSTART;TZID=America/Chicago:20240418T163000
DTEND;TZID=America/Chicago:20240418T190000
DTSTAMP:20260423T204853
CREATED:20240301T161918Z
LAST-MODIFIED:20240418T163510Z
UID:10000180-1713457800-1713466800@www.kusd.edu
SUMMARY:Lance Cheer Tryouts
DESCRIPTION:
URL:https://www.kusd.edu/lance/event/lance-cheer-tryouts/
END:VEVENT
BEGIN:VEVENT
DTSTART;TZID=America/Chicago:20240424T171500
DTEND;TZID=America/Chicago:20240424T181500
DTSTAMP:20260423T204853
CREATED:20240124T223448Z
LAST-MODIFIED:20240424T170451Z
UID:10000165-1713978900-1713982500@www.kusd.edu
SUMMARY:Track Meet at Bradford
DESCRIPTION:
URL:https://www.kusd.edu/lance/event/track-meet-at-bradford-3/
END:VEVENT
BEGIN:VEVENT
DTSTART;TZID=America/Chicago:20240425T171500
DTEND;TZID=America/Chicago:20240425T181500
DTSTAMP:20260423T204853
CREATED:20240124T223448Z
LAST-MODIFIED:20240425T170413Z
UID:10000164-1714065300-1714068900@www.kusd.edu
SUMMARY:Volleyball home vs. Lincoln
DESCRIPTION:
URL:https://www.kusd.edu/lance/event/volleyball-home-vs-lincoln/
END:VEVENT
BEGIN:VEVENT
DTSTART;TZID=America/Chicago:20240429T171500
DTEND;TZID=America/Chicago:20240429T181500
DTSTAMP:20260423T204853
CREATED:20240124T223448Z
LAST-MODIFIED:20240429T170722Z
UID:10000166-1714410900-1714414500@www.kusd.edu
SUMMARY:Volleyball at Washington
DESCRIPTION:
URL:https://www.kusd.edu/lance/event/volleyball-home-vs-washington-2/
END:VEVENT
END:VCALENDAR