BEGIN:VCALENDAR
VERSION:2.0
PRODID:-//Lance Middle School - ECPv6.15.20//NONSGML v1.0//EN
CALSCALE:GREGORIAN
METHOD:PUBLISH
X-WR-CALNAME:Lance Middle School
X-ORIGINAL-URL:https://www.kusd.edu/lance
X-WR-CALDESC:Events for Lance Middle School
REFRESH-INTERVAL;VALUE=DURATION:PT1H
X-Robots-Tag:noindex
X-PUBLISHED-TTL:PT1H
BEGIN:VTIMEZONE
TZID:America/Chicago
BEGIN:DAYLIGHT
TZOFFSETFROM:-0600
TZOFFSETTO:-0500
TZNAME:CDT
DTSTART:20230312T080000
END:DAYLIGHT
BEGIN:STANDARD
TZOFFSETFROM:-0500
TZOFFSETTO:-0600
TZNAME:CST
DTSTART:20231105T070000
END:STANDARD
BEGIN:DAYLIGHT
TZOFFSETFROM:-0600
TZOFFSETTO:-0500
TZNAME:CDT
DTSTART:20240310T080000
END:DAYLIGHT
BEGIN:STANDARD
TZOFFSETFROM:-0500
TZOFFSETTO:-0600
TZNAME:CST
DTSTART:20241103T070000
END:STANDARD
BEGIN:DAYLIGHT
TZOFFSETFROM:-0600
TZOFFSETTO:-0500
TZNAME:CDT
DTSTART:20250309T080000
END:DAYLIGHT
BEGIN:STANDARD
TZOFFSETFROM:-0500
TZOFFSETTO:-0600
TZNAME:CST
DTSTART:20251102T070000
END:STANDARD
END:VTIMEZONE
BEGIN:VEVENT
DTSTART;TZID=America/Chicago:20240205T171500
DTEND;TZID=America/Chicago:20240205T181500
DTSTAMP:20260424T010450
CREATED:20240124T223447Z
LAST-MODIFIED:20240205T224922Z
UID:10000142-1707153300-1707156900@www.kusd.edu
SUMMARY:Boys BB at Washington
DESCRIPTION:
URL:https://www.kusd.edu/lance/event/boys-bb-at-washington/
END:VEVENT
BEGIN:VEVENT
DTSTART;TZID=America/Chicago:20240207T171500
DTEND;TZID=America/Chicago:20240207T181500
DTSTAMP:20260424T010450
CREATED:20240124T223447Z
LAST-MODIFIED:20240207T230430Z
UID:10000143-1707326100-1707329700@www.kusd.edu
SUMMARY:Boys BB home vs. Bullen
DESCRIPTION:
URL:https://www.kusd.edu/lance/event/boys-bb-home-vs-bullen/
END:VEVENT
BEGIN:VEVENT
DTSTART;TZID=America/Chicago:20240210T183000
DTEND;TZID=America/Chicago:20240210T200000
DTSTAMP:20260424T010450
CREATED:20240124T223447Z
LAST-MODIFIED:20240210T233705Z
UID:10000144-1707589800-1707595200@www.kusd.edu
SUMMARY:Choral Festival
DESCRIPTION:
URL:https://www.kusd.edu/lance/event/choral-festival/
END:VEVENT
BEGIN:VEVENT
DTSTART;TZID=America/Chicago:20240212T171500
DTEND;TZID=America/Chicago:20240212T181500
DTSTAMP:20260424T010450
CREATED:20240124T223447Z
LAST-MODIFIED:20240212T234919Z
UID:10000145-1707758100-1707761700@www.kusd.edu
SUMMARY:Boys BB home vs Mahone
DESCRIPTION:
URL:https://www.kusd.edu/lance/event/boys-bb-home-vs-mahone/
END:VEVENT
BEGIN:VEVENT
DTSTART;TZID=America/Chicago:20240213T170000
DTEND;TZID=America/Chicago:20240213T190000
DTSTAMP:20260424T010450
CREATED:20230915T195219Z
LAST-MODIFIED:20240213T234920Z
UID:10000092-1707843600-1707850800@www.kusd.edu
SUMMARY:Parent Teacher Conferences
DESCRIPTION:
URL:https://www.kusd.edu/lance/event/parent-teacher-conferences-7/
END:VEVENT
BEGIN:VEVENT
DTSTART;TZID=America/Chicago:20240215T170000
DTEND;TZID=America/Chicago:20240215T190000
DTSTAMP:20260424T010450
CREATED:20230915T195219Z
LAST-MODIFIED:20240215T234902Z
UID:10000094-1708016400-1708023600@www.kusd.edu
SUMMARY:Parent Teacher Conferences
DESCRIPTION:
URL:https://www.kusd.edu/lance/event/parent-teacher-conferences-8/
END:VEVENT
BEGIN:VEVENT
DTSTART;VALUE=DATE:20240216
DTEND;VALUE=DATE:20240217
DTSTAMP:20260424T010450
CREATED:20230630T164700Z
LAST-MODIFIED:20230630T164700Z
UID:10000037-1708041600-1708127999@www.kusd.edu
SUMMARY:NO SCHOOL
DESCRIPTION:No school for students.
URL:https://www.kusd.edu/lance/event/no-school-6/
END:VEVENT
BEGIN:VEVENT
DTSTART;TZID=America/Chicago:20240219T171500
DTEND;TZID=America/Chicago:20240219T181500
DTSTAMP:20260424T010450
CREATED:20240124T223448Z
LAST-MODIFIED:20240220T000405Z
UID:10000146-1708362900-1708366500@www.kusd.edu
SUMMARY:Boys BB home vs. Lincoln
DESCRIPTION:
URL:https://www.kusd.edu/lance/event/boys-bb-home-vs-lincoln/
END:VEVENT
BEGIN:VEVENT
DTSTART;TZID=America/Chicago:20240221T171500
DTEND;TZID=America/Chicago:20240221T181500
DTSTAMP:20260424T010450
CREATED:20240124T223448Z
LAST-MODIFIED:20240222T000534Z
UID:10000147-1708535700-1708539300@www.kusd.edu
SUMMARY:Boys BB home vs. Washington
DESCRIPTION:
URL:https://www.kusd.edu/lance/event/boys-bb-home-vs-washington/
END:VEVENT
BEGIN:VEVENT
DTSTART;TZID=America/Chicago:20240222T160000
DTEND;TZID=America/Chicago:20240222T173000
DTSTAMP:20260424T010450
CREATED:20240124T223448Z
LAST-MODIFIED:20240222T015110Z
UID:10000148-1708617600-1708623000@www.kusd.edu
SUMMARY:Social (Cheerleading)
DESCRIPTION:
URL:https://www.kusd.edu/lance/event/social-cheerleading/
END:VEVENT
BEGIN:VEVENT
DTSTART;TZID=America/Chicago:20240226T171500
DTEND;TZID=America/Chicago:20240226T181500
DTSTAMP:20260424T010450
CREATED:20240124T223448Z
LAST-MODIFIED:20240227T000443Z
UID:10000149-1708967700-1708971300@www.kusd.edu
SUMMARY:Boys BB at Bullen
DESCRIPTION:
URL:https://www.kusd.edu/lance/event/boys-bb-at-bullen/
END:VEVENT
BEGIN:VEVENT
DTSTART;TZID=America/Chicago:20240228T171500
DTEND;TZID=America/Chicago:20240228T181500
DTSTAMP:20260424T010450
CREATED:20240124T223448Z
LAST-MODIFIED:20240228T160800Z
UID:10000150-1709140500-1709144100@www.kusd.edu
SUMMARY:Boys BB at Mahone
DESCRIPTION:
URL:https://www.kusd.edu/lance/event/boys-bb-at-mahone-2/
END:VEVENT
BEGIN:VEVENT
DTSTART;TZID=America/Chicago:20240229T190000
DTEND;TZID=America/Chicago:20240229T200000
DTSTAMP:20260424T010450
CREATED:20240124T223448Z
LAST-MODIFIED:20240229T161923Z
UID:10000151-1709233200-1709236800@www.kusd.edu
SUMMARY:Middle School Jazz Night
DESCRIPTION:
URL:https://www.kusd.edu/lance/event/middle-school-jazz-night/
END:VEVENT
END:VCALENDAR