BEGIN:VCALENDAR
VERSION:2.0
PRODID:-//Lance Middle School - ECPv6.15.20//NONSGML v1.0//EN
CALSCALE:GREGORIAN
METHOD:PUBLISH
X-ORIGINAL-URL:https://www.kusd.edu/lance
X-WR-CALDESC:Events for Lance Middle School
REFRESH-INTERVAL;VALUE=DURATION:PT1H
X-Robots-Tag:noindex
X-PUBLISHED-TTL:PT1H
BEGIN:VTIMEZONE
TZID:America/Chicago
BEGIN:DAYLIGHT
TZOFFSETFROM:-0600
TZOFFSETTO:-0500
TZNAME:CDT
DTSTART:20250309T080000
END:DAYLIGHT
BEGIN:STANDARD
TZOFFSETFROM:-0500
TZOFFSETTO:-0600
TZNAME:CST
DTSTART:20251102T070000
END:STANDARD
BEGIN:DAYLIGHT
TZOFFSETFROM:-0600
TZOFFSETTO:-0500
TZNAME:CDT
DTSTART:20260308T080000
END:DAYLIGHT
BEGIN:STANDARD
TZOFFSETFROM:-0500
TZOFFSETTO:-0600
TZNAME:CST
DTSTART:20261101T070000
END:STANDARD
BEGIN:DAYLIGHT
TZOFFSETFROM:-0600
TZOFFSETTO:-0500
TZNAME:CDT
DTSTART:20270314T080000
END:DAYLIGHT
BEGIN:STANDARD
TZOFFSETFROM:-0500
TZOFFSETTO:-0600
TZNAME:CST
DTSTART:20271107T070000
END:STANDARD
END:VTIMEZONE
BEGIN:VEVENT
DTSTART;TZID=America/Chicago:20260429T171500
DTEND;TZID=America/Chicago:20260429T191500
DTSTAMP:20260422T130604
CREATED:20260317T224935Z
LAST-MODIFIED:20260421T234916Z
UID:10000598-1777482900-1777490100@www.kusd.edu
SUMMARY:Track Meet at Tremper
DESCRIPTION:
URL:https://www.kusd.edu/lance/event/track-meet-at-tremper-3/
LOCATION:Ameche Field\, 8701 26th Ave\, Kenosha\, WI\, United States
GEO:42.54837;-87.839946
X-APPLE-STRUCTURED-LOCATION;VALUE=URI;X-ADDRESS=Ameche Field 8701 26th Ave Kenosha WI United States;X-APPLE-RADIUS=500;X-TITLE=8701 26th Ave:geo:-87.839946,42.54837
END:VEVENT
BEGIN:VEVENT
DTSTART;TZID=America/Chicago:20260429T190000
DTEND;TZID=America/Chicago:20260429T200000
DTSTAMP:20260422T130604
CREATED:20250822T174950Z
LAST-MODIFIED:20260421T234916Z
UID:10000389-1777489200-1777492800@www.kusd.edu
SUMMARY:Southside Spring Jazz Concert
DESCRIPTION:
URL:https://www.kusd.edu/lance/event/southside-spring-jazz-concert/
LOCATION:Tremper High School\, 8560 26th Ave\, Kenosha\, WI\, United States
GEO:42.550503;-87.840154
X-APPLE-STRUCTURED-LOCATION;VALUE=URI;X-ADDRESS=Tremper High School 8560 26th Ave Kenosha WI United States;X-APPLE-RADIUS=500;X-TITLE=8560 26th Ave:geo:-87.840154,42.550503
END:VEVENT
END:VCALENDAR