BEGIN:VCALENDAR
VERSION:2.0
PRODID:-//Lance Middle School - ECPv6.15.20//NONSGML v1.0//EN
CALSCALE:GREGORIAN
METHOD:PUBLISH
X-WR-CALNAME:Lance Middle School
X-ORIGINAL-URL:https://www.kusd.edu/lance
X-WR-CALDESC:Events for Lance Middle School
REFRESH-INTERVAL;VALUE=DURATION:PT1H
X-Robots-Tag:noindex
X-PUBLISHED-TTL:PT1H
BEGIN:VTIMEZONE
TZID:America/Chicago
BEGIN:DAYLIGHT
TZOFFSETFROM:-0600
TZOFFSETTO:-0500
TZNAME:CDT
DTSTART:20250309T080000
END:DAYLIGHT
BEGIN:STANDARD
TZOFFSETFROM:-0500
TZOFFSETTO:-0600
TZNAME:CST
DTSTART:20251102T070000
END:STANDARD
BEGIN:DAYLIGHT
TZOFFSETFROM:-0600
TZOFFSETTO:-0500
TZNAME:CDT
DTSTART:20260308T080000
END:DAYLIGHT
BEGIN:STANDARD
TZOFFSETFROM:-0500
TZOFFSETTO:-0600
TZNAME:CST
DTSTART:20261101T070000
END:STANDARD
BEGIN:DAYLIGHT
TZOFFSETFROM:-0600
TZOFFSETTO:-0500
TZNAME:CDT
DTSTART:20270314T080000
END:DAYLIGHT
BEGIN:STANDARD
TZOFFSETFROM:-0500
TZOFFSETTO:-0600
TZNAME:CST
DTSTART:20271107T070000
END:STANDARD
END:VTIMEZONE
BEGIN:VEVENT
DTSTART;TZID=America/Chicago:20260428T171500
DTEND;TZID=America/Chicago:20260428T184500
DTSTAMP:20260422T130552
CREATED:20260317T224923Z
LAST-MODIFIED:20260421T234916Z
UID:10000597-1777396500-1777401900@www.kusd.edu
SUMMARY:Volleyball at Washington
DESCRIPTION:
URL:https://www.kusd.edu/lance/event/volleyball-at-washington-3/
LOCATION:Washington Middle School\, 2600 50th St\, Kenosha\, WI\, United States
GEO:42.5909;-87.840524
X-APPLE-STRUCTURED-LOCATION;VALUE=URI;X-ADDRESS=Washington Middle School 2600 50th St Kenosha WI United States;X-APPLE-RADIUS=500;X-TITLE=2600 50th St:geo:-87.840524,42.5909
END:VEVENT
BEGIN:VEVENT
DTSTART;TZID=America/Chicago:20260428T190000
DTEND;TZID=America/Chicago:20260428T220000
DTSTAMP:20260422T130552
CREATED:20260109T190504Z
LAST-MODIFIED:20260421T233403Z
UID:10000558-1777402800-1777413600@www.kusd.edu
SUMMARY:Regular School Board Meeting
DESCRIPTION:
URL:https://www.kusd.edu/lance/event/regular-school-board-meeting-8/
LOCATION:KUSD Educational Support Center\, 3600 52nd St\, Kenosha\, WI\, United States
GEO:42.588266;-87.852374
X-APPLE-STRUCTURED-LOCATION;VALUE=URI;X-ADDRESS=KUSD Educational Support Center 3600 52nd St Kenosha WI United States;X-APPLE-RADIUS=500;X-TITLE=3600 52nd St:geo:-87.852374,42.588266
END:VEVENT
END:VCALENDAR