BEGIN:VCALENDAR
VERSION:2.0
PRODID:-//Lance Middle School - ECPv6.15.20//NONSGML v1.0//EN
CALSCALE:GREGORIAN
METHOD:PUBLISH
X-WR-CALNAME:Lance Middle School
X-ORIGINAL-URL:https://www.kusd.edu/lance
X-WR-CALDESC:Events for Lance Middle School
REFRESH-INTERVAL;VALUE=DURATION:PT1H
X-Robots-Tag:noindex
X-PUBLISHED-TTL:PT1H
BEGIN:VTIMEZONE
TZID:America/Chicago
BEGIN:DAYLIGHT
TZOFFSETFROM:-0600
TZOFFSETTO:-0500
TZNAME:CDT
DTSTART:20250309T080000
END:DAYLIGHT
BEGIN:STANDARD
TZOFFSETFROM:-0500
TZOFFSETTO:-0600
TZNAME:CST
DTSTART:20251102T070000
END:STANDARD
BEGIN:DAYLIGHT
TZOFFSETFROM:-0600
TZOFFSETTO:-0500
TZNAME:CDT
DTSTART:20260308T080000
END:DAYLIGHT
BEGIN:STANDARD
TZOFFSETFROM:-0500
TZOFFSETTO:-0600
TZNAME:CST
DTSTART:20261101T070000
END:STANDARD
BEGIN:DAYLIGHT
TZOFFSETFROM:-0600
TZOFFSETTO:-0500
TZNAME:CDT
DTSTART:20270314T080000
END:DAYLIGHT
BEGIN:STANDARD
TZOFFSETFROM:-0500
TZOFFSETTO:-0600
TZNAME:CST
DTSTART:20271107T070000
END:STANDARD
END:VTIMEZONE
BEGIN:VEVENT
DTSTART;VALUE=DATE:20260401
DTEND;VALUE=DATE:20260402
DTSTAMP:20260422T130552
CREATED:20250709T233443Z
LAST-MODIFIED:20260401T161908Z
UID:10000358-1775001600-1775087999@www.kusd.edu
SUMMARY:End of Quarter 3
DESCRIPTION:
URL:https://www.kusd.edu/lance/event/end-of-quarter-3-4/
END:VEVENT
BEGIN:VEVENT
DTSTART;VALUE=DATE:20260401
DTEND;VALUE=DATE:20260402
DTSTAMP:20260422T130552
CREATED:20250910T172006Z
LAST-MODIFIED:20260401T223411Z
UID:10000451-1775001600-1775087999@www.kusd.edu
SUMMARY:Third Quarter Ends
DESCRIPTION:
URL:https://www.kusd.edu/lance/event/third-quarter-ends/
END:VEVENT
BEGIN:VEVENT
DTSTART;TZID=America/Chicago:20260401T074500
DTEND;TZID=America/Chicago:20260401T083000
DTSTAMP:20260422T130552
CREATED:20251103T203500Z
LAST-MODIFIED:20260331T160427Z
UID:10000512-1775029500-1775032200@www.kusd.edu
SUMMARY:Lance MS Student Council Meeting
DESCRIPTION:Enter at door #2
URL:https://www.kusd.edu/lance/event/lance-ms-student-council-meeting-10/
END:VEVENT
BEGIN:VEVENT
DTSTART;TZID=America/Chicago:20260401T171500
DTEND;TZID=America/Chicago:20260401T184500
DTSTAMP:20260422T130552
CREATED:20260317T224910Z
LAST-MODIFIED:20260401T161908Z
UID:10000591-1775063700-1775069100@www.kusd.edu
SUMMARY:Volleyball home vs. Mahone
DESCRIPTION:
URL:https://www.kusd.edu/lance/event/volleyball-home-vs-mahone-3/
END:VEVENT
BEGIN:VEVENT
DTSTART;TZID=America/Chicago:20260401T171500
DTEND;TZID=America/Chicago:20260401T191500
DTSTAMP:20260422T130552
CREATED:20260317T224910Z
LAST-MODIFIED:20260401T185453Z
UID:10000592-1775063700-1775070900@www.kusd.edu
SUMMARY:Track Meet at Bradford (CANCELED due to weather)
DESCRIPTION:
URL:https://www.kusd.edu/lance/event/track-meet-at-bradford-4/
LOCATION:Bradford HS
END:VEVENT
END:VCALENDAR