BEGIN:VCALENDAR
VERSION:2.0
PRODID:-//Lance Middle School - ECPv6.15.20//NONSGML v1.0//EN
CALSCALE:GREGORIAN
METHOD:PUBLISH
X-ORIGINAL-URL:https://www.kusd.edu/lance
X-WR-CALDESC:Events for Lance Middle School
REFRESH-INTERVAL;VALUE=DURATION:PT1H
X-Robots-Tag:noindex
X-PUBLISHED-TTL:PT1H
BEGIN:VTIMEZONE
TZID:America/Chicago
BEGIN:DAYLIGHT
TZOFFSETFROM:-0600
TZOFFSETTO:-0500
TZNAME:CDT
DTSTART:20240310T080000
END:DAYLIGHT
BEGIN:STANDARD
TZOFFSETFROM:-0500
TZOFFSETTO:-0600
TZNAME:CST
DTSTART:20241103T070000
END:STANDARD
BEGIN:DAYLIGHT
TZOFFSETFROM:-0600
TZOFFSETTO:-0500
TZNAME:CDT
DTSTART:20250309T080000
END:DAYLIGHT
BEGIN:STANDARD
TZOFFSETFROM:-0500
TZOFFSETTO:-0600
TZNAME:CST
DTSTART:20251102T070000
END:STANDARD
BEGIN:DAYLIGHT
TZOFFSETFROM:-0600
TZOFFSETTO:-0500
TZNAME:CDT
DTSTART:20260308T080000
END:DAYLIGHT
BEGIN:STANDARD
TZOFFSETFROM:-0500
TZOFFSETTO:-0600
TZNAME:CST
DTSTART:20261101T070000
END:STANDARD
END:VTIMEZONE
BEGIN:VEVENT
DTSTART;VALUE=DATE:20251020
DTEND;VALUE=DATE:20251021
DTSTAMP:20260422T212947
CREATED:20251001T200415Z
LAST-MODIFIED:20251020T203404Z
UID:10000467-1760918400-1761004799@www.kusd.edu
SUMMARY:Girls Basketball Starts
DESCRIPTION:
URL:https://www.kusd.edu/lance/event/girls-basketball-starts/
END:VEVENT
BEGIN:VEVENT
DTSTART;VALUE=DATE:20251020
DTEND;VALUE=DATE:20251025
DTSTAMP:20260422T212947
CREATED:20251020T203404Z
LAST-MODIFIED:20251024T203417Z
UID:10000502-1760918400-1761350399@www.kusd.edu
SUMMARY:Spirit Week
DESCRIPTION:Monday – Lance Day (wear your Lance shirt\, or school colors)Tuesday – Hawaiian DayWednesday – Whacky Wednesday (students dress like a teacher\, and teachers dress like a student)Thursday – Sports Day (wear your favorite sports team shirt/ jersey)Friday– Grade-level Day \n\n6th – wear YELLOW\n7th – wear RED\n8th – wear BLUE
URL:https://www.kusd.edu/lance/event/spirit-week-2/
END:VEVENT
BEGIN:VEVENT
DTSTART;TZID=America/Chicago:20251020T170000
DTEND;TZID=America/Chicago:20251020T200000
DTSTAMP:20260422T212947
CREATED:20251003T200405Z
LAST-MODIFIED:20251020T203404Z
UID:10000484-1760979600-1760990400@www.kusd.edu
SUMMARY:DC Culver's Night on Sheridan Road
DESCRIPTION:
URL:https://www.kusd.edu/lance/event/dc-culvers-night-on-sheridan-road/
END:VEVENT
END:VCALENDAR