BEGIN:VCALENDAR
VERSION:2.0
PRODID:-//Lance Middle School - ECPv6.15.20//NONSGML v1.0//EN
CALSCALE:GREGORIAN
METHOD:PUBLISH
X-ORIGINAL-URL:https://www.kusd.edu/lance
X-WR-CALDESC:Events for Lance Middle School
REFRESH-INTERVAL;VALUE=DURATION:PT1H
X-Robots-Tag:noindex
X-PUBLISHED-TTL:PT1H
BEGIN:VTIMEZONE
TZID:America/Chicago
BEGIN:DAYLIGHT
TZOFFSETFROM:-0600
TZOFFSETTO:-0500
TZNAME:CDT
DTSTART:20230312T080000
END:DAYLIGHT
BEGIN:STANDARD
TZOFFSETFROM:-0500
TZOFFSETTO:-0600
TZNAME:CST
DTSTART:20231105T070000
END:STANDARD
BEGIN:DAYLIGHT
TZOFFSETFROM:-0600
TZOFFSETTO:-0500
TZNAME:CDT
DTSTART:20240310T080000
END:DAYLIGHT
BEGIN:STANDARD
TZOFFSETFROM:-0500
TZOFFSETTO:-0600
TZNAME:CST
DTSTART:20241103T070000
END:STANDARD
BEGIN:DAYLIGHT
TZOFFSETFROM:-0600
TZOFFSETTO:-0500
TZNAME:CDT
DTSTART:20250309T080000
END:DAYLIGHT
BEGIN:STANDARD
TZOFFSETFROM:-0500
TZOFFSETTO:-0600
TZNAME:CST
DTSTART:20251102T070000
END:STANDARD
END:VTIMEZONE
BEGIN:VEVENT
DTSTART;TZID=America/Chicago:20241012T080000
DTEND;TZID=America/Chicago:20241012T120000
DTSTAMP:20260423T130140
CREATED:20240828T233418Z
LAST-MODIFIED:20241011T190403Z
UID:10000248-1728720000-1728734400@www.kusd.edu
SUMMARY:Softball Tournament
DESCRIPTION:1 Seed Bullen \n2 Seed Mahone 1 \n3 Seed Lance \n4 Seed Mahone 2 \nHere is the schedule: \n8 AM \nGame 1\, Varsity Field Turf – Bullen vs. Mahone 2 \nGame 2\, JV Field Dirt – Lance vs. Mahone 1 \n10 AM \nGame 3\, Varsity Field Turf – winners of game 1 and 2 \nGame 4\, JV Field Dirt4 – losers for game 1 and 2
URL:https://www.kusd.edu/lance/event/softball-tournament-3/
LOCATION:Tremper – Anderson Field #2
END:VEVENT
END:VCALENDAR