BEGIN:VCALENDAR
VERSION:2.0
PRODID:-//Lance Middle School - ECPv6.15.20//NONSGML v1.0//EN
CALSCALE:GREGORIAN
METHOD:PUBLISH
X-ORIGINAL-URL:https://www.kusd.edu/lance
X-WR-CALDESC:Events for Lance Middle School
REFRESH-INTERVAL;VALUE=DURATION:PT1H
X-Robots-Tag:noindex
X-PUBLISHED-TTL:PT1H
BEGIN:VTIMEZONE
TZID:America/Chicago
BEGIN:DAYLIGHT
TZOFFSETFROM:-0600
TZOFFSETTO:-0500
TZNAME:CDT
DTSTART:20230312T080000
END:DAYLIGHT
BEGIN:STANDARD
TZOFFSETFROM:-0500
TZOFFSETTO:-0600
TZNAME:CST
DTSTART:20231105T070000
END:STANDARD
BEGIN:DAYLIGHT
TZOFFSETFROM:-0600
TZOFFSETTO:-0500
TZNAME:CDT
DTSTART:20240310T080000
END:DAYLIGHT
BEGIN:STANDARD
TZOFFSETFROM:-0500
TZOFFSETTO:-0600
TZNAME:CST
DTSTART:20241103T070000
END:STANDARD
BEGIN:DAYLIGHT
TZOFFSETFROM:-0600
TZOFFSETTO:-0500
TZNAME:CDT
DTSTART:20250309T080000
END:DAYLIGHT
BEGIN:STANDARD
TZOFFSETFROM:-0500
TZOFFSETTO:-0600
TZNAME:CST
DTSTART:20251102T070000
END:STANDARD
END:VTIMEZONE
BEGIN:VEVENT
DTSTART;TZID=America/Chicago:20241008T160000
DTEND;TZID=America/Chicago:20241008T173000
DTSTAMP:20260423T130141
CREATED:20240920T164932Z
LAST-MODIFIED:20241008T183436Z
UID:10000286-1728403200-1728408600@www.kusd.edu
SUMMARY:Boys Basketball Open Gym (7th and 8th grade boys)
DESCRIPTION:
URL:https://www.kusd.edu/lance/event/boys-basketball-open-gym-7th-and-8th-grade-boys-3/
END:VEVENT
BEGIN:VEVENT
DTSTART;TZID=America/Chicago:20241008T164500
DTEND;TZID=America/Chicago:20241008T174500
DTSTAMP:20260423T130141
CREATED:20240909T160442Z
LAST-MODIFIED:20241008T183436Z
UID:10000252-1728405900-1728409500@www.kusd.edu
SUMMARY:Softball (away) vs. Mahone
DESCRIPTION:
URL:https://www.kusd.edu/lance/event/softball-away-vs-mahone-2/
END:VEVENT
END:VCALENDAR