BEGIN:VCALENDAR
VERSION:2.0
PRODID:-//Lance Middle School - ECPv6.15.20//NONSGML v1.0//EN
CALSCALE:GREGORIAN
METHOD:PUBLISH
X-WR-CALNAME:Lance Middle School
X-ORIGINAL-URL:https://www.kusd.edu/lance
X-WR-CALDESC:Events for Lance Middle School
REFRESH-INTERVAL;VALUE=DURATION:PT1H
X-Robots-Tag:noindex
X-PUBLISHED-TTL:PT1H
BEGIN:VTIMEZONE
TZID:America/Chicago
BEGIN:DAYLIGHT
TZOFFSETFROM:-0600
TZOFFSETTO:-0500
TZNAME:CDT
DTSTART:20230312T080000
END:DAYLIGHT
BEGIN:STANDARD
TZOFFSETFROM:-0500
TZOFFSETTO:-0600
TZNAME:CST
DTSTART:20231105T070000
END:STANDARD
BEGIN:DAYLIGHT
TZOFFSETFROM:-0600
TZOFFSETTO:-0500
TZNAME:CDT
DTSTART:20240310T080000
END:DAYLIGHT
BEGIN:STANDARD
TZOFFSETFROM:-0500
TZOFFSETTO:-0600
TZNAME:CST
DTSTART:20241103T070000
END:STANDARD
BEGIN:DAYLIGHT
TZOFFSETFROM:-0600
TZOFFSETTO:-0500
TZNAME:CDT
DTSTART:20250309T080000
END:DAYLIGHT
BEGIN:STANDARD
TZOFFSETFROM:-0500
TZOFFSETTO:-0600
TZNAME:CST
DTSTART:20251102T070000
END:STANDARD
END:VTIMEZONE
BEGIN:VEVENT
DTSTART;TZID=America/Chicago:20241003T160000
DTEND;TZID=America/Chicago:20241003T173000
DTSTAMP:20260423T130101
CREATED:20240920T164921Z
LAST-MODIFIED:20241003T180440Z
UID:10000284-1727971200-1727976600@www.kusd.edu
SUMMARY:Boys Basketball Open Gym (7th and 8th grade boys)
DESCRIPTION:
URL:https://www.kusd.edu/lance/event/boys-basketball-open-gym-7th-and-8th-grade-boys/
END:VEVENT
BEGIN:VEVENT
DTSTART;TZID=America/Chicago:20241003T164500
DTEND;TZID=America/Chicago:20241003T174500
DTSTAMP:20260423T130101
CREATED:20240909T160442Z
LAST-MODIFIED:20241003T180440Z
UID:10000251-1727973900-1727977500@www.kusd.edu
SUMMARY:Softball (home) vs. Mahone 2/ Washington JV
DESCRIPTION:
URL:https://www.kusd.edu/lance/event/softball-home-vs-mahone-2-washington-jv-2/
END:VEVENT
END:VCALENDAR