BEGIN:VCALENDAR
VERSION:2.0
PRODID:-//Lance Middle School - ECPv6.15.20//NONSGML v1.0//EN
CALSCALE:GREGORIAN
METHOD:PUBLISH
X-ORIGINAL-URL:https://www.kusd.edu/lance
X-WR-CALDESC:Events for Lance Middle School
REFRESH-INTERVAL;VALUE=DURATION:PT1H
X-Robots-Tag:noindex
X-PUBLISHED-TTL:PT1H
BEGIN:VTIMEZONE
TZID:America/Chicago
BEGIN:DAYLIGHT
TZOFFSETFROM:-0600
TZOFFSETTO:-0500
TZNAME:CDT
DTSTART:20230312T080000
END:DAYLIGHT
BEGIN:STANDARD
TZOFFSETFROM:-0500
TZOFFSETTO:-0600
TZNAME:CST
DTSTART:20231105T070000
END:STANDARD
BEGIN:DAYLIGHT
TZOFFSETFROM:-0600
TZOFFSETTO:-0500
TZNAME:CDT
DTSTART:20240310T080000
END:DAYLIGHT
BEGIN:STANDARD
TZOFFSETFROM:-0500
TZOFFSETTO:-0600
TZNAME:CST
DTSTART:20241103T070000
END:STANDARD
BEGIN:DAYLIGHT
TZOFFSETFROM:-0600
TZOFFSETTO:-0500
TZNAME:CDT
DTSTART:20250309T080000
END:DAYLIGHT
BEGIN:STANDARD
TZOFFSETFROM:-0500
TZOFFSETTO:-0600
TZNAME:CST
DTSTART:20251102T070000
END:STANDARD
END:VTIMEZONE
BEGIN:VEVENT
DTSTART;VALUE=DATE:20240327
DTEND;VALUE=DATE:20240328
DTSTAMP:20260423T233834
CREATED:20230630T164856Z
LAST-MODIFIED:20230630T164856Z
UID:10000040-1711497600-1711583999@www.kusd.edu
SUMMARY:End of Quarter 3
DESCRIPTION:
URL:https://www.kusd.edu/lance/event/end-of-quarter-3/
END:VEVENT
BEGIN:VEVENT
DTSTART;VALUE=DATE:20240327
DTEND;VALUE=DATE:20240328
DTSTAMP:20260423T233834
CREATED:20240124T223448Z
LAST-MODIFIED:20240318T170520Z
UID:10000156-1711497600-1711583999@www.kusd.edu
SUMMARY:End of Quarter 3
DESCRIPTION:
URL:https://www.kusd.edu/lance/event/end-of-quarter-3-2/
END:VEVENT
BEGIN:VEVENT
DTSTART;TZID=America/Chicago:20240327T160000
DTEND;TZID=America/Chicago:20240327T173000
DTSTAMP:20260423T233834
CREATED:20240306T162119Z
LAST-MODIFIED:20240318T170520Z
UID:10000183-1711555200-1711560600@www.kusd.edu
SUMMARY:Social
DESCRIPTION:
URL:https://www.kusd.edu/lance/event/social-2/
END:VEVENT
BEGIN:VEVENT
DTSTART;TZID=America/Chicago:20240327T163000
DTEND;TZID=America/Chicago:20240327T173000
DTSTAMP:20260423T233834
CREATED:20240124T223448Z
LAST-MODIFIED:20240318T170520Z
UID:10000154-1711557000-1711560600@www.kusd.edu
SUMMARY:Volleyball at Lincoln
DESCRIPTION:
URL:https://www.kusd.edu/lance/event/volleyball-at-lincoln/
END:VEVENT
END:VCALENDAR