BEGIN:VCALENDAR
VERSION:2.0
PRODID:-//LakeView Technology Academy - ECPv6.15.20//NONSGML v1.0//EN
CALSCALE:GREGORIAN
METHOD:PUBLISH
X-ORIGINAL-URL:https://www.kusd.edu/lakeview
X-WR-CALDESC:Events for LakeView Technology Academy
REFRESH-INTERVAL;VALUE=DURATION:PT1H
X-Robots-Tag:noindex
X-PUBLISHED-TTL:PT1H
BEGIN:VTIMEZONE
TZID:America/Chicago
BEGIN:DAYLIGHT
TZOFFSETFROM:-0600
TZOFFSETTO:-0500
TZNAME:CDT
DTSTART:20240310T080000
END:DAYLIGHT
BEGIN:STANDARD
TZOFFSETFROM:-0500
TZOFFSETTO:-0600
TZNAME:CST
DTSTART:20241103T070000
END:STANDARD
BEGIN:DAYLIGHT
TZOFFSETFROM:-0600
TZOFFSETTO:-0500
TZNAME:CDT
DTSTART:20250309T080000
END:DAYLIGHT
BEGIN:STANDARD
TZOFFSETFROM:-0500
TZOFFSETTO:-0600
TZNAME:CST
DTSTART:20251102T070000
END:STANDARD
BEGIN:DAYLIGHT
TZOFFSETFROM:-0600
TZOFFSETTO:-0500
TZNAME:CDT
DTSTART:20260308T080000
END:DAYLIGHT
BEGIN:STANDARD
TZOFFSETFROM:-0500
TZOFFSETTO:-0600
TZNAME:CST
DTSTART:20261101T070000
END:STANDARD
BEGIN:DAYLIGHT
TZOFFSETFROM:-0600
TZOFFSETTO:-0500
TZNAME:CDT
DTSTART:20270314T080000
END:DAYLIGHT
BEGIN:STANDARD
TZOFFSETFROM:-0500
TZOFFSETTO:-0600
TZNAME:CST
DTSTART:20271107T070000
END:STANDARD
END:VTIMEZONE
BEGIN:VEVENT
DTSTART;TZID=America/Chicago:20260321T183000
DTEND;TZID=America/Chicago:20260321T193000
DTSTAMP:20260425T232608
CREATED:20250904T160445Z
LAST-MODIFIED:20260321T060406Z
UID:10000799-1774117800-1774121400@www.kusd.edu
SUMMARY:Orchestra Festival
DESCRIPTION:
URL:https://www.kusd.edu/lakeview/event/orchestra-festival/
LOCATION:Indian Trail High School and Academy\, 6800 60th St\, Kenosha\, WI\, United States
GEO:42.581678;-87.890829
X-APPLE-STRUCTURED-LOCATION;VALUE=URI;X-ADDRESS=Indian Trail High School and Academy 6800 60th St Kenosha WI United States;X-APPLE-RADIUS=500;X-TITLE=6800 60th St:geo:-87.890829,42.581678
END:VEVENT
BEGIN:VEVENT
DTSTART;TZID=America/Chicago:20260221T183000
DTEND;TZID=America/Chicago:20260221T193000
DTSTAMP:20260425T232608
CREATED:20250904T160445Z
LAST-MODIFIED:20260221T044908Z
UID:10000792-1771698600-1771702200@www.kusd.edu
SUMMARY:Choral Festival
DESCRIPTION:
URL:https://www.kusd.edu/lakeview/event/choral-festival/
LOCATION:Indian Trail High School and Academy\, 6800 60th St\, Kenosha\, WI\, United States
GEO:42.581678;-87.890829
X-APPLE-STRUCTURED-LOCATION;VALUE=URI;X-ADDRESS=Indian Trail High School and Academy 6800 60th St Kenosha WI United States;X-APPLE-RADIUS=500;X-TITLE=6800 60th St:geo:-87.890829,42.581678
END:VEVENT
BEGIN:VEVENT
DTSTART;TZID=America/Chicago:20260131T183000
DTEND;TZID=America/Chicago:20260131T193000
DTSTAMP:20260425T232608
CREATED:20250904T160434Z
LAST-MODIFIED:20260131T030603Z
UID:10000788-1769884200-1769887800@www.kusd.edu
SUMMARY:Band-O-Rama Concert 2
DESCRIPTION:
URL:https://www.kusd.edu/lakeview/event/band-o-rama-concert-2/
LOCATION:Indian Trail High School and Academy\, 6800 60th St\, Kenosha\, WI\, United States
GEO:42.581678;-87.890829
X-APPLE-STRUCTURED-LOCATION;VALUE=URI;X-ADDRESS=Indian Trail High School and Academy 6800 60th St Kenosha WI United States;X-APPLE-RADIUS=500;X-TITLE=6800 60th St:geo:-87.890829,42.581678
END:VEVENT
BEGIN:VEVENT
DTSTART;TZID=America/Chicago:20260131T120000
DTEND;TZID=America/Chicago:20260131T130000
DTSTAMP:20260425T232608
CREATED:20250904T160434Z
LAST-MODIFIED:20260131T030603Z
UID:10000787-1769860800-1769864400@www.kusd.edu
SUMMARY:Band-O-Rama Concert 1
DESCRIPTION:
URL:https://www.kusd.edu/lakeview/event/band-o-rama-concert-1/
LOCATION:Indian Trail High School and Academy\, 6800 60th St\, Kenosha\, WI\, United States
GEO:42.581678;-87.890829
X-APPLE-STRUCTURED-LOCATION;VALUE=URI;X-ADDRESS=Indian Trail High School and Academy 6800 60th St Kenosha WI United States;X-APPLE-RADIUS=500;X-TITLE=6800 60th St:geo:-87.890829,42.581678
END:VEVENT
BEGIN:VEVENT
DTSTART;TZID=America/Chicago:20251118T180000
DTEND;TZID=America/Chicago:20251118T193000
DTSTAMP:20260425T232608
CREATED:20251002T193534Z
LAST-MODIFIED:20251117T214957Z
UID:10000871-1763488800-1763494200@www.kusd.edu
SUMMARY:Indian Trail Open House
DESCRIPTION:
URL:https://www.kusd.edu/lakeview/event/indian-trail-open-house/
LOCATION:Indian Trail High School and Academy\, 6800 60th St\, Kenosha\, WI\, United States
GEO:42.581678;-87.890829
X-APPLE-STRUCTURED-LOCATION;VALUE=URI;X-ADDRESS=Indian Trail High School and Academy 6800 60th St Kenosha WI United States;X-APPLE-RADIUS=500;X-TITLE=6800 60th St:geo:-87.890829,42.581678
END:VEVENT
BEGIN:VEVENT
DTSTART;TZID=America/Chicago:20251112T180000
DTEND;TZID=America/Chicago:20251112T190000
DTSTAMP:20260425T232608
CREATED:20251002T193534Z
LAST-MODIFIED:20251112T210634Z
UID:10000865-1762970400-1762974000@www.kusd.edu
SUMMARY:Kenosha Military Academy Open House
DESCRIPTION:
URL:https://www.kusd.edu/lakeview/event/kenosha-military-academy-open-house/
LOCATION:Indian Trail High School and Academy\, 6800 60th St\, Kenosha\, WI\, United States
GEO:42.581678;-87.890829
X-APPLE-STRUCTURED-LOCATION;VALUE=URI;X-ADDRESS=Indian Trail High School and Academy 6800 60th St Kenosha WI United States;X-APPLE-RADIUS=500;X-TITLE=6800 60th St:geo:-87.890829,42.581678
END:VEVENT
BEGIN:VEVENT
DTSTART;TZID=America/Chicago:20250916T190000
DTEND;TZID=America/Chicago:20250916T213000
DTSTAMP:20260425T232608
CREATED:20250904T160359Z
LAST-MODIFIED:20250916T183414Z
UID:10000755-1758049200-1758058200@www.kusd.edu
SUMMARY:Annual Meeting of Electors
DESCRIPTION:
URL:https://www.kusd.edu/lakeview/event/annual-meeting-of-electors/
LOCATION:Indian Trail High School and Academy\, 6800 60th St\, Kenosha\, WI\, United States
GEO:42.581678;-87.890829
X-APPLE-STRUCTURED-LOCATION;VALUE=URI;X-ADDRESS=Indian Trail High School and Academy 6800 60th St Kenosha WI United States;X-APPLE-RADIUS=500;X-TITLE=6800 60th St:geo:-87.890829,42.581678
END:VEVENT
BEGIN:VEVENT
DTSTART;TZID=America/Chicago:20250605T180000
DTEND;TZID=America/Chicago:20250605T193000
DTSTAMP:20260425T232608
CREATED:20250204T191729Z
LAST-MODIFIED:20250605T234913Z
UID:10000736-1749146400-1749151800@www.kusd.edu
SUMMARY:LakeView Graduation
DESCRIPTION:
URL:https://www.kusd.edu/lakeview/event/lakeview-graduation/
LOCATION:Indian Trail High School and Academy\, 6800 60th St\, Kenosha\, WI\, United States
GEO:42.581678;-87.890829
X-APPLE-STRUCTURED-LOCATION;VALUE=URI;X-ADDRESS=Indian Trail High School and Academy 6800 60th St Kenosha WI United States;X-APPLE-RADIUS=500;X-TITLE=6800 60th St:geo:-87.890829,42.581678
END:VEVENT
END:VCALENDAR