BEGIN:VCALENDAR
VERSION:2.0
PRODID:-//Kenosha School of Language - ECPv6.15.20//NONSGML v1.0//EN
CALSCALE:GREGORIAN
METHOD:PUBLISH
X-WR-CALNAME:Kenosha School of Language
X-ORIGINAL-URL:https://www.kusd.edu/ksol
X-WR-CALDESC:Events for Kenosha School of Language
REFRESH-INTERVAL;VALUE=DURATION:PT1H
X-Robots-Tag:noindex
X-PUBLISHED-TTL:PT1H
BEGIN:VTIMEZONE
TZID:America/Chicago
BEGIN:DAYLIGHT
TZOFFSETFROM:-0600
TZOFFSETTO:-0500
TZNAME:CDT
DTSTART:20250309T080000
END:DAYLIGHT
BEGIN:STANDARD
TZOFFSETFROM:-0500
TZOFFSETTO:-0600
TZNAME:CST
DTSTART:20251102T070000
END:STANDARD
BEGIN:DAYLIGHT
TZOFFSETFROM:-0600
TZOFFSETTO:-0500
TZNAME:CDT
DTSTART:20260308T080000
END:DAYLIGHT
BEGIN:STANDARD
TZOFFSETFROM:-0500
TZOFFSETTO:-0600
TZNAME:CST
DTSTART:20261101T070000
END:STANDARD
BEGIN:DAYLIGHT
TZOFFSETFROM:-0600
TZOFFSETTO:-0500
TZNAME:CDT
DTSTART:20270314T080000
END:DAYLIGHT
BEGIN:STANDARD
TZOFFSETFROM:-0500
TZOFFSETTO:-0600
TZNAME:CST
DTSTART:20271107T070000
END:STANDARD
END:VTIMEZONE
BEGIN:VEVENT
DTSTART;TZID=America/Chicago:20260420T180000
DTEND;TZID=America/Chicago:20260420T190000
DTSTAMP:20260420T014848
CREATED:20250724T225425Z
LAST-MODIFIED:20251029T220541Z
UID:10000399-1776708000-1776711600@www.kusd.edu
SUMMARY:KSOL PTO Meeting
DESCRIPTION:Join with Google Meet: https://meet.google.com/hne-knsk-hqd\nOr dial: (US) +1 443-601-9471 PIN: 753670628#\nMore phone numbers: https://tel.meet/hne-knsk-hqd?pin=6370474646303&hs=7\nLearn more about Meet at: https://support.google.com/a/users/answer/9282720
URL:https://www.kusd.edu/ksol/event/ksol-pto-meeting-8/
LOCATION:WI
ORGANIZER;CN="students.kusd.edu_fh151n5r8b96sk2nnm7mhpktco@group.calendar.google.com":MAILTO:students.kusd.edu_fh151n5r8b96sk2nnm7mhpktco@group.calendar.google.com
END:VEVENT
BEGIN:VEVENT
DTSTART;TZID=America/Chicago:20260420T180000
DTEND;TZID=America/Chicago:20260420T190000
DTSTAMP:20260420T014848
CREATED:20251030T220547Z
LAST-MODIFIED:20260419T235013Z
UID:10000504-1776708000-1776711600@www.kusd.edu
SUMMARY:KSOL PTO Meeting
DESCRIPTION:Join with Google Meet: https://meet.google.com/hne-knsk-hqd\nOr dial: (US) +1 443-601-9471 PIN: 753670628#\nMore phone numbers: https://tel.meet/hne-knsk-hqd?pin=6370474646303&hs=7\nLearn more about Meet at: https://support.google.com/a/users/answer/9282720
URL:https://www.kusd.edu/ksol/event/ksol-pto-meeting-14/
LOCATION:WI
ORGANIZER;CN="students.kusd.edu_fh151n5r8b96sk2nnm7mhpktco@group.calendar.google.com":MAILTO:students.kusd.edu_fh151n5r8b96sk2nnm7mhpktco@group.calendar.google.com
END:VEVENT
END:VCALENDAR