BEGIN:VCALENDAR
VERSION:2.0
PRODID:-//Harvey Elementary School - ECPv6.15.20//NONSGML v1.0//EN
CALSCALE:GREGORIAN
METHOD:PUBLISH
X-WR-CALNAME:Harvey Elementary School
X-ORIGINAL-URL:https://www.kusd.edu/harvey
X-WR-CALDESC:Events for Harvey Elementary School
REFRESH-INTERVAL;VALUE=DURATION:PT1H
X-Robots-Tag:noindex
X-PUBLISHED-TTL:PT1H
BEGIN:VTIMEZONE
TZID:America/Chicago
BEGIN:DAYLIGHT
TZOFFSETFROM:-0600
TZOFFSETTO:-0500
TZNAME:CDT
DTSTART:20230312T080000
END:DAYLIGHT
BEGIN:STANDARD
TZOFFSETFROM:-0500
TZOFFSETTO:-0600
TZNAME:CST
DTSTART:20231105T070000
END:STANDARD
BEGIN:DAYLIGHT
TZOFFSETFROM:-0600
TZOFFSETTO:-0500
TZNAME:CDT
DTSTART:20240310T080000
END:DAYLIGHT
BEGIN:STANDARD
TZOFFSETFROM:-0500
TZOFFSETTO:-0600
TZNAME:CST
DTSTART:20241103T070000
END:STANDARD
BEGIN:DAYLIGHT
TZOFFSETFROM:-0600
TZOFFSETTO:-0500
TZNAME:CDT
DTSTART:20250309T080000
END:DAYLIGHT
BEGIN:STANDARD
TZOFFSETFROM:-0500
TZOFFSETTO:-0600
TZNAME:CST
DTSTART:20251102T070000
END:STANDARD
END:VTIMEZONE
BEGIN:VEVENT
DTSTART;TZID=America/Chicago:20240601T080000
DTEND;TZID=America/Chicago:20240601T120000
DTSTAMP:20260421T125751
CREATED:20240425T140914Z
LAST-MODIFIED:20240601T150511Z
UID:10000003-1717228800-1717243200@www.kusd.edu
SUMMARY:Rummage Sale and Craft & Vendor Fair
DESCRIPTION:May 31 (4-7 p.m.) and June 1 (8 a.m. – 12 p.m.) \nFriday is our Spring Fling\, so be ready for TONS of shoppers! \nVENDORS & CRAFTERS NEEDED!! \n\n$50 FOR BOTH DAYS\nTons of traffic!\n\n2012 19th Ave.\, Kenosha \nCall 262.359.4040
URL:https://www.kusd.edu/harvey/event/rummage-sale-and-craft-vendor-fair-2/
LOCATION:Harvey Elementary School\, 2012 19th Ave\, Kenosha\, WI 53140\, USA
END:VEVENT
END:VCALENDAR