BEGIN:VCALENDAR
VERSION:2.0
PRODID:-//Harborside Academy - ECPv6.15.20//NONSGML v1.0//EN
CALSCALE:GREGORIAN
METHOD:PUBLISH
X-WR-CALNAME:Harborside Academy
X-ORIGINAL-URL:https://www.kusd.edu/harborside
X-WR-CALDESC:Events for Harborside Academy
REFRESH-INTERVAL;VALUE=DURATION:PT1H
X-Robots-Tag:noindex
X-PUBLISHED-TTL:PT1H
BEGIN:VTIMEZONE
TZID:America/Chicago
BEGIN:DAYLIGHT
TZOFFSETFROM:-0600
TZOFFSETTO:-0500
TZNAME:CDT
DTSTART:20220313T080000
END:DAYLIGHT
BEGIN:STANDARD
TZOFFSETFROM:-0500
TZOFFSETTO:-0600
TZNAME:CST
DTSTART:20221106T070000
END:STANDARD
BEGIN:DAYLIGHT
TZOFFSETFROM:-0600
TZOFFSETTO:-0500
TZNAME:CDT
DTSTART:20230312T080000
END:DAYLIGHT
BEGIN:STANDARD
TZOFFSETFROM:-0500
TZOFFSETTO:-0600
TZNAME:CST
DTSTART:20231105T070000
END:STANDARD
BEGIN:DAYLIGHT
TZOFFSETFROM:-0600
TZOFFSETTO:-0500
TZNAME:CDT
DTSTART:20240310T080000
END:DAYLIGHT
BEGIN:STANDARD
TZOFFSETFROM:-0500
TZOFFSETTO:-0600
TZNAME:CST
DTSTART:20241103T070000
END:STANDARD
END:VTIMEZONE
BEGIN:VEVENT
DTSTART;TZID=America/Chicago:20230326T193000
DTEND;TZID=America/Chicago:20230326T210000
DTSTAMP:20260424T085643
CREATED:20230324T225220Z
LAST-MODIFIED:20230324T225220Z
UID:10000004-1679859000-1679864400@www.kusd.edu
SUMMARY:Harborside Musical
DESCRIPTION:
URL:https://www.kusd.edu/harborside/event/harborside-musical-3/
LOCATION:Harborside Academy\, 913 57th St\, Kenosha\, WI 53140\, USA
END:VEVENT
BEGIN:VEVENT
DTSTART;TZID=America/Chicago:20230325T193000
DTEND;TZID=America/Chicago:20230325T210000
DTSTAMP:20260424T085643
CREATED:20230324T225220Z
LAST-MODIFIED:20230324T225220Z
UID:10000003-1679772600-1679778000@www.kusd.edu
SUMMARY:Harborside Musical
DESCRIPTION:
URL:https://www.kusd.edu/harborside/event/harborside-musical-2/
LOCATION:Harborside Academy\, 913 57th St\, Kenosha\, WI 53140\, USA
END:VEVENT
BEGIN:VEVENT
DTSTART;VALUE=DATE:20230325
DTEND;VALUE=DATE:20230326
DTSTAMP:20260424T085643
CREATED:20230324T225220Z
LAST-MODIFIED:20230324T225220Z
UID:10000001-1679702400-1679788799@www.kusd.edu
SUMMARY:Solo & Ensamble
DESCRIPTION:
URL:https://www.kusd.edu/harborside/event/solo-ensamble/
LOCATION:Indian Trail High School and Academy\, 6800 60th St\, Kenosha\, WI 53144\, USA
END:VEVENT
BEGIN:VEVENT
DTSTART;TZID=America/Chicago:20230324T193000
DTEND;TZID=America/Chicago:20230324T210000
DTSTAMP:20260424T085643
CREATED:20230324T225220Z
LAST-MODIFIED:20230324T225220Z
UID:10000002-1679686200-1679691600@www.kusd.edu
SUMMARY:Harborside Musical
DESCRIPTION:
URL:https://www.kusd.edu/harborside/event/harborside-musical/
LOCATION:Harborside Academy\, 913 57th St\, Kenosha\, WI 53140\, USA
END:VEVENT
END:VCALENDAR