BEGIN:VCALENDAR
VERSION:2.0
PRODID:-//Harborside Academy - ECPv6.15.20//NONSGML v1.0//EN
CALSCALE:GREGORIAN
METHOD:PUBLISH
X-WR-CALNAME:Harborside Academy
X-ORIGINAL-URL:https://www.kusd.edu/harborside
X-WR-CALDESC:Events for Harborside Academy
REFRESH-INTERVAL;VALUE=DURATION:PT1H
X-Robots-Tag:noindex
X-PUBLISHED-TTL:PT1H
BEGIN:VTIMEZONE
TZID:America/Chicago
BEGIN:DAYLIGHT
TZOFFSETFROM:-0600
TZOFFSETTO:-0500
TZNAME:CDT
DTSTART:20220313T080000
END:DAYLIGHT
BEGIN:STANDARD
TZOFFSETFROM:-0500
TZOFFSETTO:-0600
TZNAME:CST
DTSTART:20221106T070000
END:STANDARD
BEGIN:DAYLIGHT
TZOFFSETFROM:-0600
TZOFFSETTO:-0500
TZNAME:CDT
DTSTART:20230312T080000
END:DAYLIGHT
BEGIN:STANDARD
TZOFFSETFROM:-0500
TZOFFSETTO:-0600
TZNAME:CST
DTSTART:20231105T070000
END:STANDARD
BEGIN:DAYLIGHT
TZOFFSETFROM:-0600
TZOFFSETTO:-0500
TZNAME:CDT
DTSTART:20240310T080000
END:DAYLIGHT
BEGIN:STANDARD
TZOFFSETFROM:-0500
TZOFFSETTO:-0600
TZNAME:CST
DTSTART:20241103T070000
END:STANDARD
END:VTIMEZONE
BEGIN:VEVENT
DTSTART;TZID=America/Chicago:20230506T180000
DTEND;TZID=America/Chicago:20230506T220000
DTSTAMP:20260424T055434
CREATED:20230418T190623Z
LAST-MODIFIED:20230428T205313Z
UID:10000046-1683396000-1683410400@www.kusd.edu
SUMMARY:Prom- Juniors and Seniors- Bristol Oaks
DESCRIPTION:
URL:https://www.kusd.edu/harborside/event/prom-juniors-and-seniors-bristol-oaks/
END:VEVENT
BEGIN:VEVENT
DTSTART;TZID=America/Chicago:20230505T070000
DTEND;TZID=America/Chicago:20230505T073000
DTSTAMP:20260424T055434
CREATED:20230324T225233Z
LAST-MODIFIED:20230428T205313Z
UID:10000019-1683270000-1683271800@www.kusd.edu
SUMMARY:Crew Council - 2nd Floor Cafeteria
DESCRIPTION:
URL:https://www.kusd.edu/harborside/event/crew-council-2nd-floor-cafeteria-2/
END:VEVENT
BEGIN:VEVENT
DTSTART;VALUE=DATE:20230502
DTEND;VALUE=DATE:20230504
DTSTAMP:20260424T055434
CREATED:20230324T225233Z
LAST-MODIFIED:20230428T205313Z
UID:10000018-1682985600-1683158399@www.kusd.edu
SUMMARY:Spring MAPS for Middle School
DESCRIPTION:
URL:https://www.kusd.edu/harborside/event/spring-maps-for-middle-school/
END:VEVENT
BEGIN:VEVENT
DTSTART;TZID=America/Chicago:20230421T070000
DTEND;TZID=America/Chicago:20230421T073000
DTSTAMP:20260424T055434
CREATED:20230324T225233Z
LAST-MODIFIED:20230418T190623Z
UID:10000017-1682060400-1682062200@www.kusd.edu
SUMMARY:Crew Council - 2nd Floor Cafeteria
DESCRIPTION:
URL:https://www.kusd.edu/harborside/event/crew-council-2nd-floor-cafeteria/
END:VEVENT
BEGIN:VEVENT
DTSTART;VALUE=DATE:20230420
DTEND;VALUE=DATE:20230421
DTSTAMP:20260424T055434
CREATED:20230418T190623Z
LAST-MODIFIED:20230418T190623Z
UID:10000044-1681948800-1682035199@www.kusd.edu
SUMMARY:Statewide Tornado Drill
DESCRIPTION:
URL:https://www.kusd.edu/harborside/event/statewide-tornado-drill/
END:VEVENT
BEGIN:VEVENT
DTSTART;VALUE=DATE:20230420
DTEND;VALUE=DATE:20230421
DTSTAMP:20260424T055434
CREATED:20230418T190623Z
LAST-MODIFIED:20230418T190623Z
UID:10000045-1681948800-1682035199@www.kusd.edu
SUMMARY:PTSO Family Fun Night- MOD Pizza
DESCRIPTION:
URL:https://www.kusd.edu/harborside/event/ptso-family-fun-night-mod-pizza/
END:VEVENT
BEGIN:VEVENT
DTSTART;TZID=America/Chicago:20230419T183000
DTEND;TZID=America/Chicago:20230419T193000
DTSTAMP:20260424T055434
CREATED:20230418T190623Z
LAST-MODIFIED:20230418T190623Z
UID:10000043-1681929000-1681932600@www.kusd.edu
SUMMARY:PTSO Meeting\, Library
DESCRIPTION:
URL:https://www.kusd.edu/harborside/event/ptso-meeting-library/
END:VEVENT
BEGIN:VEVENT
DTSTART;TZID=America/Chicago:20230419T090000
DTEND;TZID=America/Chicago:20230419T120000
DTSTAMP:20260424T055434
CREATED:20230418T190623Z
LAST-MODIFIED:20230418T190623Z
UID:10000042-1681894800-1681905600@www.kusd.edu
SUMMARY:Jostens Senior Distribution\, senior hallway
DESCRIPTION:
URL:https://www.kusd.edu/harborside/event/jostens-senior-distribution-senior-hallway/
END:VEVENT
BEGIN:VEVENT
DTSTART;VALUE=DATE:20230407
DTEND;VALUE=DATE:20230415
DTSTAMP:20260424T055434
CREATED:20230324T225233Z
LAST-MODIFIED:20230324T225233Z
UID:10000016-1680825600-1681516799@www.kusd.edu
SUMMARY:Spring Break - No School
DESCRIPTION:
URL:https://www.kusd.edu/harborside/event/spring-break-no-school/
END:VEVENT
BEGIN:VEVENT
DTSTART;VALUE=DATE:20230404
DTEND;VALUE=DATE:20230406
DTSTAMP:20260424T055434
CREATED:20230324T225233Z
LAST-MODIFIED:20230324T225233Z
UID:10000014-1680566400-1680739199@www.kusd.edu
SUMMARY:Forward Exam- 8th Grade only
DESCRIPTION:
URL:https://www.kusd.edu/harborside/event/forward-exam-8th-grade-only/
END:VEVENT
BEGIN:VEVENT
DTSTART;TZID=America/Chicago:20230403T150000
DTEND;TZID=America/Chicago:20230405T170000
DTSTAMP:20260424T055434
CREATED:20230324T225233Z
LAST-MODIFIED:20230324T225233Z
UID:10000015-1680534000-1680714000@www.kusd.edu
SUMMARY:Senior Project Week
DESCRIPTION:
URL:https://www.kusd.edu/harborside/event/senior-project-week/
END:VEVENT
BEGIN:VEVENT
DTSTART;TZID=America/Chicago:20230402T140000
DTEND;TZID=America/Chicago:20230402T153000
DTSTAMP:20260424T055434
CREATED:20230324T225233Z
LAST-MODIFIED:20230324T225233Z
UID:10000013-1680444000-1680449400@www.kusd.edu
SUMMARY:Harborside Musical
DESCRIPTION:
URL:https://www.kusd.edu/harborside/event/harborside-musical-7/
LOCATION:Harborside Academy\, 913 57th St\, Kenosha\, WI 53140\, USA
END:VEVENT
BEGIN:VEVENT
DTSTART;TZID=America/Chicago:20230401T193000
DTEND;TZID=America/Chicago:20230401T210000
DTSTAMP:20260424T055434
CREATED:20230324T225233Z
LAST-MODIFIED:20230324T225233Z
UID:10000012-1680377400-1680382800@www.kusd.edu
SUMMARY:Harborside Musical
DESCRIPTION:
URL:https://www.kusd.edu/harborside/event/harborside-musical-6/
LOCATION:Harborside Academy\, 913 57th St\, Kenosha\, WI 53140\, USA
END:VEVENT
BEGIN:VEVENT
DTSTART;TZID=America/Chicago:20230401T140000
DTEND;TZID=America/Chicago:20230401T153000
DTSTAMP:20260424T055434
CREATED:20230324T225220Z
LAST-MODIFIED:20230324T225220Z
UID:10000010-1680357600-1680363000@www.kusd.edu
SUMMARY:Harborside Musical
DESCRIPTION:
URL:https://www.kusd.edu/harborside/event/harborside-musical-5/
END:VEVENT
BEGIN:VEVENT
DTSTART;TZID=America/Chicago:20230401T080000
DTEND;TZID=America/Chicago:20230401T150000
DTSTAMP:20260424T055434
CREATED:20230324T225232Z
LAST-MODIFIED:20230324T225232Z
UID:10000011-1680336000-1680361200@www.kusd.edu
SUMMARY:Saturday Study
DESCRIPTION:
URL:https://www.kusd.edu/harborside/event/saturday-study/
END:VEVENT
BEGIN:VEVENT
DTSTART;TZID=America/Chicago:20230331T193000
DTEND;TZID=America/Chicago:20230331T210000
DTSTAMP:20260424T055434
CREATED:20230324T225220Z
LAST-MODIFIED:20230324T225220Z
UID:10000009-1680291000-1680296400@www.kusd.edu
SUMMARY:Harborside Musical
DESCRIPTION:
URL:https://www.kusd.edu/harborside/event/harborside-musical-4/
LOCATION:Harborside Academy\, 913 57th St\, Kenosha\, WI 53140\, USA
END:VEVENT
BEGIN:VEVENT
DTSTART;TZID=America/Chicago:20230331T070000
DTEND;TZID=America/Chicago:20230331T073000
DTSTAMP:20260424T055434
CREATED:20230324T225220Z
LAST-MODIFIED:20230324T225220Z
UID:10000008-1680246000-1680247800@www.kusd.edu
SUMMARY:Crew Council Meeting - 2nd Floor Cafeteria
DESCRIPTION:
URL:https://www.kusd.edu/harborside/event/crew-council-meeting-2nd-floor-cafeteria/
END:VEVENT
BEGIN:VEVENT
DTSTART;TZID=America/Chicago:20230330T193000
DTEND;TZID=America/Chicago:20230330T210000
DTSTAMP:20260424T055434
CREATED:20230324T225220Z
LAST-MODIFIED:20230324T225220Z
UID:10000007-1680204600-1680210000@www.kusd.edu
SUMMARY:Harborside Musical - OPENING NIGHT!
DESCRIPTION:
URL:https://www.kusd.edu/harborside/event/harborside-musical-opening-night/
END:VEVENT
BEGIN:VEVENT
DTSTART;VALUE=DATE:20230329
DTEND;VALUE=DATE:20230406
DTSTAMP:20260424T055434
CREATED:20230324T225220Z
LAST-MODIFIED:20230324T225220Z
UID:10000005-1680048000-1680739199@www.kusd.edu
SUMMARY:Hawaii Senior Project Trip
DESCRIPTION:
URL:https://www.kusd.edu/harborside/event/hawaii-senior-project-trip/
END:VEVENT
BEGIN:VEVENT
DTSTART;VALUE=DATE:20230328
DTEND;VALUE=DATE:20230331
DTSTAMP:20260424T055434
CREATED:20230324T225220Z
LAST-MODIFIED:20230324T225220Z
UID:10000006-1679961600-1680220799@www.kusd.edu
SUMMARY:Forward Exam Middle School
DESCRIPTION:
URL:https://www.kusd.edu/harborside/event/forward-exam-middle-school/
END:VEVENT
BEGIN:VEVENT
DTSTART;TZID=America/Chicago:20230326T193000
DTEND;TZID=America/Chicago:20230326T210000
DTSTAMP:20260424T055434
CREATED:20230324T225220Z
LAST-MODIFIED:20230324T225220Z
UID:10000004-1679859000-1679864400@www.kusd.edu
SUMMARY:Harborside Musical
DESCRIPTION:
URL:https://www.kusd.edu/harborside/event/harborside-musical-3/
LOCATION:Harborside Academy\, 913 57th St\, Kenosha\, WI 53140\, USA
END:VEVENT
BEGIN:VEVENT
DTSTART;TZID=America/Chicago:20230325T193000
DTEND;TZID=America/Chicago:20230325T210000
DTSTAMP:20260424T055434
CREATED:20230324T225220Z
LAST-MODIFIED:20230324T225220Z
UID:10000003-1679772600-1679778000@www.kusd.edu
SUMMARY:Harborside Musical
DESCRIPTION:
URL:https://www.kusd.edu/harborside/event/harborside-musical-2/
LOCATION:Harborside Academy\, 913 57th St\, Kenosha\, WI 53140\, USA
END:VEVENT
BEGIN:VEVENT
DTSTART;VALUE=DATE:20230325
DTEND;VALUE=DATE:20230326
DTSTAMP:20260424T055434
CREATED:20230324T225220Z
LAST-MODIFIED:20230324T225220Z
UID:10000001-1679702400-1679788799@www.kusd.edu
SUMMARY:Solo & Ensamble
DESCRIPTION:
URL:https://www.kusd.edu/harborside/event/solo-ensamble/
LOCATION:Indian Trail High School and Academy\, 6800 60th St\, Kenosha\, WI 53144\, USA
END:VEVENT
BEGIN:VEVENT
DTSTART;TZID=America/Chicago:20230324T193000
DTEND;TZID=America/Chicago:20230324T210000
DTSTAMP:20260424T055434
CREATED:20230324T225220Z
LAST-MODIFIED:20230324T225220Z
UID:10000002-1679686200-1679691600@www.kusd.edu
SUMMARY:Harborside Musical
DESCRIPTION:
URL:https://www.kusd.edu/harborside/event/harborside-musical/
LOCATION:Harborside Academy\, 913 57th St\, Kenosha\, WI 53140\, USA
END:VEVENT
END:VCALENDAR