BEGIN:VCALENDAR
VERSION:2.0
PRODID:-//Grewenow Elementary School - ECPv6.15.20//NONSGML v1.0//EN
CALSCALE:GREGORIAN
METHOD:PUBLISH
X-WR-CALNAME:Grewenow Elementary School
X-ORIGINAL-URL:https://www.kusd.edu/grewenow
X-WR-CALDESC:Events for Grewenow Elementary School
REFRESH-INTERVAL;VALUE=DURATION:PT1H
X-Robots-Tag:noindex
X-PUBLISHED-TTL:PT1H
BEGIN:VTIMEZONE
TZID:America/Chicago
BEGIN:DAYLIGHT
TZOFFSETFROM:-0600
TZOFFSETTO:-0500
TZNAME:CDT
DTSTART:20230312T080000
END:DAYLIGHT
BEGIN:STANDARD
TZOFFSETFROM:-0500
TZOFFSETTO:-0600
TZNAME:CST
DTSTART:20231105T070000
END:STANDARD
BEGIN:DAYLIGHT
TZOFFSETFROM:-0600
TZOFFSETTO:-0500
TZNAME:CDT
DTSTART:20240310T080000
END:DAYLIGHT
BEGIN:STANDARD
TZOFFSETFROM:-0500
TZOFFSETTO:-0600
TZNAME:CST
DTSTART:20241103T070000
END:STANDARD
BEGIN:DAYLIGHT
TZOFFSETFROM:-0600
TZOFFSETTO:-0500
TZNAME:CDT
DTSTART:20250309T080000
END:DAYLIGHT
BEGIN:STANDARD
TZOFFSETFROM:-0500
TZOFFSETTO:-0600
TZNAME:CST
DTSTART:20251102T070000
END:STANDARD
BEGIN:DAYLIGHT
TZOFFSETFROM:-0600
TZOFFSETTO:-0500
TZNAME:CDT
DTSTART:20260308T080000
END:DAYLIGHT
BEGIN:STANDARD
TZOFFSETFROM:-0500
TZOFFSETTO:-0600
TZNAME:CST
DTSTART:20261101T070000
END:STANDARD
BEGIN:DAYLIGHT
TZOFFSETFROM:-0600
TZOFFSETTO:-0500
TZNAME:CDT
DTSTART:20270314T080000
END:DAYLIGHT
BEGIN:STANDARD
TZOFFSETFROM:-0500
TZOFFSETTO:-0600
TZNAME:CST
DTSTART:20271107T070000
END:STANDARD
END:VTIMEZONE
BEGIN:VEVENT
DTSTART;TZID=America/Chicago:20260416T170000
DTEND;TZID=America/Chicago:20260416T210000
DTSTAMP:20260421T042732
CREATED:20260113T020606Z
LAST-MODIFIED:20260416T150759Z
UID:10000307-1776358800-1776373200@www.kusd.edu
SUMMARY:Standing Committee Meetings
DESCRIPTION:
URL:https://www.kusd.edu/grewenow/event/standing-committee-meetings-4/
LOCATION:KUSD Educational Support Center\, 3600 52nd St\, Kenosha\, WI\, United States
GEO:42.588266;-87.852374
X-APPLE-STRUCTURED-LOCATION;VALUE=URI;X-ADDRESS=KUSD Educational Support Center 3600 52nd St Kenosha WI United States;X-APPLE-RADIUS=500;X-TITLE=3600 52nd St:geo:-87.852374,42.588266
END:VEVENT
BEGIN:VEVENT
DTSTART;TZID=America/Chicago:20260331T173000
DTEND;TZID=America/Chicago:20260331T193000
DTSTAMP:20260421T042732
CREATED:20260321T093607Z
LAST-MODIFIED:20260331T133601Z
UID:10000341-1774978200-1774985400@www.kusd.edu
SUMMARY:Special School Board Meeting
DESCRIPTION:Agenda (PDF)
URL:https://www.kusd.edu/grewenow/event/special-school-board-meeting/
LOCATION:KUSD Educational Support Center\, 3600 52nd St\, Kenosha\, WI\, United States
GEO:42.588266;-87.852374
X-APPLE-STRUCTURED-LOCATION;VALUE=URI;X-ADDRESS=KUSD Educational Support Center 3600 52nd St Kenosha WI United States;X-APPLE-RADIUS=500;X-TITLE=3600 52nd St:geo:-87.852374,42.588266
END:VEVENT
BEGIN:VEVENT
DTSTART;TZID=America/Chicago:20260324T190000
DTEND;TZID=America/Chicago:20260324T220000
DTSTAMP:20260421T042732
CREATED:20260113T020553Z
LAST-MODIFIED:20260324T105033Z
UID:10000306-1774378800-1774389600@www.kusd.edu
SUMMARY:Regular School Board Meeting
DESCRIPTION:Agenda (PDF)
URL:https://www.kusd.edu/grewenow/event/regular-school-board-meeting-7/
LOCATION:KUSD Educational Support Center\, 3600 52nd St\, Kenosha\, WI\, United States
GEO:42.588266;-87.852374
X-APPLE-STRUCTURED-LOCATION;VALUE=URI;X-ADDRESS=KUSD Educational Support Center 3600 52nd St Kenosha WI United States;X-APPLE-RADIUS=500;X-TITLE=3600 52nd St:geo:-87.852374,42.588266
END:VEVENT
BEGIN:VEVENT
DTSTART;TZID=America/Chicago:20260312T170000
DTEND;TZID=America/Chicago:20260312T190000
DTSTAMP:20260421T042732
CREATED:20260113T020553Z
LAST-MODIFIED:20260312T050531Z
UID:10000305-1773334800-1773342000@www.kusd.edu
SUMMARY:Special School Board Meeting (Agenda Review)
DESCRIPTION:
URL:https://www.kusd.edu/grewenow/event/special-school-board-meeting-agenda-review-6/
LOCATION:KUSD Educational Support Center\, 3600 52nd St\, Kenosha\, WI\, United States
GEO:42.588266;-87.852374
X-APPLE-STRUCTURED-LOCATION;VALUE=URI;X-ADDRESS=KUSD Educational Support Center 3600 52nd St Kenosha WI United States;X-APPLE-RADIUS=500;X-TITLE=3600 52nd St:geo:-87.852374,42.588266
END:VEVENT
BEGIN:VEVENT
DTSTART;TZID=America/Chicago:20260224T190000
DTEND;TZID=America/Chicago:20260224T220000
DTSTAMP:20260421T042732
CREATED:20260113T020542Z
LAST-MODIFIED:20260224T042010Z
UID:10000304-1771959600-1771970400@www.kusd.edu
SUMMARY:Regular School Board Meeting
DESCRIPTION:Agenda
URL:https://www.kusd.edu/grewenow/event/regular-school-board-meeting-6/
LOCATION:KUSD Educational Support Center\, 3600 52nd St\, Kenosha\, WI\, United States
GEO:42.588266;-87.852374
X-APPLE-STRUCTURED-LOCATION;VALUE=URI;X-ADDRESS=KUSD Educational Support Center 3600 52nd St Kenosha WI United States;X-APPLE-RADIUS=500;X-TITLE=3600 52nd St:geo:-87.852374,42.588266
END:VEVENT
BEGIN:VEVENT
DTSTART;TZID=America/Chicago:20260212T170000
DTEND;TZID=America/Chicago:20260212T210000
DTSTAMP:20260421T042732
CREATED:20260112T020548Z
LAST-MODIFIED:20260212T033826Z
UID:10000301-1770915600-1770930000@www.kusd.edu
SUMMARY:Standing Committee Meetings
DESCRIPTION:
URL:https://www.kusd.edu/grewenow/event/standing-committee-meetings-3/
LOCATION:KUSD Educational Support Center\, 3600 52nd St\, Kenosha\, WI\, United States
GEO:42.588266;-87.852374
X-APPLE-STRUCTURED-LOCATION;VALUE=URI;X-ADDRESS=KUSD Educational Support Center 3600 52nd St Kenosha WI United States;X-APPLE-RADIUS=500;X-TITLE=3600 52nd St:geo:-87.852374,42.588266
END:VEVENT
BEGIN:VEVENT
DTSTART;TZID=America/Chicago:20260127T190000
DTEND;TZID=America/Chicago:20260127T220000
DTSTAMP:20260421T042732
CREATED:20260113T020506Z
LAST-MODIFIED:20260128T023537Z
UID:10000303-1769540400-1769551200@www.kusd.edu
SUMMARY:Regular School Board Meeting
DESCRIPTION:
URL:https://www.kusd.edu/grewenow/event/regular-school-board-meeting-5/
LOCATION:KUSD Educational Support Center\, 3600 52nd St\, Kenosha\, WI\, United States
GEO:42.588266;-87.852374
X-APPLE-STRUCTURED-LOCATION;VALUE=URI;X-ADDRESS=KUSD Educational Support Center 3600 52nd St Kenosha WI United States;X-APPLE-RADIUS=500;X-TITLE=3600 52nd St:geo:-87.852374,42.588266
END:VEVENT
BEGIN:VEVENT
DTSTART;TZID=America/Chicago:20260115T170000
DTEND;TZID=America/Chicago:20260115T190000
DTSTAMP:20260421T042732
CREATED:20260113T020506Z
LAST-MODIFIED:20260115T020710Z
UID:10000302-1768496400-1768503600@www.kusd.edu
SUMMARY:Special School Board Meeting (Agenda Review)
DESCRIPTION:
URL:https://www.kusd.edu/grewenow/event/special-school-board-meeting-agenda-review-5/
LOCATION:KUSD Educational Support Center\, 3600 52nd St\, Kenosha\, WI\, United States
GEO:42.588266;-87.852374
X-APPLE-STRUCTURED-LOCATION;VALUE=URI;X-ADDRESS=KUSD Educational Support Center 3600 52nd St Kenosha WI United States;X-APPLE-RADIUS=500;X-TITLE=3600 52nd St:geo:-87.852374,42.588266
END:VEVENT
BEGIN:VEVENT
DTSTART;TZID=America/Chicago:20251209T190000
DTEND;TZID=America/Chicago:20251209T220000
DTSTAMP:20260421T042732
CREATED:20250904T161323Z
LAST-MODIFIED:20251209T230913Z
UID:10000204-1765306800-1765317600@www.kusd.edu
SUMMARY:Regular School Board Meeting
DESCRIPTION:
URL:https://www.kusd.edu/grewenow/event/regular-school-board-meeting-4/
LOCATION:KUSD Educational Support Center\, 3600 52nd St\, Kenosha\, WI\, United States
GEO:42.588266;-87.852374
X-APPLE-STRUCTURED-LOCATION;VALUE=URI;X-ADDRESS=KUSD Educational Support Center 3600 52nd St Kenosha WI United States;X-APPLE-RADIUS=500;X-TITLE=3600 52nd St:geo:-87.852374,42.588266
END:VEVENT
BEGIN:VEVENT
DTSTART;TZID=America/Chicago:20251201T170000
DTEND;TZID=America/Chicago:20251201T190000
DTSTAMP:20260421T042732
CREATED:20250904T161323Z
LAST-MODIFIED:20251201T222327Z
UID:10000202-1764608400-1764615600@www.kusd.edu
SUMMARY:Special School Board Meeting (Agenda Review)
DESCRIPTION:
URL:https://www.kusd.edu/grewenow/event/special-school-board-meeting-agenda-review-4/
LOCATION:KUSD Educational Support Center\, 3600 52nd St\, Kenosha\, WI\, United States
GEO:42.588266;-87.852374
X-APPLE-STRUCTURED-LOCATION;VALUE=URI;X-ADDRESS=KUSD Educational Support Center 3600 52nd St Kenosha WI United States;X-APPLE-RADIUS=500;X-TITLE=3600 52nd St:geo:-87.852374,42.588266
END:VEVENT
BEGIN:VEVENT
DTSTART;TZID=America/Chicago:20251118T190000
DTEND;TZID=America/Chicago:20251118T220000
DTSTAMP:20260421T042732
CREATED:20250904T161312Z
LAST-MODIFIED:20251118T205029Z
UID:10000200-1763492400-1763503200@www.kusd.edu
SUMMARY:Regular School Board Meeting
DESCRIPTION:
URL:https://www.kusd.edu/grewenow/event/regular-school-board-meeting-3/
LOCATION:KUSD Educational Support Center\, 3600 52nd St\, Kenosha\, WI\, United States
GEO:42.588266;-87.852374
X-APPLE-STRUCTURED-LOCATION;VALUE=URI;X-ADDRESS=KUSD Educational Support Center 3600 52nd St Kenosha WI United States;X-APPLE-RADIUS=500;X-TITLE=3600 52nd St:geo:-87.852374,42.588266
END:VEVENT
BEGIN:VEVENT
DTSTART;TZID=America/Chicago:20251111T170000
DTEND;TZID=America/Chicago:20251111T210000
DTSTAMP:20260421T042732
CREATED:20250904T161311Z
LAST-MODIFIED:20251110T200854Z
UID:10000199-1762880400-1762894800@www.kusd.edu
SUMMARY:Standing Committee Meetings
DESCRIPTION:
URL:https://www.kusd.edu/grewenow/event/standing-committee-meetings-2/
LOCATION:KUSD Educational Support Center\, 3600 52nd St\, Kenosha\, WI\, United States
GEO:42.588266;-87.852374
X-APPLE-STRUCTURED-LOCATION;VALUE=URI;X-ADDRESS=KUSD Educational Support Center 3600 52nd St Kenosha WI United States;X-APPLE-RADIUS=500;X-TITLE=3600 52nd St:geo:-87.852374,42.588266
END:VEVENT
BEGIN:VEVENT
DTSTART;TZID=America/Chicago:20251106T170000
DTEND;TZID=America/Chicago:20251106T190000
DTSTAMP:20260421T042732
CREATED:20250904T161311Z
LAST-MODIFIED:20251106T200518Z
UID:10000197-1762448400-1762455600@www.kusd.edu
SUMMARY:Special School Board Meeting (Agenda Review)
DESCRIPTION:
URL:https://www.kusd.edu/grewenow/event/special-school-board-meeting-agenda-review-3/
LOCATION:KUSD Educational Support Center\, 3600 52nd St\, Kenosha\, WI\, United States
GEO:42.588266;-87.852374
X-APPLE-STRUCTURED-LOCATION;VALUE=URI;X-ADDRESS=KUSD Educational Support Center 3600 52nd St Kenosha WI United States;X-APPLE-RADIUS=500;X-TITLE=3600 52nd St:geo:-87.852374,42.588266
END:VEVENT
BEGIN:VEVENT
DTSTART;TZID=America/Chicago:20251028T190000
DTEND;TZID=America/Chicago:20251028T220000
DTSTAMP:20260421T042732
CREATED:20250904T161311Z
LAST-MODIFIED:20251028T192009Z
UID:10000192-1761678000-1761688800@www.kusd.edu
SUMMARY:Regular School Board Meeting
DESCRIPTION:Notice (PDF)Agenda (PDF)
URL:https://www.kusd.edu/grewenow/event/regular-school-board-meeting-2/
LOCATION:KUSD Educational Support Center\, 3600 52nd St\, Kenosha\, WI\, United States
GEO:42.588266;-87.852374
X-APPLE-STRUCTURED-LOCATION;VALUE=URI;X-ADDRESS=KUSD Educational Support Center 3600 52nd St Kenosha WI United States;X-APPLE-RADIUS=500;X-TITLE=3600 52nd St:geo:-87.852374,42.588266
END:VEVENT
BEGIN:VEVENT
DTSTART;TZID=America/Chicago:20251016T170000
DTEND;TZID=America/Chicago:20251016T190000
DTSTAMP:20260421T042732
CREATED:20250904T161311Z
LAST-MODIFIED:20251016T185013Z
UID:10000191-1760634000-1760641200@www.kusd.edu
SUMMARY:Special School Board Meeting (Agenda Review)
DESCRIPTION:Agenda (PDF)
URL:https://www.kusd.edu/grewenow/event/special-school-board-meeting-agenda-review-2/
LOCATION:KUSD Educational Support Center\, 3600 52nd St\, Kenosha\, WI\, United States
GEO:42.588266;-87.852374
X-APPLE-STRUCTURED-LOCATION;VALUE=URI;X-ADDRESS=KUSD Educational Support Center 3600 52nd St Kenosha WI United States;X-APPLE-RADIUS=500;X-TITLE=3600 52nd St:geo:-87.852374,42.588266
END:VEVENT
BEGIN:VEVENT
DTSTART;TZID=America/Chicago:20250923T190000
DTEND;TZID=America/Chicago:20250923T220000
DTSTAMP:20260421T042732
CREATED:20250904T161259Z
LAST-MODIFIED:20250923T172020Z
UID:10000185-1758654000-1758664800@www.kusd.edu
SUMMARY:Regular School Board Meeting
DESCRIPTION:
URL:https://www.kusd.edu/grewenow/event/regular-school-board-meeting/
LOCATION:KUSD Educational Support Center\, 3600 52nd St\, Kenosha\, WI\, United States
GEO:42.588266;-87.852374
X-APPLE-STRUCTURED-LOCATION;VALUE=URI;X-ADDRESS=KUSD Educational Support Center 3600 52nd St Kenosha WI United States;X-APPLE-RADIUS=500;X-TITLE=3600 52nd St:geo:-87.852374,42.588266
END:VEVENT
BEGIN:VEVENT
DTSTART;TZID=America/Chicago:20250911T170000
DTEND;TZID=America/Chicago:20250911T190000
DTSTAMP:20260421T042732
CREATED:20250904T161259Z
LAST-MODIFIED:20250911T163519Z
UID:10000183-1757610000-1757617200@www.kusd.edu
SUMMARY:Special School Board Meeting (Agenda Review)
DESCRIPTION:
URL:https://www.kusd.edu/grewenow/event/special-school-board-meeting-agenda-review/
LOCATION:KUSD Educational Support Center\, 3600 52nd St\, Kenosha\, WI\, United States
GEO:42.588266;-87.852374
X-APPLE-STRUCTURED-LOCATION;VALUE=URI;X-ADDRESS=KUSD Educational Support Center 3600 52nd St Kenosha WI United States;X-APPLE-RADIUS=500;X-TITLE=3600 52nd St:geo:-87.852374,42.588266
END:VEVENT
BEGIN:VEVENT
DTSTART;TZID=America/Chicago:20250909T170000
DTEND;TZID=America/Chicago:20250909T210000
DTSTAMP:20260421T042732
CREATED:20250904T161259Z
LAST-MODIFIED:20250909T162028Z
UID:10000181-1757437200-1757451600@www.kusd.edu
SUMMARY:Standing Committee Meetings
DESCRIPTION:
URL:https://www.kusd.edu/grewenow/event/standing-committee-meetings/
LOCATION:KUSD Educational Support Center\, 3600 52nd St\, Kenosha\, WI\, United States
GEO:42.588266;-87.852374
X-APPLE-STRUCTURED-LOCATION;VALUE=URI;X-ADDRESS=KUSD Educational Support Center 3600 52nd St Kenosha WI United States;X-APPLE-RADIUS=500;X-TITLE=3600 52nd St:geo:-87.852374,42.588266
END:VEVENT
BEGIN:VEVENT
DTSTART;TZID=America/Chicago:20250130T103000
DTEND;TZID=America/Chicago:20250130T113000
DTSTAMP:20260421T042732
CREATED:20241121T053509Z
LAST-MODIFIED:20250130T103727Z
UID:10000114-1738233000-1738236600@www.kusd.edu
SUMMARY:Referendum Town Hall
DESCRIPTION:
URL:https://www.kusd.edu/grewenow/event/referendum-town-hall-3/
LOCATION:KUSD Educational Support Center\, 3600 52nd St\, Kenosha\, WI\, United States
GEO:42.588266;-87.852374
X-APPLE-STRUCTURED-LOCATION;VALUE=URI;X-ADDRESS=KUSD Educational Support Center 3600 52nd St Kenosha WI United States;X-APPLE-RADIUS=500;X-TITLE=3600 52nd St:geo:-87.852374,42.588266
END:VEVENT
BEGIN:VEVENT
DTSTART;TZID=America/Chicago:20240111T173000
DTEND;TZID=America/Chicago:20240111T190000
DTSTAMP:20260421T042732
CREATED:20240105T214044Z
LAST-MODIFIED:20240111T220813Z
UID:10000094-1704994200-1704999600@www.kusd.edu
SUMMARY:Wisconsin Department of Public Instruction Strategic Planning Engagement Session
DESCRIPTION:Join the Wisconsin Department of Public Instruction on Thursday\, Jan. 11\, in Kenosha for its next community engagement event! They want to hear what parents and community members think is important for students at public schools and public libraries. \nThis event will be held in the ESC Board Room. \nRegistration and more info. \nIf you can't make the event but want to share your thoughts\, you can fill out this survey here.
URL:https://www.kusd.edu/grewenow/event/wisconsin-department-of-public-instruction-strategic-planning-engagement-session/
LOCATION:KUSD Educational Support Center\, 3600 52nd St\, Kenosha\, WI\, United States
GEO:42.588266;-87.852374
X-APPLE-STRUCTURED-LOCATION;VALUE=URI;X-ADDRESS=KUSD Educational Support Center 3600 52nd St Kenosha WI United States;X-APPLE-RADIUS=500;X-TITLE=3600 52nd St:geo:-87.852374,42.588266
END:VEVENT
END:VCALENDAR