BEGIN:VCALENDAR
VERSION:2.0
PRODID:-//Grewenow Elementary School - ECPv6.15.20//NONSGML v1.0//EN
CALSCALE:GREGORIAN
METHOD:PUBLISH
X-WR-CALNAME:Grewenow Elementary School
X-ORIGINAL-URL:https://www.kusd.edu/grewenow
X-WR-CALDESC:Events for Grewenow Elementary School
REFRESH-INTERVAL;VALUE=DURATION:PT1H
X-Robots-Tag:noindex
X-PUBLISHED-TTL:PT1H
BEGIN:VTIMEZONE
TZID:America/Chicago
BEGIN:DAYLIGHT
TZOFFSETFROM:-0600
TZOFFSETTO:-0500
TZNAME:CDT
DTSTART:20220313T080000
END:DAYLIGHT
BEGIN:STANDARD
TZOFFSETFROM:-0500
TZOFFSETTO:-0600
TZNAME:CST
DTSTART:20221106T070000
END:STANDARD
BEGIN:DAYLIGHT
TZOFFSETFROM:-0600
TZOFFSETTO:-0500
TZNAME:CDT
DTSTART:20230312T080000
END:DAYLIGHT
BEGIN:STANDARD
TZOFFSETFROM:-0500
TZOFFSETTO:-0600
TZNAME:CST
DTSTART:20231105T070000
END:STANDARD
BEGIN:DAYLIGHT
TZOFFSETFROM:-0600
TZOFFSETTO:-0500
TZNAME:CDT
DTSTART:20240310T080000
END:DAYLIGHT
BEGIN:STANDARD
TZOFFSETFROM:-0500
TZOFFSETTO:-0600
TZNAME:CST
DTSTART:20241103T070000
END:STANDARD
BEGIN:DAYLIGHT
TZOFFSETFROM:-0600
TZOFFSETTO:-0500
TZNAME:CDT
DTSTART:20250309T080000
END:DAYLIGHT
BEGIN:STANDARD
TZOFFSETFROM:-0500
TZOFFSETTO:-0600
TZNAME:CST
DTSTART:20251102T070000
END:STANDARD
BEGIN:DAYLIGHT
TZOFFSETFROM:-0600
TZOFFSETTO:-0500
TZNAME:CDT
DTSTART:20260308T080000
END:DAYLIGHT
BEGIN:STANDARD
TZOFFSETFROM:-0500
TZOFFSETTO:-0600
TZNAME:CST
DTSTART:20261101T070000
END:STANDARD
BEGIN:DAYLIGHT
TZOFFSETFROM:-0600
TZOFFSETTO:-0500
TZNAME:CDT
DTSTART:20270314T080000
END:DAYLIGHT
BEGIN:STANDARD
TZOFFSETFROM:-0500
TZOFFSETTO:-0600
TZNAME:CST
DTSTART:20271107T070000
END:STANDARD
END:VTIMEZONE
BEGIN:VEVENT
DTSTART;TZID=America/Chicago:20260401T173000
DTEND;TZID=America/Chicago:20260401T183000
DTSTAMP:20260421T042844
CREATED:20240412T133351Z
LAST-MODIFIED:20260401T205009Z
UID:10000098-1775064600-1775068200@www.kusd.edu
SUMMARY:GFTC Meeting
DESCRIPTION:
URL:https://www.kusd.edu/grewenow/event/gftc-meeting-38/
LOCATION:Grewenow Library
END:VEVENT
BEGIN:VEVENT
DTSTART;TZID=America/Chicago:20260304T173000
DTEND;TZID=America/Chicago:20260304T183000
DTSTAMP:20260421T042844
CREATED:20240304T005003Z
LAST-MODIFIED:20260304T190541Z
UID:10000097-1772645400-1772649000@www.kusd.edu
SUMMARY:GFTC Meeting
DESCRIPTION:
URL:https://www.kusd.edu/grewenow/event/gftc-meeting-37/
LOCATION:Grewenow Library
END:VEVENT
BEGIN:VEVENT
DTSTART;TZID=America/Chicago:20260204T173000
DTEND;TZID=America/Chicago:20260204T183000
DTSTAMP:20260421T042844
CREATED:20240204T003632Z
LAST-MODIFIED:20260204T170508Z
UID:10000096-1770226200-1770229800@www.kusd.edu
SUMMARY:GFTC Meeting
DESCRIPTION:
URL:https://www.kusd.edu/grewenow/event/gftc-meeting-36/
LOCATION:Grewenow Library
END:VEVENT
BEGIN:VEVENT
DTSTART;TZID=America/Chicago:20260107T173000
DTEND;TZID=America/Chicago:20260107T183000
DTSTAMP:20260421T042844
CREATED:20240107T215032Z
LAST-MODIFIED:20260107T155016Z
UID:10000095-1767807000-1767810600@www.kusd.edu
SUMMARY:GFTC Meeting
DESCRIPTION:
URL:https://www.kusd.edu/grewenow/event/gftc-meeting-35/
LOCATION:Grewenow Library
END:VEVENT
BEGIN:VEVENT
DTSTART;TZID=America/Chicago:20251203T173000
DTEND;TZID=America/Chicago:20251203T183000
DTSTAMP:20260421T042844
CREATED:20231203T183702Z
LAST-MODIFIED:20251203T130600Z
UID:10000091-1764783000-1764786600@www.kusd.edu
SUMMARY:GFTC Meeting
DESCRIPTION:
URL:https://www.kusd.edu/grewenow/event/gftc-meeting-34/
LOCATION:Grewenow Library
END:VEVENT
BEGIN:VEVENT
DTSTART;TZID=America/Chicago:20251105T173000
DTEND;TZID=America/Chicago:20251105T183000
DTSTAMP:20260421T042844
CREATED:20231105T170710Z
LAST-MODIFIED:20251105T100556Z
UID:10000090-1762363800-1762367400@www.kusd.edu
SUMMARY:GFTC Meeting
DESCRIPTION:
URL:https://www.kusd.edu/grewenow/event/gftc-meeting-33/
LOCATION:Grewenow Library
END:VEVENT
BEGIN:VEVENT
DTSTART;TZID=America/Chicago:20251001T173000
DTEND;TZID=America/Chicago:20251001T183000
DTSTAMP:20260421T042844
CREATED:20231021T155042Z
LAST-MODIFIED:20251001T080608Z
UID:10000089-1759339800-1759343400@www.kusd.edu
SUMMARY:GFTC Meeting
DESCRIPTION:
URL:https://www.kusd.edu/grewenow/event/gftc-meeting-32/
LOCATION:Grewenow Library
END:VEVENT
BEGIN:VEVENT
DTSTART;TZID=America/Chicago:20250910T173000
DTEND;TZID=America/Chicago:20250910T183000
DTSTAMP:20260421T042844
CREATED:20231020T154129Z
LAST-MODIFIED:20250910T070531Z
UID:10000088-1757525400-1757529000@www.kusd.edu
SUMMARY:GFTC Meeting
DESCRIPTION:
URL:https://www.kusd.edu/grewenow/event/gftc-meeting-31/
LOCATION:Grewenow Library
END:VEVENT
BEGIN:VEVENT
DTSTART;TZID=America/Chicago:20250806T173000
DTEND;TZID=America/Chicago:20250806T183000
DTSTAMP:20260421T042844
CREATED:20230806T173246Z
LAST-MODIFIED:20250806T052011Z
UID:10000039-1754501400-1754505000@www.kusd.edu
SUMMARY:GFTC Meeting
DESCRIPTION:
URL:https://www.kusd.edu/grewenow/event/gftc-meeting-30/
LOCATION:Grewenow Library
END:VEVENT
BEGIN:VEVENT
DTSTART;TZID=America/Chicago:20250702T173000
DTEND;TZID=America/Chicago:20250702T183000
DTSTAMP:20260421T042844
CREATED:20230703T141355Z
LAST-MODIFIED:20250702T032011Z
UID:10000036-1751477400-1751481000@www.kusd.edu
SUMMARY:GFTC Meeting
DESCRIPTION:
URL:https://www.kusd.edu/grewenow/event/gftc-meeting-28/
LOCATION:Grewenow Library
END:VEVENT
BEGIN:VEVENT
DTSTART;TZID=America/Chicago:20250604T173000
DTEND;TZID=America/Chicago:20250604T183000
DTSTAMP:20260421T042844
CREATED:20230703T141354Z
LAST-MODIFIED:20250604T025008Z
UID:10000035-1749058200-1749061800@www.kusd.edu
SUMMARY:GFTC Meeting
DESCRIPTION:
URL:https://www.kusd.edu/grewenow/event/gftc-meeting-27/
LOCATION:Grewenow Library
END:VEVENT
BEGIN:VEVENT
DTSTART;TZID=America/Chicago:20250507T173000
DTEND;TZID=America/Chicago:20250507T183000
DTSTAMP:20260421T042844
CREATED:20230703T141354Z
LAST-MODIFIED:20250507T013803Z
UID:10000034-1746639000-1746642600@www.kusd.edu
SUMMARY:GFTC Meeting
DESCRIPTION:
URL:https://www.kusd.edu/grewenow/event/gftc-meeting-26/
LOCATION:Grewenow Library
END:VEVENT
BEGIN:VEVENT
DTSTART;TZID=America/Chicago:20250402T173000
DTEND;TZID=America/Chicago:20250402T183000
DTSTAMP:20260421T042844
CREATED:20230421T132227Z
LAST-MODIFIED:20250402T002202Z
UID:10000031-1743615000-1743618600@www.kusd.edu
SUMMARY:GFTC Meeting
DESCRIPTION:
URL:https://www.kusd.edu/grewenow/event/gftc-meeting-25/
LOCATION:Grewenow Library
END:VEVENT
BEGIN:VEVENT
DTSTART;TZID=America/Chicago:20250305T173000
DTEND;TZID=America/Chicago:20250305T183000
DTSTAMP:20260421T042844
CREATED:20230325T003456Z
LAST-MODIFIED:20250305T213623Z
UID:10000030-1741195800-1741199400@www.kusd.edu
SUMMARY:GFTC Meeting
DESCRIPTION:
URL:https://www.kusd.edu/grewenow/event/gftc-meeting-24/
LOCATION:Grewenow Library
END:VEVENT
BEGIN:VEVENT
DTSTART;TZID=America/Chicago:20250205T173000
DTEND;TZID=America/Chicago:20250205T183000
DTSTAMP:20260421T042844
CREATED:20230325T003455Z
LAST-MODIFIED:20250205T112019Z
UID:10000029-1738776600-1738780200@www.kusd.edu
SUMMARY:GFTC Meeting
DESCRIPTION:
URL:https://www.kusd.edu/grewenow/event/gftc-meeting-23/
LOCATION:Grewenow Library
END:VEVENT
BEGIN:VEVENT
DTSTART;TZID=America/Chicago:20250101T173000
DTEND;TZID=America/Chicago:20250101T183000
DTSTAMP:20260421T042844
CREATED:20230325T003455Z
LAST-MODIFIED:20250101T083909Z
UID:10000028-1735752600-1735756200@www.kusd.edu
SUMMARY:GFTC Meeting
DESCRIPTION:
URL:https://www.kusd.edu/grewenow/event/gftc-meeting-22/
LOCATION:Grewenow Library
END:VEVENT
BEGIN:VEVENT
DTSTART;TZID=America/Chicago:20241204T173000
DTEND;TZID=America/Chicago:20241204T183000
DTSTAMP:20260421T042844
CREATED:20230325T003455Z
LAST-MODIFIED:20241204T055302Z
UID:10000027-1733333400-1733337000@www.kusd.edu
SUMMARY:GFTC Meeting
DESCRIPTION:
URL:https://www.kusd.edu/grewenow/event/gftc-meeting-21/
LOCATION:Grewenow Library
END:VEVENT
BEGIN:VEVENT
DTSTART;TZID=America/Chicago:20241106T173000
DTEND;TZID=America/Chicago:20241106T183000
DTSTAMP:20260421T042844
CREATED:20230325T003455Z
LAST-MODIFIED:20241106T040852Z
UID:10000026-1730914200-1730917800@www.kusd.edu
SUMMARY:GFTC Meeting
DESCRIPTION:
URL:https://www.kusd.edu/grewenow/event/gftc-meeting-20/
LOCATION:Grewenow Library
END:VEVENT
BEGIN:VEVENT
DTSTART;TZID=America/Chicago:20241002T173000
DTEND;TZID=America/Chicago:20241002T183000
DTSTAMP:20260421T042844
CREATED:20230325T003455Z
LAST-MODIFIED:20241002T005357Z
UID:10000025-1727890200-1727893800@www.kusd.edu
SUMMARY:GFTC Meeting
DESCRIPTION:
URL:https://www.kusd.edu/grewenow/event/gftc-meeting-19/
LOCATION:Grewenow Library
END:VEVENT
BEGIN:VEVENT
DTSTART;TZID=America/Chicago:20240904T173000
DTEND;TZID=America/Chicago:20240904T183000
DTSTAMP:20260421T042844
CREATED:20230325T003455Z
LAST-MODIFIED:20240904T230558Z
UID:10000024-1725471000-1725474600@www.kusd.edu
SUMMARY:GFTC Meeting
DESCRIPTION:
URL:https://www.kusd.edu/grewenow/event/gftc-meeting-18/
LOCATION:Grewenow Library
END:VEVENT
BEGIN:VEVENT
DTSTART;TZID=America/Chicago:20240807T173000
DTEND;TZID=America/Chicago:20240807T183000
DTSTAMP:20260421T042844
CREATED:20230325T003455Z
LAST-MODIFIED:20240807T212009Z
UID:10000023-1723051800-1723055400@www.kusd.edu
SUMMARY:GFTC Meeting
DESCRIPTION:
URL:https://www.kusd.edu/grewenow/event/gftc-meeting-17/
LOCATION:Grewenow Library
END:VEVENT
BEGIN:VEVENT
DTSTART;TZID=America/Chicago:20240703T173000
DTEND;TZID=America/Chicago:20240703T183000
DTSTAMP:20260421T042844
CREATED:20230325T003455Z
LAST-MODIFIED:20240703T200630Z
UID:10000022-1720027800-1720031400@www.kusd.edu
SUMMARY:GFTC Meeting
DESCRIPTION:
URL:https://www.kusd.edu/grewenow/event/gftc-meeting-16/
LOCATION:Grewenow Library
END:VEVENT
BEGIN:VEVENT
DTSTART;TZID=America/Chicago:20240605T173000
DTEND;TZID=America/Chicago:20240605T183000
DTSTAMP:20260421T042844
CREATED:20230325T003455Z
LAST-MODIFIED:20240605T182353Z
UID:10000021-1717608600-1717612200@www.kusd.edu
SUMMARY:GFTC Meeting
DESCRIPTION:
URL:https://www.kusd.edu/grewenow/event/gftc-meeting-15/
LOCATION:Grewenow Library
END:VEVENT
BEGIN:VEVENT
DTSTART;TZID=America/Chicago:20240501T173000
DTEND;TZID=America/Chicago:20240501T183000
DTSTAMP:20260421T042844
CREATED:20230325T003443Z
LAST-MODIFIED:20240501T153509Z
UID:10000020-1714584600-1714588200@www.kusd.edu
SUMMARY:GFTC Meeting
DESCRIPTION:
URL:https://www.kusd.edu/grewenow/event/gftc-meeting-14/
LOCATION:Grewenow Library
END:VEVENT
BEGIN:VEVENT
DTSTART;TZID=America/Chicago:20240403T173000
DTEND;TZID=America/Chicago:20240403T183000
DTSTAMP:20260421T042844
CREATED:20230325T003443Z
LAST-MODIFIED:20240319T020511Z
UID:10000019-1712165400-1712169000@www.kusd.edu
SUMMARY:GFTC Meeting
DESCRIPTION:
URL:https://www.kusd.edu/grewenow/event/gftc-meeting-13/
LOCATION:Grewenow Library
END:VEVENT
BEGIN:VEVENT
DTSTART;TZID=America/Chicago:20240306T173000
DTEND;TZID=America/Chicago:20240306T183000
DTSTAMP:20260421T042844
CREATED:20230325T003443Z
LAST-MODIFIED:20240306T005020Z
UID:10000018-1709746200-1709749800@www.kusd.edu
SUMMARY:GFTC Meeting
DESCRIPTION:
URL:https://www.kusd.edu/grewenow/event/gftc-meeting-12/
LOCATION:Grewenow Library
END:VEVENT
BEGIN:VEVENT
DTSTART;TZID=America/Chicago:20240207T173000
DTEND;TZID=America/Chicago:20240207T183000
DTSTAMP:20260421T042844
CREATED:20230325T003443Z
LAST-MODIFIED:20240207T012008Z
UID:10000017-1707327000-1707330600@www.kusd.edu
SUMMARY:GFTC Meeting
DESCRIPTION:
URL:https://www.kusd.edu/grewenow/event/gftc-meeting-11/
LOCATION:Grewenow Library
END:VEVENT
BEGIN:VEVENT
DTSTART;TZID=America/Chicago:20240103T173000
DTEND;TZID=America/Chicago:20240103T183000
DTSTAMP:20260421T042844
CREATED:20230325T003442Z
LAST-MODIFIED:20240103T212731Z
UID:10000016-1704303000-1704306600@www.kusd.edu
SUMMARY:GFTC Meeting
DESCRIPTION:
URL:https://www.kusd.edu/grewenow/event/gftc-meeting-10/
LOCATION:Grewenow Library
END:VEVENT
BEGIN:VEVENT
DTSTART;TZID=America/Chicago:20231206T173000
DTEND;TZID=America/Chicago:20231206T183000
DTSTAMP:20260421T042844
CREATED:20230325T003442Z
LAST-MODIFIED:20231206T185159Z
UID:10000015-1701883800-1701887400@www.kusd.edu
SUMMARY:GFTC Meeting
DESCRIPTION:
URL:https://www.kusd.edu/grewenow/event/gftc-meeting-9/
LOCATION:Grewenow Library
END:VEVENT
BEGIN:VEVENT
DTSTART;TZID=America/Chicago:20231101T173000
DTEND;TZID=America/Chicago:20231101T183000
DTSTAMP:20260421T042844
CREATED:20230325T003442Z
LAST-MODIFIED:20231101T165219Z
UID:10000014-1698859800-1698863400@www.kusd.edu
SUMMARY:GFTC Meeting
DESCRIPTION:
URL:https://www.kusd.edu/grewenow/event/gftc-meeting-8/
LOCATION:Grewenow Library
END:VEVENT
BEGIN:VEVENT
DTSTART;TZID=America/Chicago:20231004T173000
DTEND;TZID=America/Chicago:20231004T183000
DTSTAMP:20260421T042844
CREATED:20230325T003442Z
LAST-MODIFIED:20231004T150725Z
UID:10000013-1696440600-1696444200@www.kusd.edu
SUMMARY:GFTC Meeting
DESCRIPTION:
URL:https://www.kusd.edu/grewenow/event/gftc-meeting-7/
LOCATION:Grewenow Library
END:VEVENT
BEGIN:VEVENT
DTSTART;TZID=America/Chicago:20230913T173000
DTEND;TZID=America/Chicago:20230913T183000
DTSTAMP:20260421T042844
CREATED:20230325T003442Z
LAST-MODIFIED:20230913T203207Z
UID:10000012-1694626200-1694629800@www.kusd.edu
SUMMARY:GFTC Meeting
DESCRIPTION:
URL:https://www.kusd.edu/grewenow/event/gftc-meeting-6/
LOCATION:Grewenow Library
END:VEVENT
BEGIN:VEVENT
DTSTART;TZID=America/Chicago:20230705T173000
DTEND;TZID=America/Chicago:20230705T183000
DTSTAMP:20260421T042844
CREATED:20230325T003430Z
LAST-MODIFIED:20230704T143211Z
UID:10000010-1688578200-1688581800@www.kusd.edu
SUMMARY:GFTC Meeting
DESCRIPTION:
URL:https://www.kusd.edu/grewenow/event/gftc-meeting-4/
LOCATION:Grewenow Library
END:VEVENT
BEGIN:VEVENT
DTSTART;TZID=America/Chicago:20230607T173000
DTEND;TZID=America/Chicago:20230607T183000
DTSTAMP:20260421T042844
CREATED:20230325T003430Z
LAST-MODIFIED:20230428T210306Z
UID:10000008-1686159000-1686162600@www.kusd.edu
SUMMARY:GFTC Meeting
DESCRIPTION:
URL:https://www.kusd.edu/grewenow/event/gftc-meeting-3/
LOCATION:Grewenow Library
END:VEVENT
BEGIN:VEVENT
DTSTART;TZID=America/Chicago:20230503T173000
DTEND;TZID=America/Chicago:20230503T183000
DTSTAMP:20260421T042844
CREATED:20230325T003430Z
LAST-MODIFIED:20230428T210306Z
UID:10000005-1683135000-1683138600@www.kusd.edu
SUMMARY:GFTC Meeting
DESCRIPTION:
URL:https://www.kusd.edu/grewenow/event/gftc-meeting-2/
LOCATION:Grewenow Library
END:VEVENT
BEGIN:VEVENT
DTSTART;TZID=America/Chicago:20230405T173000
DTEND;TZID=America/Chicago:20230405T183000
DTSTAMP:20260421T042844
CREATED:20230325T003430Z
LAST-MODIFIED:20230325T003430Z
UID:10000003-1680715800-1680719400@www.kusd.edu
SUMMARY:GFTC Meeting
DESCRIPTION:
URL:https://www.kusd.edu/grewenow/event/gftc-meeting/
LOCATION:Grewenow Library
END:VEVENT
END:VCALENDAR