BEGIN:VCALENDAR
VERSION:2.0
PRODID:-//Grewenow Elementary School - ECPv6.15.20//NONSGML v1.0//EN
CALSCALE:GREGORIAN
METHOD:PUBLISH
X-WR-CALNAME:Grewenow Elementary School
X-ORIGINAL-URL:https://www.kusd.edu/grewenow
X-WR-CALDESC:Events for Grewenow Elementary School
REFRESH-INTERVAL;VALUE=DURATION:PT1H
X-Robots-Tag:noindex
X-PUBLISHED-TTL:PT1H
BEGIN:VTIMEZONE
TZID:America/Chicago
BEGIN:DAYLIGHT
TZOFFSETFROM:-0600
TZOFFSETTO:-0500
TZNAME:CDT
DTSTART:20250309T080000
END:DAYLIGHT
BEGIN:STANDARD
TZOFFSETFROM:-0500
TZOFFSETTO:-0600
TZNAME:CST
DTSTART:20251102T070000
END:STANDARD
BEGIN:DAYLIGHT
TZOFFSETFROM:-0600
TZOFFSETTO:-0500
TZNAME:CDT
DTSTART:20260308T080000
END:DAYLIGHT
BEGIN:STANDARD
TZOFFSETFROM:-0500
TZOFFSETTO:-0600
TZNAME:CST
DTSTART:20261101T070000
END:STANDARD
BEGIN:DAYLIGHT
TZOFFSETFROM:-0600
TZOFFSETTO:-0500
TZNAME:CDT
DTSTART:20270314T080000
END:DAYLIGHT
BEGIN:STANDARD
TZOFFSETFROM:-0500
TZOFFSETTO:-0600
TZNAME:CST
DTSTART:20271107T070000
END:STANDARD
END:VTIMEZONE
BEGIN:VEVENT
DTSTART;TZID=America/Chicago:20260603T173000
DTEND;TZID=America/Chicago:20260603T183000
DTSTAMP:20260421T024859
CREATED:20240603T175235Z
LAST-MODIFIED:20260421T013518Z
UID:10000100-1780507800-1780511400@www.kusd.edu
SUMMARY:GFTC Meeting
DESCRIPTION:
URL:https://www.kusd.edu/grewenow/event/gftc-meeting-40/
LOCATION:Grewenow Library
END:VEVENT
BEGIN:VEVENT
DTSTART;TZID=America/Chicago:20260604T093000
DTEND;TZID=America/Chicago:20260604T103000
DTSTAMP:20260421T024859
CREATED:20251214T235154Z
LAST-MODIFIED:20260420T152308Z
UID:10000295-1780565400-1780569000@www.kusd.edu
SUMMARY:Hillcrest Bridges/SOAR Graduation
DESCRIPTION:
URL:https://www.kusd.edu/grewenow/event/hillcrest-bridges-soar-graduation/
LOCATION:WI
END:VEVENT
BEGIN:VEVENT
DTSTART;TZID=America/Chicago:20260604T180000
DTEND;TZID=America/Chicago:20260604T190000
DTSTAMP:20260421T024859
CREATED:20251227T003639Z
LAST-MODIFIED:20260420T152320Z
UID:10000296-1780596000-1780599600@www.kusd.edu
SUMMARY:LakeView Graduation
DESCRIPTION:
URL:https://www.kusd.edu/grewenow/event/lakeview-graduation/
LOCATION:Indian Trail High School and Academy\, 6800 60th St\, Kenosha\, WI\, United States
GEO:42.581678;-87.890829
X-APPLE-STRUCTURED-LOCATION;VALUE=URI;X-ADDRESS=Indian Trail High School and Academy 6800 60th St Kenosha WI United States;X-APPLE-RADIUS=500;X-TITLE=6800 60th St:geo:-87.890829,42.581678
END:VEVENT
BEGIN:VEVENT
DTSTART;TZID=America/Chicago:20260605T093000
DTEND;TZID=America/Chicago:20260605T103000
DTSTAMP:20260421T024859
CREATED:20260101T005056Z
LAST-MODIFIED:20260420T152320Z
UID:10000297-1780651800-1780655400@www.kusd.edu
SUMMARY:Hillcrest TIME/SOAR Graduation
DESCRIPTION:
URL:https://www.kusd.edu/grewenow/event/hillcrest-time-soar-graduation/
LOCATION:WI
END:VEVENT
BEGIN:VEVENT
DTSTART;TZID=America/Chicago:20260605T170000
DTEND;TZID=America/Chicago:20260605T180000
DTSTAMP:20260421T024859
CREATED:20260103T010907Z
LAST-MODIFIED:20260420T152320Z
UID:10000298-1780678800-1780682400@www.kusd.edu
SUMMARY:Harborside Graduation
DESCRIPTION:
URL:https://www.kusd.edu/grewenow/event/harborside-graduation/
LOCATION:Harborside Academy\, 913 57th St\, Kenosha\, WI\, United States
GEO:42.583631;-87.822119
X-APPLE-STRUCTURED-LOCATION;VALUE=URI;X-ADDRESS=Harborside Academy 913 57th St Kenosha WI United States;X-APPLE-RADIUS=500;X-TITLE=913 57th St:geo:-87.822119,42.583631
END:VEVENT
BEGIN:VEVENT
DTSTART;TZID=America/Chicago:20260605T190000
DTEND;TZID=America/Chicago:20260605T200000
DTSTAMP:20260421T024859
CREATED:20260108T015141Z
LAST-MODIFIED:20260420T152320Z
UID:10000300-1780686000-1780689600@www.kusd.edu
SUMMARY:Tremper Graduation
DESCRIPTION:
URL:https://www.kusd.edu/grewenow/event/tremper-graduation/
LOCATION:Ameche Field\, 8701 26th Ave\, Kenosha\, WI\, United States
GEO:42.54837;-87.839946
X-APPLE-STRUCTURED-LOCATION;VALUE=URI;X-ADDRESS=Ameche Field 8701 26th Ave Kenosha WI United States;X-APPLE-RADIUS=500;X-TITLE=8701 26th Ave:geo:-87.839946,42.54837
END:VEVENT
BEGIN:VEVENT
DTSTART;TZID=America/Chicago:20260606T100000
DTEND;TZID=America/Chicago:20260606T110000
DTSTAMP:20260421T024859
CREATED:20260130T024044Z
LAST-MODIFIED:20260420T152320Z
UID:10000313-1780740000-1780743600@www.kusd.edu
SUMMARY:Reuther Graduation
DESCRIPTION:
URL:https://www.kusd.edu/grewenow/event/reuther-graduation/
LOCATION:Reuther Central High School\, 913 57th St\, Kenosha\, WI\, United States
GEO:42.583631;-87.822119
X-APPLE-STRUCTURED-LOCATION;VALUE=URI;X-ADDRESS=Reuther Central High School 913 57th St Kenosha WI United States;X-APPLE-RADIUS=500;X-TITLE=913 57th St:geo:-87.822119,42.583631
END:VEVENT
BEGIN:VEVENT
DTSTART;TZID=America/Chicago:20260606T140000
DTEND;TZID=America/Chicago:20260606T150000
DTSTAMP:20260421T024859
CREATED:20260201T025137Z
LAST-MODIFIED:20260420T152320Z
UID:10000314-1780754400-1780758000@www.kusd.edu
SUMMARY:Bradford Graduation
DESCRIPTION:
URL:https://www.kusd.edu/grewenow/event/bradford-graduation/
LOCATION:Bradford High School\, 3700 Washington Rd\, Kenosha\, WI\, United States
GEO:42.602717;-87.85215
X-APPLE-STRUCTURED-LOCATION;VALUE=URI;X-ADDRESS=Bradford High School 3700 Washington Rd Kenosha WI United States;X-APPLE-RADIUS=500;X-TITLE=3700 Washington Rd:geo:-87.85215,42.602717
END:VEVENT
BEGIN:VEVENT
DTSTART;TZID=America/Chicago:20260606T190000
DTEND;TZID=America/Chicago:20260606T200000
DTSTAMP:20260421T024859
CREATED:20260201T025137Z
LAST-MODIFIED:20260420T152320Z
UID:10000315-1780772400-1780776000@www.kusd.edu
SUMMARY:Indian Trail Graduation
DESCRIPTION:
URL:https://www.kusd.edu/grewenow/event/indian-trail-graduation/
LOCATION:Indian Trail High School and Academy\, 6800 60th St\, Kenosha\, WI\, United States
GEO:42.581678;-87.890829
X-APPLE-STRUCTURED-LOCATION;VALUE=URI;X-ADDRESS=Indian Trail High School and Academy 6800 60th St Kenosha WI United States;X-APPLE-RADIUS=500;X-TITLE=6800 60th St:geo:-87.890829,42.581678
END:VEVENT
BEGIN:VEVENT
DTSTART;TZID=America/Chicago:20260608T170000
DTEND;TZID=America/Chicago:20260608T180000
DTSTAMP:20260421T024859
CREATED:20260211T032120Z
LAST-MODIFIED:20260420T152320Z
UID:10000321-1780938000-1780941600@www.kusd.edu
SUMMARY:HSDO (ITED) Graduation
DESCRIPTION:
URL:https://www.kusd.edu/grewenow/event/hsdo-ited-graduation/
LOCATION:Indian Trail High School and Academy\, 6800 60th St\, Kenosha\, WI\, United States
GEO:42.581678;-87.890829
X-APPLE-STRUCTURED-LOCATION;VALUE=URI;X-ADDRESS=Indian Trail High School and Academy 6800 60th St Kenosha WI United States;X-APPLE-RADIUS=500;X-TITLE=6800 60th St:geo:-87.890829,42.581678
END:VEVENT
BEGIN:VEVENT
DTSTART;VALUE=DATE:20260609
DTEND;VALUE=DATE:20260610
DTSTAMP:20260421T024859
CREATED:20260213T033845Z
LAST-MODIFIED:20260420T152320Z
UID:10000323-1780963200-1781049599@www.kusd.edu
SUMMARY:High school finals\, early release for high school students
DESCRIPTION:
URL:https://www.kusd.edu/grewenow/event/high-school-finals-early-release-for-high-school-students-5/
LOCATION:WI
END:VEVENT
BEGIN:VEVENT
DTSTART;VALUE=DATE:20260610
DTEND;VALUE=DATE:20260611
DTSTAMP:20260421T024859
CREATED:20260213T033845Z
LAST-MODIFIED:20260420T152320Z
UID:10000322-1781049600-1781135999@www.kusd.edu
SUMMARY:High school finals\, early release for high school students
DESCRIPTION:
URL:https://www.kusd.edu/grewenow/event/high-school-finals-early-release-for-high-school-students-4/
LOCATION:WI
END:VEVENT
BEGIN:VEVENT
DTSTART;VALUE=DATE:20260611
DTEND;VALUE=DATE:20260612
DTSTAMP:20260421T024859
CREATED:20260213T033845Z
LAST-MODIFIED:20260420T152332Z
UID:10000324-1781136000-1781222399@www.kusd.edu
SUMMARY:High school finals\, early release for high school students
DESCRIPTION:
URL:https://www.kusd.edu/grewenow/event/high-school-finals-early-release-for-high-school-students-6/
LOCATION:WI
END:VEVENT
BEGIN:VEVENT
DTSTART;VALUE=DATE:20260611
DTEND;VALUE=DATE:20260612
DTSTAMP:20260421T024859
CREATED:20260218T040652Z
LAST-MODIFIED:20260420T152332Z
UID:10000328-1781136000-1781222399@www.kusd.edu
SUMMARY:Fourth Quarter Ends\, Last Day for Students
DESCRIPTION:
URL:https://www.kusd.edu/grewenow/event/fourth-quarter-ends-last-day-for-students/
LOCATION:WI
END:VEVENT
BEGIN:VEVENT
DTSTART;TZID=America/Chicago:20260611T170000
DTEND;TZID=America/Chicago:20260611T210000
DTSTAMP:20260421T024859
CREATED:20260216T035330Z
LAST-MODIFIED:20260420T152332Z
UID:10000326-1781197200-1781211600@www.kusd.edu
SUMMARY:Standing Committee Meetings
DESCRIPTION:
URL:https://www.kusd.edu/grewenow/event/standing-committee-meetings-5/
LOCATION:KUSD Educational Support Center\, 3600 52nd St\, Kenosha\, WI\, United States
GEO:42.588266;-87.852374
X-APPLE-STRUCTURED-LOCATION;VALUE=URI;X-ADDRESS=KUSD Educational Support Center 3600 52nd St Kenosha WI United States;X-APPLE-RADIUS=500;X-TITLE=3600 52nd St:geo:-87.852374,42.588266
END:VEVENT
BEGIN:VEVENT
DTSTART;VALUE=DATE:20260612
DTEND;VALUE=DATE:20260613
DTSTAMP:20260421T024859
CREATED:20250618T030554Z
LAST-MODIFIED:20250903T065054Z
UID:10000149-1781222400-1781308799@www.kusd.edu
SUMMARY:No School\, Staff Workday
DESCRIPTION:
URL:https://www.kusd.edu/grewenow/event/no-school-staff-workday-4/
LOCATION:WI
END:VEVENT
BEGIN:VEVENT
DTSTART;VALUE=DATE:20260612
DTEND;VALUE=DATE:20260613
DTSTAMP:20260421T024859
CREATED:20260215T035135Z
LAST-MODIFIED:20260420T152332Z
UID:10000325-1781222400-1781308799@www.kusd.edu
SUMMARY:Staff Workday
DESCRIPTION:
URL:https://www.kusd.edu/grewenow/event/staff-workday/
LOCATION:WI
END:VEVENT
BEGIN:VEVENT
DTSTART;TZID=America/Chicago:20260623T190000
DTEND;TZID=America/Chicago:20260623T220000
DTSTAMP:20260421T024859
CREATED:20260227T043846Z
LAST-MODIFIED:20260420T152332Z
UID:10000329-1782241200-1782252000@www.kusd.edu
SUMMARY:Regular School Board Meeting
DESCRIPTION:
URL:https://www.kusd.edu/grewenow/event/regular-school-board-meeting-10/
LOCATION:KUSD Educational Support Center\, 3600 52nd St\, Kenosha\, WI\, United States
GEO:42.588266;-87.852374
X-APPLE-STRUCTURED-LOCATION;VALUE=URI;X-ADDRESS=KUSD Educational Support Center 3600 52nd St Kenosha WI United States;X-APPLE-RADIUS=500;X-TITLE=3600 52nd St:geo:-87.852374,42.588266
END:VEVENT
END:VCALENDAR