BEGIN:VCALENDAR
VERSION:2.0
PRODID:-//Grewenow Elementary School - ECPv6.15.20//NONSGML v1.0//EN
CALSCALE:GREGORIAN
METHOD:PUBLISH
X-ORIGINAL-URL:https://www.kusd.edu/grewenow
X-WR-CALDESC:Events for Grewenow Elementary School
REFRESH-INTERVAL;VALUE=DURATION:PT1H
X-Robots-Tag:noindex
X-PUBLISHED-TTL:PT1H
BEGIN:VTIMEZONE
TZID:America/Chicago
BEGIN:DAYLIGHT
TZOFFSETFROM:-0600
TZOFFSETTO:-0500
TZNAME:CDT
DTSTART:20250309T080000
END:DAYLIGHT
BEGIN:STANDARD
TZOFFSETFROM:-0500
TZOFFSETTO:-0600
TZNAME:CST
DTSTART:20251102T070000
END:STANDARD
BEGIN:DAYLIGHT
TZOFFSETFROM:-0600
TZOFFSETTO:-0500
TZNAME:CDT
DTSTART:20260308T080000
END:DAYLIGHT
BEGIN:STANDARD
TZOFFSETFROM:-0500
TZOFFSETTO:-0600
TZNAME:CST
DTSTART:20261101T070000
END:STANDARD
BEGIN:DAYLIGHT
TZOFFSETFROM:-0600
TZOFFSETTO:-0500
TZNAME:CDT
DTSTART:20270314T080000
END:DAYLIGHT
BEGIN:STANDARD
TZOFFSETFROM:-0500
TZOFFSETTO:-0600
TZNAME:CST
DTSTART:20271107T070000
END:STANDARD
END:VTIMEZONE
BEGIN:VEVENT
DTSTART;TZID=America/Chicago:20260505T180000
DTEND;TZID=America/Chicago:20260505T190000
DTSTAMP:20260421T025142
CREATED:20251202T222426Z
LAST-MODIFIED:20260420T152308Z
UID:10000289-1778004000-1778007600@www.kusd.edu
SUMMARY:Growing Gardeners Family Education Program
DESCRIPTION:Elementary students and their families are invited to plant a “Salsa Pot” filled with fresh ingredients like tomatoes\, cilantro\, and peppers! Choose the date and location that works best for you\, and join Farmer Stephanie from the Funkin Farm for a fun\, interactive program that will help your family learn how to care for your plants and enjoy the rewards all summer long. From garden to table—your homemade salsa journey starts here! \nEvent Details: \n \n\nTuesday\, May 5 @ Jeffery ElementaryOR\nThursday\, May 7 @ Grant Elementary\n6-7 p.m.\nRegister for Growing Gardeners\n\nEveryone is welcome to participate in our family education programs! Non-KUSD families and community members must join our Family Education Programs Community Group to register for this event. Once joined\, you’ll receive updates and can register for future events without rejoining.
URL:https://www.kusd.edu/grewenow/event/family-education-program-growing-gardeners/
LOCATION:Jeffery Elementary School\, 4011 87th St\, Kenosha\, WI\, United States
GEO:42.547565;-87.855718
X-APPLE-STRUCTURED-LOCATION;VALUE=URI;X-ADDRESS=Jeffery Elementary School 4011 87th St Kenosha WI United States;X-APPLE-RADIUS=500;X-TITLE=4011 87th St:geo:-87.855718,42.547565
END:VEVENT
BEGIN:VEVENT
DTSTART;TZID=America/Chicago:20260506T173000
DTEND;TZID=America/Chicago:20260506T183000
DTSTAMP:20260421T025142
CREATED:20240506T160955Z
LAST-MODIFIED:20260421T013518Z
UID:10000099-1778088600-1778092200@www.kusd.edu
SUMMARY:GFTC Meeting
DESCRIPTION:
URL:https://www.kusd.edu/grewenow/event/gftc-meeting-39/
LOCATION:Grewenow Library
END:VEVENT
BEGIN:VEVENT
DTSTART;TZID=America/Chicago:20260507T180000
DTEND;TZID=America/Chicago:20260507T190000
DTSTAMP:20260421T025142
CREATED:20251202T222426Z
LAST-MODIFIED:20260420T152308Z
UID:10000290-1778176800-1778180400@www.kusd.edu
SUMMARY:Growing Gardeners Family Education Program
DESCRIPTION:Elementary students and their families are invited to plant a “Salsa Pot” filled with fresh ingredients like tomatoes\, cilantro\, and peppers! Choose the date and location that works best for you\, and join Farmer Stephanie from the Funkin Farm for a fun\, interactive program that will help your family learn how to care for your plants and enjoy the rewards all summer long. From garden to table—your homemade salsa journey starts here! \nEvent Details: \n \n\nTuesday\, May 5 @ Jeffery ElementaryOR\nThursday\, May 7 @ Grant Elementary\n6-7 p.m.\nRegister for Growing Gardeners\n\nEveryone is welcome to participate in our family education programs! Non-KUSD families and community members must join our Family Education Programs Community Group to register for this event. Once joined\, you’ll receive updates and can register for future events without rejoining.
URL:https://www.kusd.edu/grewenow/event/family-education-program-growing-gardeners-2/
LOCATION:Grant Elementary School\, 1716 35th St\, Kenosha\, WI\, United States
GEO:42.60629;-87.829882
X-APPLE-STRUCTURED-LOCATION;VALUE=URI;X-ADDRESS=Grant Elementary School 1716 35th St Kenosha WI United States;X-APPLE-RADIUS=500;X-TITLE=1716 35th St:geo:-87.829882,42.60629
END:VEVENT
BEGIN:VEVENT
DTSTART;TZID=America/Chicago:20260512T180000
DTEND;TZID=America/Chicago:20260512T190000
DTSTAMP:20260421T025142
CREATED:20250918T075217Z
LAST-MODIFIED:20260421T013518Z
UID:10000242-1778608800-1778612400@www.kusd.edu
SUMMARY:Grades KG & 1 Concert
DESCRIPTION:
URL:https://www.kusd.edu/grewenow/event/grades-kg-1-concert/
LOCATION:WI
END:VEVENT
BEGIN:VEVENT
DTSTART;TZID=America/Chicago:20260514T170000
DTEND;TZID=America/Chicago:20260514T190000
DTSTAMP:20260421T025142
CREATED:20260115T020758Z
LAST-MODIFIED:20260420T152308Z
UID:10000309-1778778000-1778785200@www.kusd.edu
SUMMARY:Special School Board Meeting (Agenda Review)
DESCRIPTION:
URL:https://www.kusd.edu/grewenow/event/special-school-board-meeting-agenda-review-7/
LOCATION:KUSD Educational Support Center\, 3600 52nd St\, Kenosha\, WI\, United States
GEO:42.588266;-87.852374
X-APPLE-STRUCTURED-LOCATION;VALUE=URI;X-ADDRESS=KUSD Educational Support Center 3600 52nd St Kenosha WI United States;X-APPLE-RADIUS=500;X-TITLE=3600 52nd St:geo:-87.852374,42.588266
END:VEVENT
BEGIN:VEVENT
DTSTART;VALUE=DATE:20260516
DTEND;VALUE=DATE:20260517
DTSTAMP:20260421T025142
CREATED:20250912T070625Z
LAST-MODIFIED:20260421T013518Z
UID:10000235-1778889600-1778975999@www.kusd.edu
SUMMARY:Color Run
DESCRIPTION:
URL:https://www.kusd.edu/grewenow/event/color-run/
LOCATION:WI
END:VEVENT
BEGIN:VEVENT
DTSTART;VALUE=DATE:20260522
DTEND;VALUE=DATE:20260523
DTSTAMP:20260421T025142
CREATED:20251210T232126Z
LAST-MODIFIED:20260420T152308Z
UID:10000291-1779408000-1779494399@www.kusd.edu
SUMMARY:Half Day for Students & Instructional Staff
DESCRIPTION:
URL:https://www.kusd.edu/grewenow/event/half-day-for-students-instructional-staff/
LOCATION:WI
END:VEVENT
BEGIN:VEVENT
DTSTART;VALUE=DATE:20260525
DTEND;VALUE=DATE:20260526
DTSTAMP:20260421T025142
CREATED:20250618T030554Z
LAST-MODIFIED:20250903T065054Z
UID:10000148-1779667200-1779753599@www.kusd.edu
SUMMARY:School Closed
DESCRIPTION:
URL:https://www.kusd.edu/grewenow/event/school-closed-4/
LOCATION:WI
END:VEVENT
BEGIN:VEVENT
DTSTART;VALUE=DATE:20260525
DTEND;VALUE=DATE:20260526
DTSTAMP:20260421T025142
CREATED:20251212T233627Z
LAST-MODIFIED:20260420T152308Z
UID:10000293-1779667200-1779753599@www.kusd.edu
SUMMARY:Memorial Day\, District Closed
DESCRIPTION:
URL:https://www.kusd.edu/grewenow/event/memorial-day-district-closed/
LOCATION:WI
END:VEVENT
BEGIN:VEVENT
DTSTART;TZID=America/Chicago:20260526T190000
DTEND;TZID=America/Chicago:20260526T220000
DTSTAMP:20260421T025142
CREATED:20260121T023552Z
LAST-MODIFIED:20260420T152308Z
UID:10000310-1779822000-1779832800@www.kusd.edu
SUMMARY:Regular School Board Meeting
DESCRIPTION:
URL:https://www.kusd.edu/grewenow/event/regular-school-board-meeting-9/
LOCATION:KUSD Educational Support Center\, 3600 52nd St\, Kenosha\, WI\, United States
GEO:42.588266;-87.852374
X-APPLE-STRUCTURED-LOCATION;VALUE=URI;X-ADDRESS=KUSD Educational Support Center 3600 52nd St Kenosha WI United States;X-APPLE-RADIUS=500;X-TITLE=3600 52nd St:geo:-87.852374,42.588266
END:VEVENT
BEGIN:VEVENT
DTSTART;VALUE=DATE:20260528
DTEND;VALUE=DATE:20260529
DTSTAMP:20260421T025142
CREATED:20251212T233627Z
LAST-MODIFIED:20260420T152308Z
UID:10000294-1779926400-1780012799@www.kusd.edu
SUMMARY:Last day for graduating seniors
DESCRIPTION:
URL:https://www.kusd.edu/grewenow/event/last-day-for-graduating-seniors/
LOCATION:WI
END:VEVENT
BEGIN:VEVENT
DTSTART;VALUE=DATE:20260529
DTEND;VALUE=DATE:20260530
DTSTAMP:20260421T025142
CREATED:20250912T070625Z
LAST-MODIFIED:20260421T013518Z
UID:10000236-1780012800-1780099199@www.kusd.edu
SUMMARY:Field Day
DESCRIPTION:
URL:https://www.kusd.edu/grewenow/event/field-day/
LOCATION:WI
END:VEVENT
END:VCALENDAR