BEGIN:VCALENDAR
VERSION:2.0
PRODID:-//Grewenow Elementary School - ECPv6.15.20//NONSGML v1.0//EN
CALSCALE:GREGORIAN
METHOD:PUBLISH
X-WR-CALNAME:Grewenow Elementary School
X-ORIGINAL-URL:https://www.kusd.edu/grewenow
X-WR-CALDESC:Events for Grewenow Elementary School
REFRESH-INTERVAL;VALUE=DURATION:PT1H
X-Robots-Tag:noindex
X-PUBLISHED-TTL:PT1H
BEGIN:VTIMEZONE
TZID:America/Chicago
BEGIN:DAYLIGHT
TZOFFSETFROM:-0600
TZOFFSETTO:-0500
TZNAME:CDT
DTSTART:20240310T080000
END:DAYLIGHT
BEGIN:STANDARD
TZOFFSETFROM:-0500
TZOFFSETTO:-0600
TZNAME:CST
DTSTART:20241103T070000
END:STANDARD
BEGIN:DAYLIGHT
TZOFFSETFROM:-0600
TZOFFSETTO:-0500
TZNAME:CDT
DTSTART:20250309T080000
END:DAYLIGHT
BEGIN:STANDARD
TZOFFSETFROM:-0500
TZOFFSETTO:-0600
TZNAME:CST
DTSTART:20251102T070000
END:STANDARD
BEGIN:DAYLIGHT
TZOFFSETFROM:-0600
TZOFFSETTO:-0500
TZNAME:CDT
DTSTART:20260308T080000
END:DAYLIGHT
BEGIN:STANDARD
TZOFFSETFROM:-0500
TZOFFSETTO:-0600
TZNAME:CST
DTSTART:20261101T070000
END:STANDARD
BEGIN:DAYLIGHT
TZOFFSETFROM:-0600
TZOFFSETTO:-0500
TZNAME:CDT
DTSTART:20270314T080000
END:DAYLIGHT
BEGIN:STANDARD
TZOFFSETFROM:-0500
TZOFFSETTO:-0600
TZNAME:CST
DTSTART:20271107T070000
END:STANDARD
END:VTIMEZONE
BEGIN:VEVENT
DTSTART;VALUE=DATE:20251222
DTEND;VALUE=DATE:20260103
DTSTAMP:20260421T041953
CREATED:20250618T030541Z
LAST-MODIFIED:20250911T070535Z
UID:10000139-1766361600-1767398399@www.kusd.edu
SUMMARY:School Closed
DESCRIPTION:
URL:https://www.kusd.edu/grewenow/event/school-closed-2/
LOCATION:WI
END:VEVENT
BEGIN:VEVENT
DTSTART;VALUE=DATE:20260101
DTEND;VALUE=DATE:20260103
DTSTAMP:20260421T041953
CREATED:20250904T161323Z
LAST-MODIFIED:20260102T010523Z
UID:10000207-1767225600-1767398399@www.kusd.edu
SUMMARY:Winter Recess\, District Closed
DESCRIPTION:
URL:https://www.kusd.edu/grewenow/event/winter-recess-district-closed-2/
LOCATION:WI
END:VEVENT
BEGIN:VEVENT
DTSTART;VALUE=DATE:20260105
DTEND;VALUE=DATE:20260106
DTSTAMP:20260421T041953
CREATED:20250904T161323Z
LAST-MODIFIED:20260105T012129Z
UID:10000209-1767571200-1767657599@www.kusd.edu
SUMMARY:Students Report
DESCRIPTION:
URL:https://www.kusd.edu/grewenow/event/students-report/
LOCATION:WI
END:VEVENT
BEGIN:VEVENT
DTSTART;TZID=America/Chicago:20260107T173000
DTEND;TZID=America/Chicago:20260107T183000
DTSTAMP:20260421T041953
CREATED:20240107T215032Z
LAST-MODIFIED:20260107T155016Z
UID:10000095-1767807000-1767810600@www.kusd.edu
SUMMARY:GFTC Meeting
DESCRIPTION:
URL:https://www.kusd.edu/grewenow/event/gftc-meeting-35/
LOCATION:Grewenow Library
END:VEVENT
BEGIN:VEVENT
DTSTART;VALUE=DATE:20260109
DTEND;VALUE=DATE:20260110
DTSTAMP:20260421T041953
CREATED:20250903T065030Z
LAST-MODIFIED:20260109T155014Z
UID:10000163-1767916800-1768003199@www.kusd.edu
SUMMARY:Wear your favorite Flannel Shirt
DESCRIPTION:
URL:https://www.kusd.edu/grewenow/event/wear-your-favorite-flannel-shirt/
LOCATION:WI
END:VEVENT
BEGIN:VEVENT
DTSTART;TZID=America/Chicago:20260113T173000
DTEND;TZID=America/Chicago:20260113T190000
DTSTAMP:20260421T041953
CREATED:20251113T203542Z
LAST-MODIFIED:20260113T020519Z
UID:10000271-1768325400-1768330800@www.kusd.edu
SUMMARY:Family Education Program: Active Parenting
DESCRIPTION:
URL:https://www.kusd.edu/grewenow/event/family-education-program-active-parenting/
LOCATION:WI
END:VEVENT
BEGIN:VEVENT
DTSTART;TZID=America/Chicago:20260114T150000
DTEND;TZID=America/Chicago:20260114T170000
DTSTAMP:20260421T041953
CREATED:20251120T115253Z
LAST-MODIFIED:20260114T162108Z
UID:10000283-1768402800-1768410000@www.kusd.edu
SUMMARY:Grade Social
DESCRIPTION:
URL:https://www.kusd.edu/grewenow/event/grade-social-2/
LOCATION:WI
END:VEVENT
BEGIN:VEVENT
DTSTART;TZID=America/Chicago:20260115T170000
DTEND;TZID=America/Chicago:20260115T190000
DTSTAMP:20260421T041953
CREATED:20260113T020506Z
LAST-MODIFIED:20260115T020710Z
UID:10000302-1768496400-1768503600@www.kusd.edu
SUMMARY:Special School Board Meeting (Agenda Review)
DESCRIPTION:
URL:https://www.kusd.edu/grewenow/event/special-school-board-meeting-agenda-review-5/
LOCATION:KUSD Educational Support Center\, 3600 52nd St\, Kenosha\, WI\, United States
GEO:42.588266;-87.852374
X-APPLE-STRUCTURED-LOCATION;VALUE=URI;X-ADDRESS=KUSD Educational Support Center 3600 52nd St Kenosha WI United States;X-APPLE-RADIUS=500;X-TITLE=3600 52nd St:geo:-87.852374,42.588266
END:VEVENT
BEGIN:VEVENT
DTSTART;VALUE=DATE:20260116
DTEND;VALUE=DATE:20260117
DTSTAMP:20260421T041953
CREATED:20250903T065030Z
LAST-MODIFIED:20260116T162018Z
UID:10000164-1768521600-1768607999@www.kusd.edu
SUMMARY:Superhero Day
DESCRIPTION:
URL:https://www.kusd.edu/grewenow/event/superhero-day/
LOCATION:WI
END:VEVENT
BEGIN:VEVENT
DTSTART;VALUE=DATE:20260116
DTEND;VALUE=DATE:20260117
DTSTAMP:20260421T041953
CREATED:20251003T082117Z
LAST-MODIFIED:20260116T162018Z
UID:10000264-1768521600-1768607999@www.kusd.edu
SUMMARY:VIP Read a Thon
DESCRIPTION:
URL:https://www.kusd.edu/grewenow/event/vip-read-a-thon/
LOCATION:WI
END:VEVENT
BEGIN:VEVENT
DTSTART;VALUE=DATE:20260119
DTEND;VALUE=DATE:20260120
DTSTAMP:20260421T041953
CREATED:20250618T030541Z
LAST-MODIFIED:20250911T070535Z
UID:10000140-1768780800-1768867199@www.kusd.edu
SUMMARY:School closed
DESCRIPTION:
URL:https://www.kusd.edu/grewenow/event/school-closed-3/
LOCATION:WI
END:VEVENT
BEGIN:VEVENT
DTSTART;VALUE=DATE:20260119
DTEND;VALUE=DATE:20260120
DTSTAMP:20260421T041953
CREATED:20250904T161323Z
LAST-MODIFIED:20260119T023505Z
UID:10000210-1768780800-1768867199@www.kusd.edu
SUMMARY:Dr. Martin Luther King\, Jr. Day\, District Closed
DESCRIPTION:
URL:https://www.kusd.edu/grewenow/event/dr-martin-luther-king-jr-day-district-closed/
LOCATION:WI
END:VEVENT
BEGIN:VEVENT
DTSTART;VALUE=DATE:20260120
DTEND;VALUE=DATE:20260121
DTSTAMP:20260421T041953
CREATED:20250904T161334Z
LAST-MODIFIED:20260120T023516Z
UID:10000211-1768867200-1768953599@www.kusd.edu
SUMMARY:High school finals\, early release for high school students
DESCRIPTION:
URL:https://www.kusd.edu/grewenow/event/high-school-finals-early-release-for-high-school-students/
LOCATION:WI
END:VEVENT
BEGIN:VEVENT
DTSTART;TZID=America/Chicago:20260120T173000
DTEND;TZID=America/Chicago:20260120T190000
DTSTAMP:20260421T041953
CREATED:20251113T203554Z
LAST-MODIFIED:20260120T023516Z
UID:10000272-1768930200-1768935600@www.kusd.edu
SUMMARY:Family Education Program: Active Parenting
DESCRIPTION:
URL:https://www.kusd.edu/grewenow/event/family-education-program-active-parenting-2/
LOCATION:WI
END:VEVENT
BEGIN:VEVENT
DTSTART;VALUE=DATE:20260121
DTEND;VALUE=DATE:20260122
DTSTAMP:20260421T041953
CREATED:20250904T161334Z
LAST-MODIFIED:20260121T023504Z
UID:10000212-1768953600-1769039999@www.kusd.edu
SUMMARY:High school finals\, early release for high school students
DESCRIPTION:
URL:https://www.kusd.edu/grewenow/event/high-school-finals-early-release-for-high-school-students-2/
LOCATION:WI
END:VEVENT
BEGIN:VEVENT
DTSTART;VALUE=DATE:20260122
DTEND;VALUE=DATE:20260123
DTSTAMP:20260421T041953
CREATED:20250904T161334Z
LAST-MODIFIED:20260122T023509Z
UID:10000213-1769040000-1769126399@www.kusd.edu
SUMMARY:High school finals\, early release for high school students
DESCRIPTION:
URL:https://www.kusd.edu/grewenow/event/high-school-finals-early-release-for-high-school-students-3/
LOCATION:WI
END:VEVENT
BEGIN:VEVENT
DTSTART;VALUE=DATE:20260122
DTEND;VALUE=DATE:20260123
DTSTAMP:20260421T041953
CREATED:20250904T161334Z
LAST-MODIFIED:20260122T023509Z
UID:10000214-1769040000-1769126399@www.kusd.edu
SUMMARY:Second Quarter Ends
DESCRIPTION:
URL:https://www.kusd.edu/grewenow/event/second-quarter-ends/
LOCATION:WI
END:VEVENT
BEGIN:VEVENT
DTSTART;VALUE=DATE:20260123
DTEND;VALUE=DATE:20260124
DTSTAMP:20260421T041953
CREATED:20250618T030541Z
LAST-MODIFIED:20250911T070547Z
UID:10000141-1769126400-1769212799@www.kusd.edu
SUMMARY:No School\, Staff Workday
DESCRIPTION:
URL:https://www.kusd.edu/grewenow/event/no-school-staff-workday-2/
LOCATION:WI
END:VEVENT
BEGIN:VEVENT
DTSTART;VALUE=DATE:20260123
DTEND;VALUE=DATE:20260124
DTSTAMP:20260421T041953
CREATED:20250904T161334Z
LAST-MODIFIED:20260123T023710Z
UID:10000215-1769126400-1769212799@www.kusd.edu
SUMMARY:Staff Workday\, No Students Report
DESCRIPTION:
URL:https://www.kusd.edu/grewenow/event/staff-workday-no-students-report-2/
LOCATION:WI
END:VEVENT
BEGIN:VEVENT
DTSTART;TZID=America/Chicago:20260127T173000
DTEND;TZID=America/Chicago:20260127T190000
DTSTAMP:20260421T041953
CREATED:20251113T203554Z
LAST-MODIFIED:20260127T023509Z
UID:10000273-1769535000-1769540400@www.kusd.edu
SUMMARY:Family Education Program: Active Parenting
DESCRIPTION:
URL:https://www.kusd.edu/grewenow/event/family-education-program-active-parenting-3/
LOCATION:WI
END:VEVENT
BEGIN:VEVENT
DTSTART;TZID=America/Chicago:20260127T180000
DTEND;TZID=America/Chicago:20260127T190000
DTSTAMP:20260421T041953
CREATED:20250918T075151Z
LAST-MODIFIED:20260127T165241Z
UID:10000241-1769536800-1769540400@www.kusd.edu
SUMMARY:Grades 2& 3 Concert
DESCRIPTION:
URL:https://www.kusd.edu/grewenow/event/grades-2-3-concert/
LOCATION:WI
END:VEVENT
BEGIN:VEVENT
DTSTART;TZID=America/Chicago:20260127T190000
DTEND;TZID=America/Chicago:20260127T220000
DTSTAMP:20260421T041953
CREATED:20260113T020506Z
LAST-MODIFIED:20260128T023537Z
UID:10000303-1769540400-1769551200@www.kusd.edu
SUMMARY:Regular School Board Meeting
DESCRIPTION:
URL:https://www.kusd.edu/grewenow/event/regular-school-board-meeting-5/
LOCATION:KUSD Educational Support Center\, 3600 52nd St\, Kenosha\, WI\, United States
GEO:42.588266;-87.852374
X-APPLE-STRUCTURED-LOCATION;VALUE=URI;X-ADDRESS=KUSD Educational Support Center 3600 52nd St Kenosha WI United States;X-APPLE-RADIUS=500;X-TITLE=3600 52nd St:geo:-87.852374,42.588266
END:VEVENT
BEGIN:VEVENT
DTSTART;TZID=America/Chicago:20260129T173000
DTEND;TZID=America/Chicago:20260129T190000
DTSTAMP:20260421T041953
CREATED:20251113T203554Z
LAST-MODIFIED:20260128T023537Z
UID:10000274-1769707800-1769713200@www.kusd.edu
SUMMARY:Family Education Program: KUSD Cooks
DESCRIPTION:
URL:https://www.kusd.edu/grewenow/event/family-education-program-kusd-cooks/
LOCATION:Bradford High School\, 3700 Washington Rd\, Kenosha\, WI\, United States
GEO:42.602717;-87.85215
X-APPLE-STRUCTURED-LOCATION;VALUE=URI;X-ADDRESS=Bradford High School 3700 Washington Rd Kenosha WI United States;X-APPLE-RADIUS=500;X-TITLE=3700 Washington Rd:geo:-87.85215,42.602717
END:VEVENT
BEGIN:VEVENT
DTSTART;VALUE=DATE:20260130
DTEND;VALUE=DATE:20260131
DTSTAMP:20260421T041953
CREATED:20250903T065030Z
LAST-MODIFIED:20260130T165019Z
UID:10000165-1769731200-1769817599@www.kusd.edu
SUMMARY:Wear Grewenow Gear
DESCRIPTION:
URL:https://www.kusd.edu/grewenow/event/wear-grewenow-gear-3/
LOCATION:WI
END:VEVENT
BEGIN:VEVENT
DTSTART;TZID=America/Chicago:20260131T120000
DTEND;TZID=America/Chicago:20260131T130000
DTSTAMP:20260421T041953
CREATED:20250904T161334Z
LAST-MODIFIED:20260131T025009Z
UID:10000216-1769860800-1769864400@www.kusd.edu
SUMMARY:Band-O-Rama Concert 1
DESCRIPTION:
URL:https://www.kusd.edu/grewenow/event/band-o-rama-concert-1/
LOCATION:Indian Trail High School and Academy\, 6800 60th St\, Kenosha\, WI\, United States
GEO:42.581678;-87.890829
X-APPLE-STRUCTURED-LOCATION;VALUE=URI;X-ADDRESS=Indian Trail High School and Academy 6800 60th St Kenosha WI United States;X-APPLE-RADIUS=500;X-TITLE=6800 60th St:geo:-87.890829,42.581678
END:VEVENT
BEGIN:VEVENT
DTSTART;TZID=America/Chicago:20260131T183000
DTEND;TZID=America/Chicago:20260131T193000
DTSTAMP:20260421T041953
CREATED:20250904T161334Z
LAST-MODIFIED:20260131T025010Z
UID:10000217-1769884200-1769887800@www.kusd.edu
SUMMARY:Band-O-Rama Concert 2
DESCRIPTION:
URL:https://www.kusd.edu/grewenow/event/band-o-rama-concert-2/
LOCATION:Indian Trail High School and Academy\, 6800 60th St\, Kenosha\, WI\, United States
GEO:42.581678;-87.890829
X-APPLE-STRUCTURED-LOCATION;VALUE=URI;X-ADDRESS=Indian Trail High School and Academy 6800 60th St Kenosha WI United States;X-APPLE-RADIUS=500;X-TITLE=6800 60th St:geo:-87.890829,42.581678
END:VEVENT
END:VCALENDAR