BEGIN:VCALENDAR
VERSION:2.0
PRODID:-//Grewenow Elementary School - ECPv6.15.20//NONSGML v1.0//EN
CALSCALE:GREGORIAN
METHOD:PUBLISH
X-ORIGINAL-URL:https://www.kusd.edu/grewenow
X-WR-CALDESC:Events for Grewenow Elementary School
REFRESH-INTERVAL;VALUE=DURATION:PT1H
X-Robots-Tag:noindex
X-PUBLISHED-TTL:PT1H
BEGIN:VTIMEZONE
TZID:America/Chicago
BEGIN:DAYLIGHT
TZOFFSETFROM:-0600
TZOFFSETTO:-0500
TZNAME:CDT
DTSTART:20240310T080000
END:DAYLIGHT
BEGIN:STANDARD
TZOFFSETFROM:-0500
TZOFFSETTO:-0600
TZNAME:CST
DTSTART:20241103T070000
END:STANDARD
BEGIN:DAYLIGHT
TZOFFSETFROM:-0600
TZOFFSETTO:-0500
TZNAME:CDT
DTSTART:20250309T080000
END:DAYLIGHT
BEGIN:STANDARD
TZOFFSETFROM:-0500
TZOFFSETTO:-0600
TZNAME:CST
DTSTART:20251102T070000
END:STANDARD
BEGIN:DAYLIGHT
TZOFFSETFROM:-0600
TZOFFSETTO:-0500
TZNAME:CDT
DTSTART:20260308T080000
END:DAYLIGHT
BEGIN:STANDARD
TZOFFSETFROM:-0500
TZOFFSETTO:-0600
TZNAME:CST
DTSTART:20261101T070000
END:STANDARD
END:VTIMEZONE
BEGIN:VEVENT
DTSTART;VALUE=DATE:20251009
DTEND;VALUE=DATE:20251010
DTSTAMP:20260421T102404
CREATED:20250618T030528Z
LAST-MODIFIED:20250911T070511Z
UID:10000133-1759968000-1760054399@www.kusd.edu
SUMMARY:PM parent Teacher Conferences
DESCRIPTION:
URL:https://www.kusd.edu/grewenow/event/pm-parent-teacher-conferences/
LOCATION:WI
END:VEVENT
BEGIN:VEVENT
DTSTART;VALUE=DATE:20251009
DTEND;VALUE=DATE:20251010
DTSTAMP:20260421T102404
CREATED:20250904T161259Z
LAST-MODIFIED:20251009T182015Z
UID:10000187-1759968000-1760054399@www.kusd.edu
SUMMARY:Elementary conferences\, early release for elementary students (except LakeView K-8)
DESCRIPTION:
URL:https://www.kusd.edu/grewenow/event/elementary-conferences-early-release-for-elementary-students/
LOCATION:WI
END:VEVENT
BEGIN:VEVENT
DTSTART;VALUE=DATE:20251009
DTEND;VALUE=DATE:20251010
DTSTAMP:20260421T102404
CREATED:20251002T182012Z
LAST-MODIFIED:20251009T182015Z
UID:10000246-1759968000-1760054399@www.kusd.edu
SUMMARY:4K and Head Start Professional Learning Day\, no school for 4K and Head Start students
DESCRIPTION:
URL:https://www.kusd.edu/grewenow/event/4k-and-head-start-professional-learning-day-no-school-for-4k-and-head-start-students/
LOCATION:WI
END:VEVENT
BEGIN:VEVENT
DTSTART;VALUE=DATE:20251009
DTEND;VALUE=DATE:20251030
DTSTAMP:20260421T102404
CREATED:20251003T082053Z
LAST-MODIFIED:20251029T093520Z
UID:10000261-1759968000-1761782399@www.kusd.edu
SUMMARY:Cookie Dough Fundraiser
DESCRIPTION:
URL:https://www.kusd.edu/grewenow/event/cookie-dough-fundraiser/
LOCATION:WI
END:VEVENT
END:VCALENDAR