BEGIN:VCALENDAR
VERSION:2.0
PRODID:-//Grant Elementary School - ECPv6.15.20//NONSGML v1.0//EN
CALSCALE:GREGORIAN
METHOD:PUBLISH
X-WR-CALNAME:Grant Elementary School
X-ORIGINAL-URL:https://www.kusd.edu/grant
X-WR-CALDESC:Events for Grant Elementary School
REFRESH-INTERVAL;VALUE=DURATION:PT1H
X-Robots-Tag:noindex
X-PUBLISHED-TTL:PT1H
BEGIN:VTIMEZONE
TZID:America/Chicago
BEGIN:DAYLIGHT
TZOFFSETFROM:-0600
TZOFFSETTO:-0500
TZNAME:CDT
DTSTART:20240310T080000
END:DAYLIGHT
BEGIN:STANDARD
TZOFFSETFROM:-0500
TZOFFSETTO:-0600
TZNAME:CST
DTSTART:20241103T070000
END:STANDARD
BEGIN:DAYLIGHT
TZOFFSETFROM:-0600
TZOFFSETTO:-0500
TZNAME:CDT
DTSTART:20250309T080000
END:DAYLIGHT
BEGIN:STANDARD
TZOFFSETFROM:-0500
TZOFFSETTO:-0600
TZNAME:CST
DTSTART:20251102T070000
END:STANDARD
BEGIN:DAYLIGHT
TZOFFSETFROM:-0600
TZOFFSETTO:-0500
TZNAME:CDT
DTSTART:20260308T080000
END:DAYLIGHT
BEGIN:STANDARD
TZOFFSETFROM:-0500
TZOFFSETTO:-0600
TZNAME:CST
DTSTART:20261101T070000
END:STANDARD
END:VTIMEZONE
BEGIN:VEVENT
DTSTART;VALUE=DATE:20251009
DTEND;VALUE=DATE:20251010
DTSTAMP:20260424T092109
CREATED:20250904T161434Z
LAST-MODIFIED:20251009T202831Z
UID:10000495-1759968000-1760054399@www.kusd.edu
SUMMARY:Elementary conferences\, early release for elementary students (except LakeView K-8 & Ruth Harman)
DESCRIPTION:
URL:https://www.kusd.edu/grant/event/elementary-conferences-early-release-for-elementary-students/
LOCATION:WI
END:VEVENT
BEGIN:VEVENT
DTSTART;VALUE=DATE:20251009
DTEND;VALUE=DATE:20251010
DTSTAMP:20260424T092109
CREATED:20251001T201423Z
LAST-MODIFIED:20251009T202831Z
UID:10000548-1759968000-1760054399@www.kusd.edu
SUMMARY:4K and Head Start Professional Learning Day\, no school for 4K and Head Start students
DESCRIPTION:
URL:https://www.kusd.edu/grant/event/4k-and-head-start-professional-learning-day-no-school-for-4k-and-head-start-students/
LOCATION:WI
END:VEVENT
BEGIN:VEVENT
DTSTART;VALUE=DATE:20251010
DTEND;VALUE=DATE:20251011
DTSTAMP:20260424T092109
CREATED:20250904T161434Z
LAST-MODIFIED:20251010T202821Z
UID:10000494-1760054400-1760140799@www.kusd.edu
SUMMARY:Elementary conferences\, no school for elementary students (except LakeView K-8 & Ruth Harman)
DESCRIPTION:
URL:https://www.kusd.edu/grant/event/elementary-conferences-no-school-for-elementary-students/
LOCATION:WI
END:VEVENT
BEGIN:VEVENT
DTSTART;VALUE=DATE:20251014
DTEND;VALUE=DATE:20251015
DTSTAMP:20260424T092109
CREATED:20250904T161434Z
LAST-MODIFIED:20251014T202932Z
UID:10000496-1760400000-1760486399@www.kusd.edu
SUMMARY:Middle school conferences
DESCRIPTION:
URL:https://www.kusd.edu/grant/event/middle-school-conferences/
LOCATION:WI
END:VEVENT
BEGIN:VEVENT
DTSTART;VALUE=DATE:20251014
DTEND;VALUE=DATE:20251015
DTSTAMP:20260424T092109
CREATED:20250911T192829Z
LAST-MODIFIED:20251014T202932Z
UID:10000543-1760400000-1760486399@www.kusd.edu
SUMMARY:LakeView K-8 & Ruth Harman elementary and middle school conferences
DESCRIPTION:
URL:https://www.kusd.edu/grant/event/lakeview-k-8-elementary-and-middle-school-conferences/
LOCATION:WI
END:VEVENT
BEGIN:VEVENT
DTSTART;VALUE=DATE:20251016
DTEND;VALUE=DATE:20251017
DTSTAMP:20260424T092109
CREATED:20250904T161434Z
LAST-MODIFIED:20251016T204338Z
UID:10000497-1760572800-1760659199@www.kusd.edu
SUMMARY:Middle school conferences
DESCRIPTION:
URL:https://www.kusd.edu/grant/event/middle-school-conferences-2/
LOCATION:WI
END:VEVENT
BEGIN:VEVENT
DTSTART;VALUE=DATE:20251016
DTEND;VALUE=DATE:20251017
DTSTAMP:20260424T092109
CREATED:20250911T192840Z
LAST-MODIFIED:20251016T204338Z
UID:10000544-1760572800-1760659199@www.kusd.edu
SUMMARY:LakeView K-8 & Ruth Harman elementary and middle school conferences
DESCRIPTION:
URL:https://www.kusd.edu/grant/event/lakeview-k-8-elementary-and-middle-school-conferences-2/
LOCATION:WI
END:VEVENT
BEGIN:VEVENT
DTSTART;TZID=America/Chicago:20251016T170000
DTEND;TZID=America/Chicago:20251016T190000
DTSTAMP:20260424T092109
CREATED:20250904T182842Z
LAST-MODIFIED:20251016T204338Z
UID:10000499-1760634000-1760641200@www.kusd.edu
SUMMARY:Special School Board Meeting (Agenda Review)
DESCRIPTION:Agenda (PDF)
URL:https://www.kusd.edu/grant/event/special-school-board-meeting-agenda-review-2/
LOCATION:KUSD Educational Support Center\, 3600 52nd St\, Kenosha\, WI\, United States
GEO:42.588266;-87.852374
X-APPLE-STRUCTURED-LOCATION;VALUE=URI;X-ADDRESS=KUSD Educational Support Center 3600 52nd St Kenosha WI United States;X-APPLE-RADIUS=500;X-TITLE=3600 52nd St:geo:-87.852374,42.588266
END:VEVENT
BEGIN:VEVENT
DTSTART;VALUE=DATE:20251017
DTEND;VALUE=DATE:20251018
DTSTAMP:20260424T092109
CREATED:20250904T161434Z
LAST-MODIFIED:20251017T205830Z
UID:10000498-1760659200-1760745599@www.kusd.edu
SUMMARY:Staff Professional Learning Workday\, No Students Report
DESCRIPTION:
URL:https://www.kusd.edu/grant/event/staff-professional-learning-workday-no-students-report-5/
LOCATION:WI
END:VEVENT
BEGIN:VEVENT
DTSTART;TZID=America/Chicago:20251021T180000
DTEND;TZID=America/Chicago:20251021T191500
DTSTAMP:20260424T092109
CREATED:20251001T201423Z
LAST-MODIFIED:20251021T210039Z
UID:10000549-1761069600-1761074100@www.kusd.edu
SUMMARY:8th Grade Parent Choice Night
DESCRIPTION:
URL:https://www.kusd.edu/grant/event/8th-grade-parent-choice-night/
LOCATION:Lance Middle School\, 4515 80th St\, Kenosha\, WI\, United States
GEO:42.559096;-87.861335
X-APPLE-STRUCTURED-LOCATION;VALUE=URI;X-ADDRESS=Lance Middle School 4515 80th St Kenosha WI United States;X-APPLE-RADIUS=500;X-TITLE=4515 80th St:geo:-87.861335,42.559096
END:VEVENT
BEGIN:VEVENT
DTSTART;TZID=America/Chicago:20251023T180000
DTEND;TZID=America/Chicago:20251023T191500
DTSTAMP:20260424T092109
CREATED:20251001T201435Z
LAST-MODIFIED:20251023T210125Z
UID:10000550-1761242400-1761246900@www.kusd.edu
SUMMARY:8th Grade Parent Choice Night
DESCRIPTION:
URL:https://www.kusd.edu/grant/event/8th-grade-parent-choice-night-2/
LOCATION:Bullen Middle School\, 2804 39th Ave\, Kenosha\, WI\, United States
GEO:42.612994;-87.855878
X-APPLE-STRUCTURED-LOCATION;VALUE=URI;X-ADDRESS=Bullen Middle School 2804 39th Ave Kenosha WI United States;X-APPLE-RADIUS=500;X-TITLE=2804 39th Ave:geo:-87.855878,42.612994
END:VEVENT
BEGIN:VEVENT
DTSTART;VALUE=DATE:20251028
DTEND;VALUE=DATE:20251029
DTSTAMP:20260424T092109
CREATED:20250904T182842Z
LAST-MODIFIED:20251028T212859Z
UID:10000501-1761609600-1761695999@www.kusd.edu
SUMMARY:High school conferences
DESCRIPTION:
URL:https://www.kusd.edu/grant/event/high-school-conferences/
LOCATION:WI
END:VEVENT
BEGIN:VEVENT
DTSTART;TZID=America/Chicago:20251028T190000
DTEND;TZID=America/Chicago:20251028T220000
DTSTAMP:20260424T092109
CREATED:20250904T182842Z
LAST-MODIFIED:20251028T212859Z
UID:10000500-1761678000-1761688800@www.kusd.edu
SUMMARY:Regular School Board Meeting
DESCRIPTION:Notice (PDF)Agenda (PDF)
URL:https://www.kusd.edu/grant/event/regular-school-board-meeting-2/
LOCATION:KUSD Educational Support Center\, 3600 52nd St\, Kenosha\, WI\, United States
GEO:42.588266;-87.852374
X-APPLE-STRUCTURED-LOCATION;VALUE=URI;X-ADDRESS=KUSD Educational Support Center 3600 52nd St Kenosha WI United States;X-APPLE-RADIUS=500;X-TITLE=3600 52nd St:geo:-87.852374,42.588266
END:VEVENT
BEGIN:VEVENT
DTSTART;VALUE=DATE:20251030
DTEND;VALUE=DATE:20251031
DTSTAMP:20260424T092109
CREATED:20250904T182842Z
LAST-MODIFIED:20251030T215939Z
UID:10000503-1761782400-1761868799@www.kusd.edu
SUMMARY:First Quarter Ends
DESCRIPTION:
URL:https://www.kusd.edu/grant/event/first-quarter-ends-2/
LOCATION:WI
END:VEVENT
BEGIN:VEVENT
DTSTART;VALUE=DATE:20251030
DTEND;VALUE=DATE:20251031
DTSTAMP:20260424T092109
CREATED:20250904T182842Z
LAST-MODIFIED:20251030T215939Z
UID:10000504-1761782400-1761868799@www.kusd.edu
SUMMARY:High school conferences
DESCRIPTION:
URL:https://www.kusd.edu/grant/event/high-school-conferences-2/
LOCATION:WI
END:VEVENT
BEGIN:VEVENT
DTSTART;VALUE=DATE:20251031
DTEND;VALUE=DATE:20251101
DTSTAMP:20260424T092109
CREATED:20250904T182842Z
LAST-MODIFIED:20251031T221336Z
UID:10000502-1761868800-1761955199@www.kusd.edu
SUMMARY:Staff Workday\, No Students Report
DESCRIPTION:
URL:https://www.kusd.edu/grant/event/staff-workday-no-students-report-7/
LOCATION:WI
END:VEVENT
END:VCALENDAR