BEGIN:VCALENDAR
VERSION:2.0
PRODID:-//Frank Elementary School - ECPv6.15.20//NONSGML v1.0//EN
CALSCALE:GREGORIAN
METHOD:PUBLISH
X-ORIGINAL-URL:https://www.kusd.edu/frank
X-WR-CALDESC:Events for Frank Elementary School
REFRESH-INTERVAL;VALUE=DURATION:PT1H
X-Robots-Tag:noindex
X-PUBLISHED-TTL:PT1H
BEGIN:VTIMEZONE
TZID:America/Chicago
BEGIN:DAYLIGHT
TZOFFSETFROM:-0600
TZOFFSETTO:-0500
TZNAME:CDT
DTSTART:20220313T080000
END:DAYLIGHT
BEGIN:STANDARD
TZOFFSETFROM:-0500
TZOFFSETTO:-0600
TZNAME:CST
DTSTART:20221106T070000
END:STANDARD
BEGIN:DAYLIGHT
TZOFFSETFROM:-0600
TZOFFSETTO:-0500
TZNAME:CDT
DTSTART:20230312T080000
END:DAYLIGHT
BEGIN:STANDARD
TZOFFSETFROM:-0500
TZOFFSETTO:-0600
TZNAME:CST
DTSTART:20231105T070000
END:STANDARD
BEGIN:DAYLIGHT
TZOFFSETFROM:-0600
TZOFFSETTO:-0500
TZNAME:CDT
DTSTART:20240310T080000
END:DAYLIGHT
BEGIN:STANDARD
TZOFFSETFROM:-0500
TZOFFSETTO:-0600
TZNAME:CST
DTSTART:20241103T070000
END:STANDARD
END:VTIMEZONE
BEGIN:VEVENT
DTSTART;VALUE=DATE:20230809
DTEND;VALUE=DATE:20230810
DTSTAMP:20260421T225226
CREATED:20230731T172916Z
LAST-MODIFIED:20230809T193921Z
UID:10000002-1691539200-1691625599@www.kusd.edu
SUMMARY:First day of school for students in the 3 year old Early Learners program
DESCRIPTION:
URL:https://www.kusd.edu/frank/event/first-day-of-school-for-students-in-the-3-year-old-early-learners-program/
END:VEVENT
BEGIN:VEVENT
DTSTART;VALUE=DATE:20230809
DTEND;VALUE=DATE:20230810
DTSTAMP:20260421T225226
CREATED:20230731T172916Z
LAST-MODIFIED:20230809T193921Z
UID:10000003-1691539200-1691625599@www.kusd.edu
SUMMARY:First day of school for 4 year old students in Head Start and 4K Programs
DESCRIPTION:
URL:https://www.kusd.edu/frank/event/first-day-of-school-for-student-in-the-4-year-old-students-in-the-head-start-and-4k-program/
END:VEVENT
BEGIN:VEVENT
DTSTART;VALUE=DATE:20230807
DTEND;VALUE=DATE:20230808
DTSTAMP:20260421T225226
CREATED:20230731T172916Z
LAST-MODIFIED:20230807T193921Z
UID:10000001-1691366400-1691452799@www.kusd.edu
SUMMARY:First day of school for K-5 students
DESCRIPTION:
URL:https://www.kusd.edu/frank/event/first-day-of-school-for-k-5-students/
END:VEVENT
BEGIN:VEVENT
DTSTART;TZID=America/Chicago:20230803T160000
DTEND;TZID=America/Chicago:20230803T173000
DTSTAMP:20260421T225226
CREATED:20230731T184959Z
LAST-MODIFIED:20230803T193921Z
UID:10000004-1691078400-1691083800@www.kusd.edu
SUMMARY:Open House
DESCRIPTION:
URL:https://www.kusd.edu/frank/event/open-house/
END:VEVENT
END:VCALENDAR