BEGIN:VCALENDAR
VERSION:2.0
PRODID:-//Kenosha eSchool - ECPv6.15.20//NONSGML v1.0//EN
CALSCALE:GREGORIAN
METHOD:PUBLISH
X-ORIGINAL-URL:https://www.kusd.edu/eschool
X-WR-CALDESC:Events for Kenosha eSchool
REFRESH-INTERVAL;VALUE=DURATION:PT1H
X-Robots-Tag:noindex
X-PUBLISHED-TTL:PT1H
BEGIN:VTIMEZONE
TZID:America/Chicago
BEGIN:DAYLIGHT
TZOFFSETFROM:-0600
TZOFFSETTO:-0500
TZNAME:CDT
DTSTART:20240310T080000
END:DAYLIGHT
BEGIN:STANDARD
TZOFFSETFROM:-0500
TZOFFSETTO:-0600
TZNAME:CST
DTSTART:20241103T070000
END:STANDARD
BEGIN:DAYLIGHT
TZOFFSETFROM:-0600
TZOFFSETTO:-0500
TZNAME:CDT
DTSTART:20250309T080000
END:DAYLIGHT
BEGIN:STANDARD
TZOFFSETFROM:-0500
TZOFFSETTO:-0600
TZNAME:CST
DTSTART:20251102T070000
END:STANDARD
BEGIN:DAYLIGHT
TZOFFSETFROM:-0600
TZOFFSETTO:-0500
TZNAME:CDT
DTSTART:20260308T080000
END:DAYLIGHT
BEGIN:STANDARD
TZOFFSETFROM:-0500
TZOFFSETTO:-0600
TZNAME:CST
DTSTART:20261101T070000
END:STANDARD
END:VTIMEZONE
BEGIN:VEVENT
DTSTART;VALUE=DATE:20251021
DTEND;VALUE=DATE:20251025
DTSTAMP:20260425T103019
CREATED:20251022T202551Z
LAST-MODIFIED:20251024T202552Z
UID:10000285-1761004800-1761350399@www.kusd.edu
SUMMARY:High School Finals
DESCRIPTION:schedule finals with your teacher. Evening time frames are available.
URL:https://www.kusd.edu/eschool/event/high-school-finals-6/
LOCATION:WI
END:VEVENT
BEGIN:VEVENT
DTSTART;TZID=America/Chicago:20251021T180000
DTEND;TZID=America/Chicago:20251021T191500
DTSTAMP:20260425T103019
CREATED:20251001T185538Z
LAST-MODIFIED:20251021T202529Z
UID:10000266-1761069600-1761074100@www.kusd.edu
SUMMARY:8th Grade Parent Choice Night
DESCRIPTION:
URL:https://www.kusd.edu/eschool/event/8th-grade-parent-choice-night/
LOCATION:Lance Middle School\, 4515 80th St\, Kenosha\, WI\, United States
GEO:42.559096;-87.861335
X-APPLE-STRUCTURED-LOCATION;VALUE=URI;X-ADDRESS=Lance Middle School 4515 80th St Kenosha WI United States;X-APPLE-RADIUS=500;X-TITLE=4515 80th St:geo:-87.861335,42.559096
END:VEVENT
END:VCALENDAR