BEGIN:VCALENDAR
VERSION:2.0
PRODID:-//Kenosha eSchool - ECPv6.15.20//NONSGML v1.0//EN
CALSCALE:GREGORIAN
METHOD:PUBLISH
X-WR-CALNAME:Kenosha eSchool
X-ORIGINAL-URL:https://www.kusd.edu/eschool
X-WR-CALDESC:Events for Kenosha eSchool
REFRESH-INTERVAL;VALUE=DURATION:PT1H
X-Robots-Tag:noindex
X-PUBLISHED-TTL:PT1H
BEGIN:VTIMEZONE
TZID:America/Chicago
BEGIN:DAYLIGHT
TZOFFSETFROM:-0600
TZOFFSETTO:-0500
TZNAME:CDT
DTSTART:20240310T080000
END:DAYLIGHT
BEGIN:STANDARD
TZOFFSETFROM:-0500
TZOFFSETTO:-0600
TZNAME:CST
DTSTART:20241103T070000
END:STANDARD
BEGIN:DAYLIGHT
TZOFFSETFROM:-0600
TZOFFSETTO:-0500
TZNAME:CDT
DTSTART:20250309T080000
END:DAYLIGHT
BEGIN:STANDARD
TZOFFSETFROM:-0500
TZOFFSETTO:-0600
TZNAME:CST
DTSTART:20251102T070000
END:STANDARD
BEGIN:DAYLIGHT
TZOFFSETFROM:-0600
TZOFFSETTO:-0500
TZNAME:CDT
DTSTART:20260308T080000
END:DAYLIGHT
BEGIN:STANDARD
TZOFFSETFROM:-0500
TZOFFSETTO:-0600
TZNAME:CST
DTSTART:20261101T070000
END:STANDARD
END:VTIMEZONE
BEGIN:VEVENT
DTSTART;VALUE=DATE:20250310
DTEND;VALUE=DATE:20250325
DTSTAMP:20260425T200140
CREATED:20250303T184042Z
LAST-MODIFIED:20250324T191101Z
UID:10000161-1741564800-1742860799@www.kusd.edu
SUMMARY:Summer School Lottery Registration
DESCRIPTION:For Summer 2025\, Kenosha eSchool will offer the opportunity for high school students (incoming grades 9-12) to take one 0.5 credit course in either PE or Health.   \n\nOpens: Monday\, March 10th at 8:00 a.m.\nCloses: To be included in the lottery\, all Course Request Forms must be received by Monday\, March 24\, at 8:00 a.m.\n\nThe lottery for summer school spots will take place during the week of April 9th\, and students/families will receive notification of lottery status by Thursday\, April 17th.  Students not receiving a lottery spot will be placed on a waitlist in the order of their lottery drawing number.Visit the Summer School webpage for more information: https://www.kusd.edu/eschool/enrollment/summer-school/
URL:https://www.kusd.edu/eschool/event/summer-school-lottery-registration/
LOCATION:WI
END:VEVENT
BEGIN:VEVENT
DTSTART;VALUE=DATE:20250320
DTEND;VALUE=DATE:20250322
DTSTAMP:20260425T200140
CREATED:20250313T184031Z
LAST-MODIFIED:20250321T191457Z
UID:10000162-1742428800-1742601599@www.kusd.edu
SUMMARY:High School Finals
DESCRIPTION:Schedule Finals with your course teacher. Evening hours available 3/20 and 3/21
URL:https://www.kusd.edu/eschool/event/high-school-finals-3/
LOCATION:WI
END:VEVENT
END:VCALENDAR