BEGIN:VCALENDAR
VERSION:2.0
PRODID:-//Bullen Middle School - ECPv6.15.20//NONSGML v1.0//EN
CALSCALE:GREGORIAN
METHOD:PUBLISH
X-WR-CALNAME:Bullen Middle School
X-ORIGINAL-URL:https://www.kusd.edu/bullen
X-WR-CALDESC:Events for Bullen Middle School
REFRESH-INTERVAL;VALUE=DURATION:PT1H
X-Robots-Tag:noindex
X-PUBLISHED-TTL:PT1H
BEGIN:VTIMEZONE
TZID:America/Chicago
BEGIN:DAYLIGHT
TZOFFSETFROM:-0600
TZOFFSETTO:-0500
TZNAME:CDT
DTSTART:20240310T080000
END:DAYLIGHT
BEGIN:STANDARD
TZOFFSETFROM:-0500
TZOFFSETTO:-0600
TZNAME:CST
DTSTART:20241103T070000
END:STANDARD
BEGIN:DAYLIGHT
TZOFFSETFROM:-0600
TZOFFSETTO:-0500
TZNAME:CDT
DTSTART:20250309T080000
END:DAYLIGHT
BEGIN:STANDARD
TZOFFSETFROM:-0500
TZOFFSETTO:-0600
TZNAME:CST
DTSTART:20251102T070000
END:STANDARD
BEGIN:DAYLIGHT
TZOFFSETFROM:-0600
TZOFFSETTO:-0500
TZNAME:CDT
DTSTART:20260308T080000
END:DAYLIGHT
BEGIN:STANDARD
TZOFFSETFROM:-0500
TZOFFSETTO:-0600
TZNAME:CST
DTSTART:20261101T070000
END:STANDARD
END:VTIMEZONE
BEGIN:VEVENT
DTSTART;VALUE=DATE:20250401
DTEND;VALUE=DATE:20250402
DTSTAMP:20260421T114907
CREATED:20240819T213700Z
LAST-MODIFIED:20250401T213758Z
UID:10000287-1743465600-1743551999@www.kusd.edu
SUMMARY:End of Quarter 3
DESCRIPTION:
URL:https://www.kusd.edu/bullen/event/end-of-quarter-3/
LOCATION:WI
END:VEVENT
BEGIN:VEVENT
DTSTART;TZID=America/Chicago:20250401T163000
DTEND;TZID=America/Chicago:20250401T173000
DTSTAMP:20260421T114907
CREATED:20240819T213700Z
LAST-MODIFIED:20250401T213758Z
UID:10000288-1743525000-1743528600@www.kusd.edu
SUMMARY:Beginner Band Rehearsal                 Room 119/120
DESCRIPTION:
URL:https://www.kusd.edu/bullen/event/beginner-band-rehearsal-room-119-120-4/
LOCATION:Bullen Middle School\, 2804 39th Ave\, Kenosha\, WI\, United States
GEO:42.612994;-87.855878
X-APPLE-STRUCTURED-LOCATION;VALUE=URI;X-ADDRESS=Bullen Middle School 2804 39th Ave Kenosha WI United States;X-APPLE-RADIUS=500;X-TITLE=2804 39th Ave:geo:-87.855878,42.612994
END:VEVENT
BEGIN:VEVENT
DTSTART;VALUE=DATE:20250404
DTEND;VALUE=DATE:20250405
DTSTAMP:20260421T114907
CREATED:20240820T213659Z
LAST-MODIFIED:20250404T220610Z
UID:10000289-1743724800-1743811199@www.kusd.edu
SUMMARY:No School Students Work Day
DESCRIPTION:
URL:https://www.kusd.edu/bullen/event/no-school-students-work-day-3/
LOCATION:WI
END:VEVENT
BEGIN:VEVENT
DTSTART;TZID=America/Chicago:20250408T180000
DTEND;TZID=America/Chicago:20250408T200000
DTSTAMP:20260421T114907
CREATED:20250130T213800Z
LAST-MODIFIED:20250408T223616Z
UID:10000353-1744135200-1744142400@www.kusd.edu
SUMMARY:8th Gr Parent Meeting DC Trip               Auditorium
DESCRIPTION:
URL:https://www.kusd.edu/bullen/event/8th-gr-parent-meeting-dc-trip-auditorium/
LOCATION:Bullen Middle School\, 2804 39th Ave\, Kenosha\, WI\, United States
GEO:42.612994;-87.855878
X-APPLE-STRUCTURED-LOCATION;VALUE=URI;X-ADDRESS=Bullen Middle School 2804 39th Ave Kenosha WI United States;X-APPLE-RADIUS=500;X-TITLE=2804 39th Ave:geo:-87.855878,42.612994
END:VEVENT
BEGIN:VEVENT
DTSTART;TZID=America/Chicago:20250410T190000
DTEND;TZID=America/Chicago:20250410T200000
DTSTAMP:20260421T114907
CREATED:20250227T190631Z
LAST-MODIFIED:20250410T225202Z
UID:10000359-1744311600-1744315200@www.kusd.edu
SUMMARY:Northside Jazz Night                     Bullen Auditorium
DESCRIPTION:
URL:https://www.kusd.edu/bullen/event/northside-jazz-night-bullen-auditorium/
LOCATION:Bullen Middle School\, 2804 39th Ave\, Kenosha\, WI\, United States
GEO:42.612994;-87.855878
X-APPLE-STRUCTURED-LOCATION;VALUE=URI;X-ADDRESS=Bullen Middle School 2804 39th Ave Kenosha WI United States;X-APPLE-RADIUS=500;X-TITLE=2804 39th Ave:geo:-87.855878,42.612994
END:VEVENT
BEGIN:VEVENT
DTSTART;TZID=America/Chicago:20250411T163000
DTEND;TZID=America/Chicago:20250411T223000
DTSTAMP:20260421T114907
CREATED:20250107T202404Z
LAST-MODIFIED:20250411T225133Z
UID:10000338-1744389000-1744410600@www.kusd.edu
SUMMARY:Feed My Starving Children Project FT
DESCRIPTION:
URL:https://www.kusd.edu/bullen/event/feed-my-starving-children-project-ft/
LOCATION:WI
END:VEVENT
BEGIN:VEVENT
DTSTART;TZID=America/Chicago:20250415T170000
DTEND;TZID=America/Chicago:20250415T180000
DTSTAMP:20260421T114907
CREATED:20250411T225133Z
LAST-MODIFIED:20250414T232152Z
UID:10000387-1744736400-1744740000@www.kusd.edu
SUMMARY:Youth Employment Informational meeting               Cafeteria
DESCRIPTION:
URL:https://www.kusd.edu/bullen/event/youth-employment-informational-meeting-cafeteria/
LOCATION:Bullen Middle School\, 2804 39th Ave\, Kenosha\, WI\, United States
GEO:42.612994;-87.855878
X-APPLE-STRUCTURED-LOCATION;VALUE=URI;X-ADDRESS=Bullen Middle School 2804 39th Ave Kenosha WI United States;X-APPLE-RADIUS=500;X-TITLE=2804 39th Ave:geo:-87.855878,42.612994
END:VEVENT
BEGIN:VEVENT
DTSTART;TZID=America/Chicago:20250417T173000
DTEND;TZID=America/Chicago:20250417T184500
DTSTAMP:20260421T114907
CREATED:20250325T205141Z
LAST-MODIFIED:20250417T233616Z
UID:10000381-1744911000-1744915500@www.kusd.edu
SUMMARY:Drama Club Performance Night               Auditorium
DESCRIPTION:Parents/Guardians are invited to see performances by the club members
URL:https://www.kusd.edu/bullen/event/drama-club-performance-night-auditorium/
LOCATION:WI
END:VEVENT
BEGIN:VEVENT
DTSTART;VALUE=DATE:20250418
DTEND;VALUE=DATE:20250419
DTSTAMP:20260421T114907
CREATED:20240820T213659Z
LAST-MODIFIED:20250418T233622Z
UID:10000290-1744934400-1745020799@www.kusd.edu
SUMMARY:Spring Break
DESCRIPTION:
URL:https://www.kusd.edu/bullen/event/spring-break-7/
LOCATION:WI
END:VEVENT
BEGIN:VEVENT
DTSTART;VALUE=DATE:20250421
DTEND;VALUE=DATE:20250422
DTSTAMP:20260421T114907
CREATED:20240821T213702Z
LAST-MODIFIED:20250421T233627Z
UID:10000291-1745193600-1745279999@www.kusd.edu
SUMMARY:Spring Break
DESCRIPTION:
URL:https://www.kusd.edu/bullen/event/spring-break-8/
LOCATION:WI
END:VEVENT
BEGIN:VEVENT
DTSTART;VALUE=DATE:20250422
DTEND;VALUE=DATE:20250423
DTSTAMP:20260421T114907
CREATED:20240821T213702Z
LAST-MODIFIED:20250422T233622Z
UID:10000292-1745280000-1745366399@www.kusd.edu
SUMMARY:Spring Break
DESCRIPTION:
URL:https://www.kusd.edu/bullen/event/spring-break-9/
LOCATION:WI
END:VEVENT
BEGIN:VEVENT
DTSTART;VALUE=DATE:20250423
DTEND;VALUE=DATE:20250424
DTSTAMP:20260421T114907
CREATED:20240828T215157Z
LAST-MODIFIED:20250423T235142Z
UID:10000293-1745366400-1745452799@www.kusd.edu
SUMMARY:Spring Break
DESCRIPTION:
URL:https://www.kusd.edu/bullen/event/spring-break-10/
LOCATION:WI
END:VEVENT
BEGIN:VEVENT
DTSTART;VALUE=DATE:20250424
DTEND;VALUE=DATE:20250425
DTSTAMP:20260421T114907
CREATED:20240904T220659Z
LAST-MODIFIED:20250424T235143Z
UID:10000294-1745452800-1745539199@www.kusd.edu
SUMMARY:Spring Break
DESCRIPTION:
URL:https://www.kusd.edu/bullen/event/spring-break-11/
LOCATION:WI
END:VEVENT
BEGIN:VEVENT
DTSTART;VALUE=DATE:20250425
DTEND;VALUE=DATE:20250426
DTSTAMP:20260421T114907
CREATED:20240904T220659Z
LAST-MODIFIED:20250425T235254Z
UID:10000295-1745539200-1745625599@www.kusd.edu
SUMMARY:Spring Break
DESCRIPTION:
URL:https://www.kusd.edu/bullen/event/spring-break-12/
LOCATION:WI
END:VEVENT
BEGIN:VEVENT
DTSTART;VALUE=DATE:20250428
DTEND;VALUE=DATE:20250429
DTSTAMP:20260421T114907
CREATED:20241208T175159Z
LAST-MODIFIED:20250428T235123Z
UID:10000328-1745798400-1745884799@www.kusd.edu
SUMMARY:Schools Reopen
DESCRIPTION:
URL:https://www.kusd.edu/bullen/event/schools-reopen/
LOCATION:WI
END:VEVENT
BEGIN:VEVENT
DTSTART;TZID=America/Chicago:20250428T115000
DTEND;TZID=America/Chicago:20250428T131000
DTSTAMP:20260421T114907
CREATED:20250324T205126Z
LAST-MODIFIED:20250427T235115Z
UID:10000379-1745841000-1745845800@www.kusd.edu
SUMMARY:Somers 5th Gr Visit                                      Auditorium
DESCRIPTION:
URL:https://www.kusd.edu/bullen/event/somers-5th-gr-visit-auditorium/
LOCATION:Bullen Middle School\, 2804 39th Ave\, Kenosha\, WI\, United States
GEO:42.612994;-87.855878
X-APPLE-STRUCTURED-LOCATION;VALUE=URI;X-ADDRESS=Bullen Middle School 2804 39th Ave Kenosha WI United States;X-APPLE-RADIUS=500;X-TITLE=2804 39th Ave:geo:-87.855878,42.612994
END:VEVENT
BEGIN:VEVENT
DTSTART;TZID=America/Chicago:20250429T090000
DTEND;TZID=America/Chicago:20250429T130000
DTSTAMP:20260421T114907
CREATED:20250411T225147Z
LAST-MODIFIED:20250428T235123Z
UID:10000388-1745917200-1745931600@www.kusd.edu
SUMMARY:AAFI LUNCHEON                                     UW PARKSIDE
DESCRIPTION:
URL:https://www.kusd.edu/bullen/event/aafi-luncheon-uw-parkside/
LOCATION:University of Wisconsin-Parkside\, 900 Wood Rd\, Kenosha\, WI\, United States
GEO:42.647773;-87.849181
X-APPLE-STRUCTURED-LOCATION;VALUE=URI;X-ADDRESS=University of Wisconsin-Parkside 900 Wood Rd Kenosha WI United States;X-APPLE-RADIUS=500;X-TITLE=900 Wood Rd:geo:-87.849181,42.647773
END:VEVENT
END:VCALENDAR