BEGIN:VCALENDAR
VERSION:2.0
PRODID:-//Bullen Middle School - ECPv6.15.20//NONSGML v1.0//EN
CALSCALE:GREGORIAN
METHOD:PUBLISH
X-ORIGINAL-URL:https://www.kusd.edu/bullen
X-WR-CALDESC:Events for Bullen Middle School
REFRESH-INTERVAL;VALUE=DURATION:PT1H
X-Robots-Tag:noindex
X-PUBLISHED-TTL:PT1H
BEGIN:VTIMEZONE
TZID:America/Chicago
BEGIN:DAYLIGHT
TZOFFSETFROM:-0600
TZOFFSETTO:-0500
TZNAME:CDT
DTSTART:20230312T080000
END:DAYLIGHT
BEGIN:STANDARD
TZOFFSETFROM:-0500
TZOFFSETTO:-0600
TZNAME:CST
DTSTART:20231105T070000
END:STANDARD
BEGIN:DAYLIGHT
TZOFFSETFROM:-0600
TZOFFSETTO:-0500
TZNAME:CDT
DTSTART:20240310T080000
END:DAYLIGHT
BEGIN:STANDARD
TZOFFSETFROM:-0500
TZOFFSETTO:-0600
TZNAME:CST
DTSTART:20241103T070000
END:STANDARD
BEGIN:DAYLIGHT
TZOFFSETFROM:-0600
TZOFFSETTO:-0500
TZNAME:CDT
DTSTART:20250309T080000
END:DAYLIGHT
BEGIN:STANDARD
TZOFFSETFROM:-0500
TZOFFSETTO:-0600
TZNAME:CST
DTSTART:20251102T070000
END:STANDARD
END:VTIMEZONE
BEGIN:VEVENT
DTSTART;TZID=America/Chicago:20241203T183000
DTEND;TZID=America/Chicago:20241203T193000
DTSTAMP:20260421T174350
CREATED:20241126T165109Z
LAST-MODIFIED:20241203T173610Z
UID:10000327-1733250600-1733254200@www.kusd.edu
SUMMARY:Boys Basketball Parent Meeting           Auditorium
DESCRIPTION:
URL:https://www.kusd.edu/bullen/event/boys-basketball-parent-meeting-auditorium/
LOCATION:WI
END:VEVENT
BEGIN:VEVENT
DTSTART;TZID=America/Chicago:20241207T094500
DTEND;TZID=America/Chicago:20241207T220000
DTSTAMP:20260421T174350
CREATED:20240924T222137Z
LAST-MODIFIED:20241207T175112Z
UID:10000305-1733564700-1733608800@www.kusd.edu
SUMMARY:TRANSITION COACHES TO  CHICAGO
DESCRIPTION:
URL:https://www.kusd.edu/bullen/event/transition-coaches-to-chicago-2/
LOCATION:Millennium Park Ice Rink\, 11 Michigan Ave\, Chicago\, IL\, United States
GEO:41.88278;-87.62457
X-APPLE-STRUCTURED-LOCATION;VALUE=URI;X-ADDRESS=Millennium Park Ice Rink 11 Michigan Ave Chicago IL United States;X-APPLE-RADIUS=500;X-TITLE=11 Michigan Ave:geo:-87.62457,41.88278
END:VEVENT
BEGIN:VEVENT
DTSTART;TZID=America/Chicago:20241212T161500
DTEND;TZID=America/Chicago:20241212T181500
DTSTAMP:20260421T174350
CREATED:20240711T200659Z
LAST-MODIFIED:20241212T180612Z
UID:10000268-1734020100-1734027300@www.kusd.edu
SUMMARY:Winter Wonderland Social
DESCRIPTION:
URL:https://www.kusd.edu/bullen/event/winter-wonderland-social-2/
LOCATION:WI
END:VEVENT
BEGIN:VEVENT
DTSTART;VALUE=DATE:20241213
DTEND;VALUE=DATE:20241214
DTSTAMP:20260421T174350
CREATED:20240708T200658Z
LAST-MODIFIED:20241213T180616Z
UID:10000259-1734048000-1734134399@www.kusd.edu
SUMMARY:No School Students Professional Day
DESCRIPTION:
URL:https://www.kusd.edu/bullen/event/no-school-students-professional-day-2/
LOCATION:WI
END:VEVENT
BEGIN:VEVENT
DTSTART;TZID=America/Chicago:20241219T090000
DTEND;TZID=America/Chicago:20241219T133000
DTSTAMP:20260421T174350
CREATED:20241102T160840Z
LAST-MODIFIED:20241219T182112Z
UID:10000314-1734598800-1734615000@www.kusd.edu
SUMMARY:DUAL LANGUAGE TO MARCUS RENAISSANCE
DESCRIPTION:
URL:https://www.kusd.edu/bullen/event/dual-language-to-marcus-renaissance/
LOCATION:Marcus Renaissance Cinema\, 10411 Washington Ave\, Sturtevant\, WI\, United States
GEO:42.720121;-87.912915
X-APPLE-STRUCTURED-LOCATION;VALUE=URI;X-ADDRESS=Marcus Renaissance Cinema 10411 Washington Ave Sturtevant WI United States;X-APPLE-RADIUS=500;X-TITLE=10411 Washington Ave:geo:-87.912915,42.720121
END:VEVENT
BEGIN:VEVENT
DTSTART;TZID=America/Chicago:20241220T084500
DTEND;TZID=America/Chicago:20241220T114500
DTSTAMP:20260421T174350
CREATED:20241113T163625Z
LAST-MODIFIED:20241219T182112Z
UID:10000317-1734684300-1734695100@www.kusd.edu
SUMMARY:Movie with TC's and 6th Grade           Auditorium
DESCRIPTION:
URL:https://www.kusd.edu/bullen/event/movie-with-tcs-and-6th-grade-auditorium/
LOCATION:WI
END:VEVENT
BEGIN:VEVENT
DTSTART;VALUE=DATE:20241223
DTEND;VALUE=DATE:20241224
DTSTAMP:20260421T174350
CREATED:20240703T200704Z
LAST-MODIFIED:20241223T182109Z
UID:10000256-1734912000-1734998399@www.kusd.edu
SUMMARY:Winter Break
DESCRIPTION:
URL:https://www.kusd.edu/bullen/event/winter-break/
LOCATION:WI
END:VEVENT
BEGIN:VEVENT
DTSTART;VALUE=DATE:20241224
DTEND;VALUE=DATE:20241225
DTSTAMP:20260421T174350
CREATED:20240703T200704Z
LAST-MODIFIED:20241224T182147Z
UID:10000257-1734998400-1735084799@www.kusd.edu
SUMMARY:Winter Break
DESCRIPTION:
URL:https://www.kusd.edu/bullen/event/winter-break-2/
LOCATION:WI
END:VEVENT
BEGIN:VEVENT
DTSTART;VALUE=DATE:20241225
DTEND;VALUE=DATE:20241226
DTSTAMP:20260421T174350
CREATED:20240705T200658Z
LAST-MODIFIED:20241225T183640Z
UID:10000258-1735084800-1735171199@www.kusd.edu
SUMMARY:Winter Break
DESCRIPTION:
URL:https://www.kusd.edu/bullen/event/winter-break-3/
LOCATION:WI
END:VEVENT
BEGIN:VEVENT
DTSTART;VALUE=DATE:20241226
DTEND;VALUE=DATE:20241227
DTSTAMP:20260421T174350
CREATED:20240708T200658Z
LAST-MODIFIED:20241226T183611Z
UID:10000260-1735171200-1735257599@www.kusd.edu
SUMMARY:Winter Break
DESCRIPTION:
URL:https://www.kusd.edu/bullen/event/winter-break-4/
LOCATION:WI
END:VEVENT
BEGIN:VEVENT
DTSTART;VALUE=DATE:20241227
DTEND;VALUE=DATE:20241228
DTSTAMP:20260421T174350
CREATED:20240709T200727Z
LAST-MODIFIED:20241227T185357Z
UID:10000261-1735257600-1735343999@www.kusd.edu
SUMMARY:Winter Break
DESCRIPTION:
URL:https://www.kusd.edu/bullen/event/winter-break-5/
LOCATION:WI
END:VEVENT
BEGIN:VEVENT
DTSTART;VALUE=DATE:20241230
DTEND;VALUE=DATE:20241231
DTSTAMP:20260421T174350
CREATED:20240710T200701Z
LAST-MODIFIED:20241230T192133Z
UID:10000263-1735516800-1735603199@www.kusd.edu
SUMMARY:Winter Break\, KUSD Closed
DESCRIPTION:
URL:https://www.kusd.edu/bullen/event/winter-break-kusd-closed-2/
LOCATION:WI
END:VEVENT
BEGIN:VEVENT
DTSTART;VALUE=DATE:20241231
DTEND;VALUE=DATE:20250101
DTSTAMP:20260421T174350
CREATED:20240710T200701Z
LAST-MODIFIED:20241231T193621Z
UID:10000264-1735603200-1735689599@www.kusd.edu
SUMMARY:Winter Break\, KUSD Closed
DESCRIPTION:
URL:https://www.kusd.edu/bullen/event/winter-break-kusd-closed-3/
LOCATION:WI
END:VEVENT
END:VCALENDAR