BEGIN:VCALENDAR
VERSION:2.0
PRODID:-//Bullen Middle School - ECPv6.15.20//NONSGML v1.0//EN
CALSCALE:GREGORIAN
METHOD:PUBLISH
X-ORIGINAL-URL:https://www.kusd.edu/bullen
X-WR-CALDESC:Events for Bullen Middle School
REFRESH-INTERVAL;VALUE=DURATION:PT1H
X-Robots-Tag:noindex
X-PUBLISHED-TTL:PT1H
BEGIN:VTIMEZONE
TZID:America/Chicago
BEGIN:DAYLIGHT
TZOFFSETFROM:-0600
TZOFFSETTO:-0500
TZNAME:CDT
DTSTART:20250309T080000
END:DAYLIGHT
BEGIN:STANDARD
TZOFFSETFROM:-0500
TZOFFSETTO:-0600
TZNAME:CST
DTSTART:20251102T070000
END:STANDARD
BEGIN:DAYLIGHT
TZOFFSETFROM:-0600
TZOFFSETTO:-0500
TZNAME:CDT
DTSTART:20260308T080000
END:DAYLIGHT
BEGIN:STANDARD
TZOFFSETFROM:-0500
TZOFFSETTO:-0600
TZNAME:CST
DTSTART:20261101T070000
END:STANDARD
BEGIN:DAYLIGHT
TZOFFSETFROM:-0600
TZOFFSETTO:-0500
TZNAME:CDT
DTSTART:20270314T080000
END:DAYLIGHT
BEGIN:STANDARD
TZOFFSETFROM:-0500
TZOFFSETTO:-0600
TZNAME:CST
DTSTART:20271107T070000
END:STANDARD
END:VTIMEZONE
BEGIN:VEVENT
DTSTART;TZID=America/Chicago:20260508T170000
DTEND;TZID=America/Chicago:20260508T231500
DTSTAMP:20260420T204042
CREATED:20260112T162201Z
LAST-MODIFIED:20260420T230639Z
UID:10000674-1778259600-1778282100@www.kusd.edu
SUMMARY:Transition Coaces to Brewers Game
DESCRIPTION:
URL:https://www.kusd.edu/bullen/event/transition-coaces-to-brewers-game/
LOCATION:American Family Field\, Milwaukee\, WI\, United States
GEO:43.012514;-87.972586
END:VEVENT
END:VCALENDAR