BEGIN:VCALENDAR
VERSION:2.0
PRODID:-//Bullen Middle School - ECPv6.15.20//NONSGML v1.0//EN
CALSCALE:GREGORIAN
METHOD:PUBLISH
X-WR-CALNAME:Bullen Middle School
X-ORIGINAL-URL:https://www.kusd.edu/bullen
X-WR-CALDESC:Events for Bullen Middle School
REFRESH-INTERVAL;VALUE=DURATION:PT1H
X-Robots-Tag:noindex
X-PUBLISHED-TTL:PT1H
BEGIN:VTIMEZONE
TZID:America/Chicago
BEGIN:DAYLIGHT
TZOFFSETFROM:-0600
TZOFFSETTO:-0500
TZNAME:CDT
DTSTART:20250309T080000
END:DAYLIGHT
BEGIN:STANDARD
TZOFFSETFROM:-0500
TZOFFSETTO:-0600
TZNAME:CST
DTSTART:20251102T070000
END:STANDARD
BEGIN:DAYLIGHT
TZOFFSETFROM:-0600
TZOFFSETTO:-0500
TZNAME:CDT
DTSTART:20260308T080000
END:DAYLIGHT
BEGIN:STANDARD
TZOFFSETFROM:-0500
TZOFFSETTO:-0600
TZNAME:CST
DTSTART:20261101T070000
END:STANDARD
BEGIN:DAYLIGHT
TZOFFSETFROM:-0600
TZOFFSETTO:-0500
TZNAME:CDT
DTSTART:20270314T080000
END:DAYLIGHT
BEGIN:STANDARD
TZOFFSETFROM:-0500
TZOFFSETTO:-0600
TZNAME:CST
DTSTART:20271107T070000
END:STANDARD
END:VTIMEZONE
BEGIN:VEVENT
DTSTART;TZID=America/Chicago:20260417T163000
DTEND;TZID=America/Chicago:20260417T230000
DTSTAMP:20260420T190730
CREATED:20251029T220702Z
LAST-MODIFIED:20260417T230628Z
UID:10000631-1776443400-1776466800@www.kusd.edu
SUMMARY:TC'S\, HERMANITAS\, NJHS to Feed My Starving Children
DESCRIPTION:Service Project with Bullen Leadership students/families/staff
URL:https://www.kusd.edu/bullen/event/tcs-hermanitas-njhs-to-feed-my-starving-children/
LOCATION:Feed My Starving Children\, 598 E Park Ave\, Libertyville\, IL\, United States
GEO:42.282398;-87.946156
X-APPLE-STRUCTURED-LOCATION;VALUE=URI;X-ADDRESS=Feed My Starving Children 598 E Park Ave Libertyville IL United States;X-APPLE-RADIUS=500;X-TITLE=598 E Park Ave:geo:-87.946156,42.282398
END:VEVENT
END:VCALENDAR