BEGIN:VCALENDAR
VERSION:2.0
PRODID:-//Bullen Middle School - ECPv6.15.20//NONSGML v1.0//EN
CALSCALE:GREGORIAN
METHOD:PUBLISH
X-ORIGINAL-URL:https://www.kusd.edu/bullen
X-WR-CALDESC:Events for Bullen Middle School
REFRESH-INTERVAL;VALUE=DURATION:PT1H
X-Robots-Tag:noindex
X-PUBLISHED-TTL:PT1H
BEGIN:VTIMEZONE
TZID:America/Chicago
BEGIN:DAYLIGHT
TZOFFSETFROM:-0600
TZOFFSETTO:-0500
TZNAME:CDT
DTSTART:20250309T080000
END:DAYLIGHT
BEGIN:STANDARD
TZOFFSETFROM:-0500
TZOFFSETTO:-0600
TZNAME:CST
DTSTART:20251102T070000
END:STANDARD
BEGIN:DAYLIGHT
TZOFFSETFROM:-0600
TZOFFSETTO:-0500
TZNAME:CDT
DTSTART:20260308T080000
END:DAYLIGHT
BEGIN:STANDARD
TZOFFSETFROM:-0500
TZOFFSETTO:-0600
TZNAME:CST
DTSTART:20261101T070000
END:STANDARD
BEGIN:DAYLIGHT
TZOFFSETFROM:-0600
TZOFFSETTO:-0500
TZNAME:CDT
DTSTART:20270314T080000
END:DAYLIGHT
BEGIN:STANDARD
TZOFFSETFROM:-0500
TZOFFSETTO:-0600
TZNAME:CST
DTSTART:20271107T070000
END:STANDARD
END:VTIMEZONE
BEGIN:VEVENT
DTSTART;TZID=America/Chicago:20260307T110000
DTEND;TZID=America/Chicago:20260307T223000
DTSTAMP:20260420T204119
CREATED:20251024T215140Z
LAST-MODIFIED:20260307T192142Z
UID:10000625-1772881200-1772922600@www.kusd.edu
SUMMARY:TCS TO MILWAUKEE
DESCRIPTION:Whirly Ball\, Dave and Buster’s\, Comedy Sportz
URL:https://www.kusd.edu/bullen/event/tcs-to-milwaukee/
LOCATION:WhirlyBall Brookfield\, 185 S Moorland Rd\, Brookfield\, WI\, United States
GEO:43.030797;-88.106991
X-APPLE-STRUCTURED-LOCATION;VALUE=URI;X-ADDRESS=WhirlyBall Brookfield 185 S Moorland Rd Brookfield WI United States;X-APPLE-RADIUS=500;X-TITLE=185 S Moorland Rd:geo:-88.106991,43.030797
END:VEVENT
END:VCALENDAR