BEGIN:VCALENDAR
VERSION:2.0
PRODID:-//Bullen Middle School - ECPv6.15.20//NONSGML v1.0//EN
CALSCALE:GREGORIAN
METHOD:PUBLISH
X-ORIGINAL-URL:https://www.kusd.edu/bullen
X-WR-CALDESC:Events for Bullen Middle School
REFRESH-INTERVAL;VALUE=DURATION:PT1H
X-Robots-Tag:noindex
X-PUBLISHED-TTL:PT1H
BEGIN:VTIMEZONE
TZID:America/Chicago
BEGIN:DAYLIGHT
TZOFFSETFROM:-0600
TZOFFSETTO:-0500
TZNAME:CDT
DTSTART:20250309T080000
END:DAYLIGHT
BEGIN:STANDARD
TZOFFSETFROM:-0500
TZOFFSETTO:-0600
TZNAME:CST
DTSTART:20251102T070000
END:STANDARD
BEGIN:DAYLIGHT
TZOFFSETFROM:-0600
TZOFFSETTO:-0500
TZNAME:CDT
DTSTART:20260308T080000
END:DAYLIGHT
BEGIN:STANDARD
TZOFFSETFROM:-0500
TZOFFSETTO:-0600
TZNAME:CST
DTSTART:20261101T070000
END:STANDARD
BEGIN:DAYLIGHT
TZOFFSETFROM:-0600
TZOFFSETTO:-0500
TZNAME:CDT
DTSTART:20270314T080000
END:DAYLIGHT
BEGIN:STANDARD
TZOFFSETFROM:-0500
TZOFFSETTO:-0600
TZNAME:CST
DTSTART:20271107T070000
END:STANDARD
END:VTIMEZONE
BEGIN:VEVENT
DTSTART;TZID=America/Chicago:20260306T104500
DTEND;TZID=America/Chicago:20260306T123000
DTSTAMP:20260420T204119
CREATED:20260223T190634Z
LAST-MODIFIED:20260305T192110Z
UID:10000689-1772793900-1772800200@www.kusd.edu
SUMMARY:STEM Club to Golden Corral
DESCRIPTION:
URL:https://www.kusd.edu/bullen/event/stem-club-to-golden-corral/
LOCATION:Golden Corral Buffet & Grill\, 6208 75th St\, Kenosha\, WI\, United States
GEO:42.566735;-87.885621
X-APPLE-STRUCTURED-LOCATION;VALUE=URI;X-ADDRESS=Golden Corral Buffet & Grill 6208 75th St Kenosha WI United States;X-APPLE-RADIUS=500;X-TITLE=6208 75th St:geo:-87.885621,42.566735
END:VEVENT
BEGIN:VEVENT
DTSTART;TZID=America/Chicago:20260306T163000
DTEND;TZID=America/Chicago:20260306T213000
DTSTAMP:20260420T204119
CREATED:20260226T190622Z
LAST-MODIFIED:20260306T192128Z
UID:10000691-1772814600-1772832600@www.kusd.edu
SUMMARY:Hermanitas to Infusinos/Bradford Dance
DESCRIPTION:
URL:https://www.kusd.edu/bullen/event/hermanitas-to-infusinos-bradford-dance/
LOCATION:Infusino’s Italian Restaurant & Pizzeria\, 6799 39th Ave\, Kenosha\, WI\, United States
GEO:42.572358;-87.855246
X-APPLE-STRUCTURED-LOCATION;VALUE=URI;X-ADDRESS=Infusino’s Italian Restaurant & Pizzeria 6799 39th Ave Kenosha WI United States;X-APPLE-RADIUS=500;X-TITLE=6799 39th Ave:geo:-87.855246,42.572358
END:VEVENT
END:VCALENDAR