BEGIN:VCALENDAR
VERSION:2.0
PRODID:-//Bullen Middle School - ECPv6.15.20//NONSGML v1.0//EN
CALSCALE:GREGORIAN
METHOD:PUBLISH
X-WR-CALNAME:Bullen Middle School
X-ORIGINAL-URL:https://www.kusd.edu/bullen
X-WR-CALDESC:Events for Bullen Middle School
REFRESH-INTERVAL;VALUE=DURATION:PT1H
X-Robots-Tag:noindex
X-PUBLISHED-TTL:PT1H
BEGIN:VTIMEZONE
TZID:America/Chicago
BEGIN:DAYLIGHT
TZOFFSETFROM:-0600
TZOFFSETTO:-0500
TZNAME:CDT
DTSTART:20250309T080000
END:DAYLIGHT
BEGIN:STANDARD
TZOFFSETFROM:-0500
TZOFFSETTO:-0600
TZNAME:CST
DTSTART:20251102T070000
END:STANDARD
BEGIN:DAYLIGHT
TZOFFSETFROM:-0600
TZOFFSETTO:-0500
TZNAME:CDT
DTSTART:20260308T080000
END:DAYLIGHT
BEGIN:STANDARD
TZOFFSETFROM:-0500
TZOFFSETTO:-0600
TZNAME:CST
DTSTART:20261101T070000
END:STANDARD
BEGIN:DAYLIGHT
TZOFFSETFROM:-0600
TZOFFSETTO:-0500
TZNAME:CDT
DTSTART:20270314T080000
END:DAYLIGHT
BEGIN:STANDARD
TZOFFSETFROM:-0500
TZOFFSETTO:-0600
TZNAME:CST
DTSTART:20271107T070000
END:STANDARD
END:VTIMEZONE
BEGIN:VEVENT
DTSTART;TZID=America/Chicago:20260225T083000
DTEND;TZID=America/Chicago:20260225T140000
DTSTAMP:20260420T221444
CREATED:20251024T215140Z
LAST-MODIFIED:20260225T190620Z
UID:10000624-1772008200-1772028000@www.kusd.edu
SUMMARY:TCS AND 6TH GR TO RECPLEX
DESCRIPTION:
URL:https://www.kusd.edu/bullen/event/tcs-and-6th-gr-to-recplex/
LOCATION:Pleasant Prairie RecPlex | The Largest Municipal Recreation Facility in America\, Pleasant Prairie\, WI\, United States
GEO:42.52926;-87.885546
END:VEVENT
BEGIN:VEVENT
DTSTART;TZID=America/Chicago:20260225T170000
DTEND;TZID=America/Chicago:20260225T180000
DTSTAMP:20260420T221444
CREATED:20260217T190656Z
LAST-MODIFIED:20260225T190620Z
UID:10000686-1772038800-1772042400@www.kusd.edu
SUMMARY:Volleyball Info Parent Meeting                   Auditorium
DESCRIPTION:
URL:https://www.kusd.edu/bullen/event/volleyball-info-parent-meeting-auditorium/
LOCATION:Bullen Middle School\, 2804 39th Ave\, Kenosha\, WI\, United States
GEO:42.612994;-87.855878
X-APPLE-STRUCTURED-LOCATION;VALUE=URI;X-ADDRESS=Bullen Middle School 2804 39th Ave Kenosha WI United States;X-APPLE-RADIUS=500;X-TITLE=2804 39th Ave:geo:-87.855878,42.612994
END:VEVENT
END:VCALENDAR