BEGIN:VCALENDAR
VERSION:2.0
PRODID:-//Bullen Middle School - ECPv6.15.20//NONSGML v1.0//EN
CALSCALE:GREGORIAN
METHOD:PUBLISH
X-WR-CALNAME:Bullen Middle School
X-ORIGINAL-URL:https://www.kusd.edu/bullen
X-WR-CALDESC:Events for Bullen Middle School
REFRESH-INTERVAL;VALUE=DURATION:PT1H
X-Robots-Tag:noindex
X-PUBLISHED-TTL:PT1H
BEGIN:VTIMEZONE
TZID:America/Chicago
BEGIN:DAYLIGHT
TZOFFSETFROM:-0600
TZOFFSETTO:-0500
TZNAME:CDT
DTSTART:20240310T080000
END:DAYLIGHT
BEGIN:STANDARD
TZOFFSETFROM:-0500
TZOFFSETTO:-0600
TZNAME:CST
DTSTART:20241103T070000
END:STANDARD
BEGIN:DAYLIGHT
TZOFFSETFROM:-0600
TZOFFSETTO:-0500
TZNAME:CDT
DTSTART:20250309T080000
END:DAYLIGHT
BEGIN:STANDARD
TZOFFSETFROM:-0500
TZOFFSETTO:-0600
TZNAME:CST
DTSTART:20251102T070000
END:STANDARD
BEGIN:DAYLIGHT
TZOFFSETFROM:-0600
TZOFFSETTO:-0500
TZNAME:CDT
DTSTART:20260308T080000
END:DAYLIGHT
BEGIN:STANDARD
TZOFFSETFROM:-0500
TZOFFSETTO:-0600
TZNAME:CST
DTSTART:20261101T070000
END:STANDARD
END:VTIMEZONE
BEGIN:VEVENT
DTSTART;TZID=America/Chicago:20251202T163000
DTEND;TZID=America/Chicago:20251202T193000
DTSTAMP:20260421T011452
CREATED:20251119T222124Z
LAST-MODIFIED:20251202T233728Z
UID:10000651-1764693000-1764703800@www.kusd.edu
SUMMARY:Hermanitas to Southridge
DESCRIPTION:
URL:https://www.kusd.edu/bullen/event/hermanitas-to-southridge/
LOCATION:60 To Escape – Milwaukee Escape Rooms\, 5300 S 76th St\, Greendale\, WI\, United States
GEO:42.947959;-88.008434
X-APPLE-STRUCTURED-LOCATION;VALUE=URI;X-ADDRESS=60 To Escape – Milwaukee Escape Rooms 5300 S 76th St Greendale WI United States;X-APPLE-RADIUS=500;X-TITLE=5300 S 76th St:geo:-88.008434,42.947959
END:VEVENT
END:VCALENDAR