BEGIN:VCALENDAR
VERSION:2.0
PRODID:-//Bullen Middle School - ECPv6.15.20//NONSGML v1.0//EN
CALSCALE:GREGORIAN
METHOD:PUBLISH
X-ORIGINAL-URL:https://www.kusd.edu/bullen
X-WR-CALDESC:Events for Bullen Middle School
REFRESH-INTERVAL;VALUE=DURATION:PT1H
X-Robots-Tag:noindex
X-PUBLISHED-TTL:PT1H
BEGIN:VTIMEZONE
TZID:America/Chicago
BEGIN:DAYLIGHT
TZOFFSETFROM:-0600
TZOFFSETTO:-0500
TZNAME:CDT
DTSTART:20240310T080000
END:DAYLIGHT
BEGIN:STANDARD
TZOFFSETFROM:-0500
TZOFFSETTO:-0600
TZNAME:CST
DTSTART:20241103T070000
END:STANDARD
BEGIN:DAYLIGHT
TZOFFSETFROM:-0600
TZOFFSETTO:-0500
TZNAME:CDT
DTSTART:20250309T080000
END:DAYLIGHT
BEGIN:STANDARD
TZOFFSETFROM:-0500
TZOFFSETTO:-0600
TZNAME:CST
DTSTART:20251102T070000
END:STANDARD
BEGIN:DAYLIGHT
TZOFFSETFROM:-0600
TZOFFSETTO:-0500
TZNAME:CDT
DTSTART:20260308T080000
END:DAYLIGHT
BEGIN:STANDARD
TZOFFSETFROM:-0500
TZOFFSETTO:-0600
TZNAME:CST
DTSTART:20261101T070000
END:STANDARD
END:VTIMEZONE
BEGIN:VEVENT
DTSTART;TZID=America/Chicago:20251120T180000
DTEND;TZID=America/Chicago:20251120T193000
DTSTAMP:20260421T025036
CREATED:20251002T213658Z
LAST-MODIFIED:20251120T030620Z
UID:10000617-1763661600-1763667000@www.kusd.edu
SUMMARY:Tremper Open House
DESCRIPTION:TOP 10 REASONS TO ATTEND:\n10) Current 8th grade students can learn about Tremper\n9) Meet our AMAZING Administrative team\n8) Meet Athletic Coaches and our AD\n7) Take a picture with the Trojan Man\n6) Tour the school\n5) Talk with teachers and students\n4) See why SO many people choose Tremper\n3) Check out why we have the BEST CLUBS/ACTIVITIES in the city\n2) Find out why so many transfer students choose Tremper\n1) Find out why TREMPER IS THE HIGHEST SCORING COMPREHENSIVE HIGH SCHOOL in Kenosha County on the state report card 2 years in a row!
URL:https://www.kusd.edu/bullen/event/tremper-open-house/
LOCATION:Tremper High School\, 8560 26th Ave\, Kenosha\, WI\, United States
GEO:42.550503;-87.840154
X-APPLE-STRUCTURED-LOCATION;VALUE=URI;X-ADDRESS=Tremper High School 8560 26th Ave Kenosha WI United States;X-APPLE-RADIUS=500;X-TITLE=8560 26th Ave:geo:-87.840154,42.550503
END:VEVENT
BEGIN:VEVENT
DTSTART;TZID=America/Chicago:20251120T190000
DTEND;TZID=America/Chicago:20251120T200000
DTSTAMP:20260421T025036
CREATED:20250903T195147Z
LAST-MODIFIED:20251120T222147Z
UID:10000499-1763665200-1763668800@www.kusd.edu
SUMMARY:Orchestra Winter Concet                           Auditorium
DESCRIPTION:
URL:https://www.kusd.edu/bullen/event/orchestra-winter-concet-auditorium/
LOCATION:Bullen Middle School\, 2804 39th Ave\, Kenosha\, WI\, United States
GEO:42.612994;-87.855878
X-APPLE-STRUCTURED-LOCATION;VALUE=URI;X-ADDRESS=Bullen Middle School 2804 39th Ave Kenosha WI United States;X-APPLE-RADIUS=500;X-TITLE=2804 39th Ave:geo:-87.855878,42.612994
END:VEVENT
END:VCALENDAR