BEGIN:VCALENDAR
VERSION:2.0
PRODID:-//Bullen Middle School - ECPv6.15.20//NONSGML v1.0//EN
CALSCALE:GREGORIAN
METHOD:PUBLISH
X-WR-CALNAME:Bullen Middle School
X-ORIGINAL-URL:https://www.kusd.edu/bullen
X-WR-CALDESC:Events for Bullen Middle School
REFRESH-INTERVAL;VALUE=DURATION:PT1H
X-Robots-Tag:noindex
X-PUBLISHED-TTL:PT1H
BEGIN:VTIMEZONE
TZID:America/Chicago
BEGIN:DAYLIGHT
TZOFFSETFROM:-0600
TZOFFSETTO:-0500
TZNAME:CDT
DTSTART:20240310T080000
END:DAYLIGHT
BEGIN:STANDARD
TZOFFSETFROM:-0500
TZOFFSETTO:-0600
TZNAME:CST
DTSTART:20241103T070000
END:STANDARD
BEGIN:DAYLIGHT
TZOFFSETFROM:-0600
TZOFFSETTO:-0500
TZNAME:CDT
DTSTART:20250309T080000
END:DAYLIGHT
BEGIN:STANDARD
TZOFFSETFROM:-0500
TZOFFSETTO:-0600
TZNAME:CST
DTSTART:20251102T070000
END:STANDARD
BEGIN:DAYLIGHT
TZOFFSETFROM:-0600
TZOFFSETTO:-0500
TZNAME:CDT
DTSTART:20260308T080000
END:DAYLIGHT
BEGIN:STANDARD
TZOFFSETFROM:-0500
TZOFFSETTO:-0600
TZNAME:CST
DTSTART:20261101T070000
END:STANDARD
END:VTIMEZONE
BEGIN:VEVENT
DTSTART;TZID=America/Chicago:20251020T090000
DTEND;TZID=America/Chicago:20251020T140000
DTSTAMP:20260421T055416
CREATED:20250930T210641Z
LAST-MODIFIED:20251019T213609Z
UID:10000598-1760950800-1760968800@www.kusd.edu
SUMMARY:6TH GR to Stade's Farm
DESCRIPTION:
URL:https://www.kusd.edu/bullen/event/6th-gr-to-stades-farm-2/
LOCATION:Stade’s Farm & Market\, 3709 Miller Rd\, McHenry\, IL\, United States
GEO:42.415048;-88.260569
X-APPLE-STRUCTURED-LOCATION;VALUE=URI;X-ADDRESS=Stade’s Farm & Market 3709 Miller Rd McHenry IL United States;X-APPLE-RADIUS=500;X-TITLE=3709 Miller Rd:geo:-88.260569,42.415048
END:VEVENT
END:VCALENDAR