BEGIN:VCALENDAR
VERSION:2.0
PRODID:-//Bullen Middle School - ECPv6.15.20//NONSGML v1.0//EN
CALSCALE:GREGORIAN
METHOD:PUBLISH
X-ORIGINAL-URL:https://www.kusd.edu/bullen
X-WR-CALDESC:Events for Bullen Middle School
REFRESH-INTERVAL;VALUE=DURATION:PT1H
X-Robots-Tag:noindex
X-PUBLISHED-TTL:PT1H
BEGIN:VTIMEZONE
TZID:America/Chicago
BEGIN:DAYLIGHT
TZOFFSETFROM:-0600
TZOFFSETTO:-0500
TZNAME:CDT
DTSTART:20240310T080000
END:DAYLIGHT
BEGIN:STANDARD
TZOFFSETFROM:-0500
TZOFFSETTO:-0600
TZNAME:CST
DTSTART:20241103T070000
END:STANDARD
BEGIN:DAYLIGHT
TZOFFSETFROM:-0600
TZOFFSETTO:-0500
TZNAME:CDT
DTSTART:20250309T080000
END:DAYLIGHT
BEGIN:STANDARD
TZOFFSETFROM:-0500
TZOFFSETTO:-0600
TZNAME:CST
DTSTART:20251102T070000
END:STANDARD
BEGIN:DAYLIGHT
TZOFFSETFROM:-0600
TZOFFSETTO:-0500
TZNAME:CDT
DTSTART:20260308T080000
END:DAYLIGHT
BEGIN:STANDARD
TZOFFSETFROM:-0500
TZOFFSETTO:-0600
TZNAME:CST
DTSTART:20261101T070000
END:STANDARD
END:VTIMEZONE
BEGIN:VEVENT
DTSTART;TZID=America/Chicago:20250813T121500
DTEND;TZID=America/Chicago:20250813T180000
DTSTAMP:20260421T072618
CREATED:20250702T173632Z
LAST-MODIFIED:20250813T190618Z
UID:10000438-1755087300-1755108000@www.kusd.edu
SUMMARY:Transition Coaches to Action Territory
DESCRIPTION:
URL:https://www.kusd.edu/bullen/event/transition-coaches-to-action-territory/
LOCATION:America’s Action Territory\, 12345 75th St\, Kenosha\, WI\, United States
GEO:42.567632;-87.960425
X-APPLE-STRUCTURED-LOCATION;VALUE=URI;X-ADDRESS=America’s Action Territory 12345 75th St Kenosha WI United States;X-APPLE-RADIUS=500;X-TITLE=12345 75th St:geo:-87.960425,42.567632
END:VEVENT
END:VCALENDAR