BEGIN:VCALENDAR
VERSION:2.0
PRODID:-//Bullen Middle School - ECPv6.15.20//NONSGML v1.0//EN
CALSCALE:GREGORIAN
METHOD:PUBLISH
X-WR-CALNAME:Bullen Middle School
X-ORIGINAL-URL:https://www.kusd.edu/bullen
X-WR-CALDESC:Events for Bullen Middle School
REFRESH-INTERVAL;VALUE=DURATION:PT1H
X-Robots-Tag:noindex
X-PUBLISHED-TTL:PT1H
BEGIN:VTIMEZONE
TZID:America/Chicago
BEGIN:DAYLIGHT
TZOFFSETFROM:-0600
TZOFFSETTO:-0500
TZNAME:CDT
DTSTART:20240310T080000
END:DAYLIGHT
BEGIN:STANDARD
TZOFFSETFROM:-0500
TZOFFSETTO:-0600
TZNAME:CST
DTSTART:20241103T070000
END:STANDARD
BEGIN:DAYLIGHT
TZOFFSETFROM:-0600
TZOFFSETTO:-0500
TZNAME:CDT
DTSTART:20250309T080000
END:DAYLIGHT
BEGIN:STANDARD
TZOFFSETFROM:-0500
TZOFFSETTO:-0600
TZNAME:CST
DTSTART:20251102T070000
END:STANDARD
BEGIN:DAYLIGHT
TZOFFSETFROM:-0600
TZOFFSETTO:-0500
TZNAME:CDT
DTSTART:20260308T080000
END:DAYLIGHT
BEGIN:STANDARD
TZOFFSETFROM:-0500
TZOFFSETTO:-0600
TZNAME:CST
DTSTART:20261101T070000
END:STANDARD
END:VTIMEZONE
BEGIN:VEVENT
DTSTART;TZID=America/Chicago:20250731T103000
DTEND;TZID=America/Chicago:20250731T220000
DTSTAMP:20260421T072533
CREATED:20250711T180609Z
LAST-MODIFIED:20250731T182112Z
UID:10000445-1753957800-1753999200@www.kusd.edu
SUMMARY:Hermanitas to Six Flags
DESCRIPTION:
URL:https://www.kusd.edu/bullen/event/hermanitas-to-six-flags-2/
LOCATION:Six Flags Great America\, 501 America Ct\, Lake Zurich\, IL\, United States
GEO:42.181812;-88.07928
X-APPLE-STRUCTURED-LOCATION;VALUE=URI;X-ADDRESS=Six Flags Great America 501 America Ct Lake Zurich IL United States;X-APPLE-RADIUS=500;X-TITLE=501 America Ct:geo:-88.07928,42.181812
END:VEVENT
END:VCALENDAR