BEGIN:VCALENDAR
VERSION:2.0
PRODID:-//Bullen Middle School - ECPv6.15.20//NONSGML v1.0//EN
CALSCALE:GREGORIAN
METHOD:PUBLISH
X-ORIGINAL-URL:https://www.kusd.edu/bullen
X-WR-CALDESC:Events for Bullen Middle School
REFRESH-INTERVAL;VALUE=DURATION:PT1H
X-Robots-Tag:noindex
X-PUBLISHED-TTL:PT1H
BEGIN:VTIMEZONE
TZID:America/Chicago
BEGIN:DAYLIGHT
TZOFFSETFROM:-0600
TZOFFSETTO:-0500
TZNAME:CDT
DTSTART:20240310T080000
END:DAYLIGHT
BEGIN:STANDARD
TZOFFSETFROM:-0500
TZOFFSETTO:-0600
TZNAME:CST
DTSTART:20241103T070000
END:STANDARD
BEGIN:DAYLIGHT
TZOFFSETFROM:-0600
TZOFFSETTO:-0500
TZNAME:CDT
DTSTART:20250309T080000
END:DAYLIGHT
BEGIN:STANDARD
TZOFFSETFROM:-0500
TZOFFSETTO:-0600
TZNAME:CST
DTSTART:20251102T070000
END:STANDARD
BEGIN:DAYLIGHT
TZOFFSETFROM:-0600
TZOFFSETTO:-0500
TZNAME:CDT
DTSTART:20260308T080000
END:DAYLIGHT
BEGIN:STANDARD
TZOFFSETFROM:-0500
TZOFFSETTO:-0600
TZNAME:CST
DTSTART:20261101T070000
END:STANDARD
END:VTIMEZONE
BEGIN:VEVENT
DTSTART;TZID=America/Chicago:20250328T160000
DTEND;TZID=America/Chicago:20250328T223000
DTSTAMP:20260421T145019
CREATED:20250115T205236Z
LAST-MODIFIED:20250328T212110Z
UID:10000343-1743177600-1743201000@www.kusd.edu
SUMMARY:Transition Coaches to Sky Zone
DESCRIPTION:
URL:https://www.kusd.edu/bullen/event/transition-coaches-to-sky-zone-2/
LOCATION:Sky Zone Milwaukee (Waukesha)\, 1401 Westwood Dr\, Waukesha\, WI\, United States
GEO:43.050917;-88.206899
X-APPLE-STRUCTURED-LOCATION;VALUE=URI;X-ADDRESS=Sky Zone Milwaukee (Waukesha) 1401 Westwood Dr Waukesha WI United States;X-APPLE-RADIUS=500;X-TITLE=1401 Westwood Dr:geo:-88.206899,43.050917
END:VEVENT
END:VCALENDAR